BEGIN:VCALENDAR
VERSION:2.0
PRODID:-//Sky Casper Entertainment - ECPv6.15.20//NONSGML v1.0//EN
CALSCALE:GREGORIAN
METHOD:PUBLISH
X-WR-CALNAME:Sky Casper Entertainment
X-ORIGINAL-URL:https://skycasper.com
X-WR-CALDESC:Events for Sky Casper Entertainment
REFRESH-INTERVAL;VALUE=DURATION:PT1H
X-Robots-Tag:noindex
X-PUBLISHED-TTL:PT1H
BEGIN:VTIMEZONE
TZID:America/New_York
BEGIN:DAYLIGHT
TZOFFSETFROM:-0500
TZOFFSETTO:-0400
TZNAME:EDT
DTSTART:20230312T070000
END:DAYLIGHT
BEGIN:STANDARD
TZOFFSETFROM:-0400
TZOFFSETTO:-0500
TZNAME:EST
DTSTART:20231105T060000
END:STANDARD
BEGIN:DAYLIGHT
TZOFFSETFROM:-0500
TZOFFSETTO:-0400
TZNAME:EDT
DTSTART:20240310T070000
END:DAYLIGHT
BEGIN:STANDARD
TZOFFSETFROM:-0400
TZOFFSETTO:-0500
TZNAME:EST
DTSTART:20241103T060000
END:STANDARD
BEGIN:DAYLIGHT
TZOFFSETFROM:-0500
TZOFFSETTO:-0400
TZNAME:EDT
DTSTART:20250309T070000
END:DAYLIGHT
BEGIN:STANDARD
TZOFFSETFROM:-0400
TZOFFSETTO:-0500
TZNAME:EST
DTSTART:20251102T060000
END:STANDARD
END:VTIMEZONE
BEGIN:VEVENT
DTSTART;TZID=America/New_York:20240406T160000
DTEND;TZID=America/New_York:20240406T210000
DTSTAMP:20260423T131327
CREATED:20240224T062921Z
LAST-MODIFIED:20240323T182748Z
UID:10000212-1712419200-1712437200@skycasper.com
SUMMARY:Belting B*tches w/ Superstar Carlös (Southington\, CT)
DESCRIPTION:Join Sky Casper Entertainment in Southington\, CT at Paul Gregory’s for our next Belting B*tches\, this time with drag superstar Carlös\, from New York City! \nYou’ve seen this b*tch on the screens of The Bushnell Theater\, in CT Tourism commercials\, headlining Virgin Voyages all Summer long (even though she’s far from a Virgin)\, around New England\, OR performing at one of our fabulous Pink Eggs & Glam drag brunches! Come party with Carlös – she’s sassy\, wild\, and has a powerful voice that will blow you away. \nATTENTION: Food orders are required by each guest & the venue is BYOB\, so stop at the store! \nDoors: 4 pm & 7 pm/ Showtimes: 5 pm & 8pm \nLocation: Paul Gregory’s 168 Center St Building B\, Southington\, CT 06489 \nTickets are $25 online and $30 at the door (we do not usually have tickets at the door) \nWe’ve got so much coming up! Check out our lineup\, and make sure to sign up for event updates at SkyCasper.com/events
URL:https://skycasper.com/event/belting-btches-w-superstar-carlos-southington-ct/
LOCATION:Paul Gregory’s\, 168 Center Street\, #Building B\, Southington\, CT\, 06489\, United States
CATEGORIES:Belting B*tches,Drag Brunches
ATTACH;FMTTYPE=image/jpeg:https://skycasper.com/wp-content/uploads/2024/02/f8e3edc607203c7144de2fd68fa36824-vinhHP.tmp_.jpg
END:VEVENT
END:VCALENDAR