BEGIN:VCALENDAR
VERSION:2.0
PRODID:-//Sky Casper Entertainment - ECPv6.15.20//NONSGML v1.0//EN
CALSCALE:GREGORIAN
METHOD:PUBLISH
X-WR-CALNAME:Sky Casper Entertainment
X-ORIGINAL-URL:https://skycasper.com
X-WR-CALDESC:Events for Sky Casper Entertainment
REFRESH-INTERVAL;VALUE=DURATION:PT1H
X-Robots-Tag:noindex
X-PUBLISHED-TTL:PT1H
BEGIN:VTIMEZONE
TZID:America/New_York
BEGIN:DAYLIGHT
TZOFFSETFROM:-0500
TZOFFSETTO:-0400
TZNAME:EDT
DTSTART:20210314T070000
END:DAYLIGHT
BEGIN:STANDARD
TZOFFSETFROM:-0400
TZOFFSETTO:-0500
TZNAME:EST
DTSTART:20211107T060000
END:STANDARD
BEGIN:DAYLIGHT
TZOFFSETFROM:-0500
TZOFFSETTO:-0400
TZNAME:EDT
DTSTART:20220313T070000
END:DAYLIGHT
BEGIN:STANDARD
TZOFFSETFROM:-0400
TZOFFSETTO:-0500
TZNAME:EST
DTSTART:20221106T060000
END:STANDARD
BEGIN:DAYLIGHT
TZOFFSETFROM:-0500
TZOFFSETTO:-0400
TZNAME:EDT
DTSTART:20230312T070000
END:DAYLIGHT
BEGIN:STANDARD
TZOFFSETFROM:-0400
TZOFFSETTO:-0500
TZNAME:EST
DTSTART:20231105T060000
END:STANDARD
END:VTIMEZONE
BEGIN:VEVENT
DTSTART;TZID=America/New_York:20220515T100000
DTEND;TZID=America/New_York:20220515T140000
DTSTAMP:20260424T204257
CREATED:20220425T175958Z
LAST-MODIFIED:20220511T235853Z
UID:10000111-1652608800-1652623200@skycasper.com
SUMMARY:Southington Pride - Pink Eggs & Glam w/ Patty Bourrée
DESCRIPTION:[vc_row type=”in_container” full_screen_row_position=”middle” column_margin=”default” column_direction=”default” column_direction_tablet=”default” column_direction_phone=”default” scene_position=”center” text_color=”dark” text_align=”left” row_border_radius=”none” row_border_radius_applies=”bg” overflow=”visible” overlay_strength=”0.3″ gradient_direction=”left_to_right” shape_divider_position=”bottom” bg_image_animation=”none”][vc_column column_padding=”no-extra-padding” column_padding_tablet=”inherit” column_padding_phone=”inherit” column_padding_position=”all” column_element_spacing=”default” background_color_opacity=”1″ background_hover_color_opacity=”1″ column_shadow=”none” column_border_radius=”none” column_link_target=”_self” column_position=”default” gradient_direction=”left_to_right” overlay_strength=”0.3″ width=”1/1″ tablet_width_inherit=”default” tablet_text_alignment=”default” phone_text_alignment=”default” animation_type=”default” bg_image_animation=”none” border_type=”simple” column_border_width=”none” column_border_style=”solid”][vc_column_text]Join us Sunday May 15th at Craft Kitchen Plainville for Pink Eggs & Glam Drag Queen Singing Brunch with Patty Bourree! This interactive Drag Queen Brunch is filled with amazing performances\, laugh out loud comedy\, and the best part is all the proceeds go to support Southington PRIDE’s free youth and family programming. \nThe fabulous Craft Kitchen (Featured on Better Connecticut) will be preparing a delicious Brunch Buffet included with the purchase of your ticket. Tickets are $40 dollars per person which includes the table/bar seating for the performance\, buffet brunch for all in your party\, and non-alcoholic beverages. \nAlcohol and cocktails will be available for purchase via Craft Kitchen’s bar. Doors open for seating at 9:45am with Patty’s performance beginning at 10:45. For more information on this event and/or for any questions/concerns\, please email us at Southingtonpride@gmail.com \nThis event is a part of Southington PRIDE’s 2022 event lineup. All proceeds raised will go towards supporting Southington PRIDE’s free youth & family programming. \nSouthington PRIDE 2022 is sponsored by Wheeler Health\, Hartford Gay & Lesbian Health Collective\,\nCT Center for Children with Special Needs (CCSN)\, and HQ Dumpsters.[/vc_column_text][/vc_column][/vc_row][vc_row type=”in_container” full_screen_row_position=”middle” column_margin=”default” column_direction=”default” column_direction_tablet=”default” column_direction_phone=”default” scene_position=”center” text_color=”dark” text_align=”left” row_border_radius=”none” row_border_radius_applies=”bg” overflow=”visible” overlay_strength=”0.3″ gradient_direction=”left_to_right” shape_divider_position=”bottom” bg_image_animation=”none”][vc_column column_padding=”no-extra-padding” column_padding_tablet=”inherit” column_padding_phone=”inherit” column_padding_position=”all” column_element_spacing=”default” background_color_opacity=”1″ background_hover_color_opacity=”1″ column_shadow=”none” column_border_radius=”none” column_link_target=”_self” column_position=”default” gradient_direction=”left_to_right” overlay_strength=”0.3″ width=”1/1″ tablet_width_inherit=”default” tablet_text_alignment=”default” phone_text_alignment=”default” animation_type=”default” bg_image_animation=”none” border_type=”simple” column_border_width=”none” column_border_style=”solid”][nectar_btn size=”large” open_new_tab=”true” button_style=”regular” button_color_2=”Accent-Color” solid_text_color_override=”#ffffff” icon_family=”none” text=”Buy Tickets” url=”https://southingtonpride.ticketspice.com/pink-eggs-glam-wpatty-bourree”][/vc_column][/vc_row]
URL:https://skycasper.com/event/southington-pride-pink-eggs-glam-w-patty-bourree/
LOCATION:Craft Kitchen Plainville\, 400 New Britain Ave\, Plainville\, CT\, 06062\, United States
CATEGORIES:Drag Brunches,Pink Eggs & Glam Drag Brunch,Pride Events
ATTACH;FMTTYPE=image/png:https://skycasper.com/wp-content/uploads/2022/04/Southington-Pride-May-15th-Pink-Eggs-Glam-Flyer.png
ORGANIZER;CN="Southington Pride":MAILTO:southingtonpride@gmail.com
END:VEVENT
BEGIN:VEVENT
DTSTART;TZID=America/New_York:20220522T110000
DTEND;TZID=America/New_York:20220522T170000
DTSTAMP:20260424T204257
CREATED:20220506T160041Z
LAST-MODIFIED:20220522T014029Z
UID:10000113-1653217200-1653238800@skycasper.com
SUMMARY:Pink Eggs & Glam Drag Brunch w/ Cacophony Daniels
DESCRIPTION:Join us for our monthly live singing and comedic Pink Eggs & Glam Drag Brunch in New London\, CT at The Social Bar + Kitchen! We’ve got a fantastic lineup of rotating drag superstars from around the world. If you have yet to attend Sky Casper Entertainment’s #PinkEggsAndGlam\, just expect a great time with a phenomenal live singing and comedic drag performer or two. \nTHIS MONTHS SUPERSTAR: Bistro Award winner Cacophony Daniels from New York City\, a live-singing\, high-belting showgirl. She loves to sing Broadway\, standards and\, is heavily influenced by Bette Midler\, Elaine Stritch\, and everything Disney (and all in the original female keys). The man in her dress is a very well-known actor who has been featured in Jersey Boys\, Beauty & The Beast\, and more! She’s going to blow you away.
URL:https://skycasper.com/event/pink-eggs-glam-grab-brunch-cacophony-daniels/
LOCATION:The Social Bar + Kitchen\, 208 Bank Street\, New London\, CT\, 06320\, United States
CATEGORIES:Drag Brunches,Pink Eggs & Glam Drag Brunch
ATTACH;FMTTYPE=image/png:https://skycasper.com/wp-content/uploads/2022/05/Cacophony-New-London-May-22-Flyer.png
ORGANIZER;CN="Sky Casper Entertainment":MAILTO:sky@skycasper.com
END:VEVENT
END:VCALENDAR