BEGIN:VCALENDAR
VERSION:2.0
PRODID:-//Sky Casper Entertainment - ECPv6.15.20//NONSGML v1.0//EN
CALSCALE:GREGORIAN
METHOD:PUBLISH
X-ORIGINAL-URL:https://skycasper.com
X-WR-CALDESC:Events for Sky Casper Entertainment
REFRESH-INTERVAL;VALUE=DURATION:PT1H
X-Robots-Tag:noindex
X-PUBLISHED-TTL:PT1H
BEGIN:VTIMEZONE
TZID:America/New_York
BEGIN:DAYLIGHT
TZOFFSETFROM:-0500
TZOFFSETTO:-0400
TZNAME:EDT
DTSTART:20210314T070000
END:DAYLIGHT
BEGIN:STANDARD
TZOFFSETFROM:-0400
TZOFFSETTO:-0500
TZNAME:EST
DTSTART:20211107T060000
END:STANDARD
BEGIN:DAYLIGHT
TZOFFSETFROM:-0500
TZOFFSETTO:-0400
TZNAME:EDT
DTSTART:20220313T070000
END:DAYLIGHT
BEGIN:STANDARD
TZOFFSETFROM:-0400
TZOFFSETTO:-0500
TZNAME:EST
DTSTART:20221106T060000
END:STANDARD
BEGIN:DAYLIGHT
TZOFFSETFROM:-0500
TZOFFSETTO:-0400
TZNAME:EDT
DTSTART:20230312T070000
END:DAYLIGHT
BEGIN:STANDARD
TZOFFSETFROM:-0400
TZOFFSETTO:-0500
TZNAME:EST
DTSTART:20231105T060000
END:STANDARD
END:VTIMEZONE
BEGIN:VEVENT
DTSTART;TZID=America/New_York:20220828T110000
DTEND;TZID=America/New_York:20220828T161500
DTSTAMP:20260424T160842
CREATED:20220806T024113Z
LAST-MODIFIED:20220806T223117Z
UID:10000122-1661684400-1661703300@skycasper.com
SUMMARY:New London Pink Eggs & Glam Drag Brunch w/ Kiki Ball-Change
DESCRIPTION:Join Sky Casper Entertainment and The Social Bar + Kitchen for our FABULOUS monthly live singing and comedic Pink Eggs & Glam Drag Brunch! We’ve got a fantastic lineup of rotating drag superstars from around the world. If you have yet to attend #PinkEggsAndGlam\, just expect a great time with phenomenal live singing and a hilarious drag performer or two. This month’s superstar is New York Cities Kiki Ball-Change\, who’s known for her quick wit\, large underbite\, giant singing voice\, and campy mixes. Kiki Ball-Change is one of the few Pink Eggs & Glam drag brunch competition winners and this is her first solo show for us! Come have a blast with us. \nSeating Times: 11AM & 2PM\, Showtimes: 12PM & 3PM \nTICKETS: $20 in advance\, $25 at the door (cash only\, if there is any availability). Food & Beverage are sold separately at the venue. \nPink Eggs & Glam Drag Brunch T-Shirts are available at the event – sharpies are also available so you can collect your favorite drag performers’ autographs on your merchandise! \nWe’ve got so much coming up! Make sure to sign-up for event updates at SkyCasper.com/events
URL:https://skycasper.com/event/new-london-pink-eggs-glam-drag-brunch-w-kiki-ball-change/
LOCATION:The Social Bar + Kitchen\, 208 Bank Street\, New London\, CT\, 06320\, United States
CATEGORIES:Pink Eggs & Glam Drag Brunch
ATTACH;FMTTYPE=image/png:https://skycasper.com/wp-content/uploads/2022/08/Square-Kiki-Pink-Eggs-Glam-2022.png
ORGANIZER;CN="Sky Casper Entertainment":MAILTO:sky@skycasper.com
END:VEVENT
END:VCALENDAR