BEGIN:VCALENDAR
VERSION:2.0
PRODID:-//Sky Casper Entertainment - ECPv6.15.20//NONSGML v1.0//EN
CALSCALE:GREGORIAN
METHOD:PUBLISH
X-WR-CALNAME:Sky Casper Entertainment
X-ORIGINAL-URL:https://skycasper.com
X-WR-CALDESC:Events for Sky Casper Entertainment
REFRESH-INTERVAL;VALUE=DURATION:PT1H
X-Robots-Tag:noindex
X-PUBLISHED-TTL:PT1H
BEGIN:VTIMEZONE
TZID:America/New_York
BEGIN:DAYLIGHT
TZOFFSETFROM:-0500
TZOFFSETTO:-0400
TZNAME:EDT
DTSTART:20220313T070000
END:DAYLIGHT
BEGIN:STANDARD
TZOFFSETFROM:-0400
TZOFFSETTO:-0500
TZNAME:EST
DTSTART:20221106T060000
END:STANDARD
BEGIN:DAYLIGHT
TZOFFSETFROM:-0500
TZOFFSETTO:-0400
TZNAME:EDT
DTSTART:20230312T070000
END:DAYLIGHT
BEGIN:STANDARD
TZOFFSETFROM:-0400
TZOFFSETTO:-0500
TZNAME:EST
DTSTART:20231105T060000
END:STANDARD
BEGIN:DAYLIGHT
TZOFFSETFROM:-0500
TZOFFSETTO:-0400
TZNAME:EDT
DTSTART:20240310T070000
END:DAYLIGHT
BEGIN:STANDARD
TZOFFSETFROM:-0400
TZOFFSETTO:-0500
TZNAME:EST
DTSTART:20241103T060000
END:STANDARD
END:VTIMEZONE
BEGIN:VEVENT
DTSTART;TZID=America/New_York:20231231T173000
DTEND;TZID=America/New_York:20231231T223000
DTSTAMP:20260423T153948
CREATED:20231118T002414Z
LAST-MODIFIED:20231230T215235Z
UID:10000196-1704043800-1704061800@skycasper.com
SUMMARY:New Year's Eve Broadway Spectacular Starring Cacophony Daniels
DESCRIPTION:Join Sky Casper Entertainment and Dev’s on Main in Niantic\, CT for a fabulous New Year’s Eve Broadway Spectacular.\n\n\nJoin us for an enchanting evening presented by Dev’s On Main & Sky Casper Entertainment: New Year’s Eve Broadway Spectacular\, starring the incomparable Broadway belting sensation\, Cacophony Daniels! \nIndulge in the magic of Bistro Award winner Cacophony Daniels\, gracing us from the vibrant stages of New York City. Prepare for an unforgettable night filled with high-belting melodies and timeless classics. With influences ranging from the iconic Bette Midler to the legendary Elaine Stritch and the enchantment of Disney classics—all delivered in their original female keys—Cacophony Daniels promises an extraordinary experience. The man beneath the dress is a distinguished actor\, featured in acclaimed productions such as Jersey Boys and Beauty & The Beast. Get ready for a jaw-dropping performance that will captivate your senses. \nFor $100 per ticket (plus processing fees)\, immerse yourself in a one(ish)-hour show paired with a decadent three-course dinner\, complete with champagne and party favors. (Please note: Tax and gratuity will be settled at the end of this enchanting affair.) \nMenu: \n1st\, your choice of: \nStonington Scallops wrapped in Bacon. \n~ \nSilky Confit of Wild Mushrooms Laced with Fontina & Parmesan Cheeses over Bruschetta \n~ \nPesto Pistachio Crusted Mini Rack of Lamb \n2nd\, your choice of: \nPrime Rib of Beef with Au Jus served with Horseradish and bacon Baked Potato \n~ \nSeafood Stuffed Shrimp with Crab & Lobster Sauce\, over lemon Risotto Cake \n~ \nGorgonzola & Spinach Stuffed Chicken Breast with Sour Cream & Chive Baked Potato \n3rd\, your choice of: \nChocolate Tuxedo Mousse Cake or Salted Caramel Vanilla Cake \n \nGather your group and step into a world of marvel at this extraordinary New Year’s Eve event!
URL:https://skycasper.com/event/new-years-eve-broadway-spectacular-starring-cacophony-daniels/
LOCATION:Dev’s on Main\, 255 Main Street\, Niantic\, CT\, 06357\, United States
CATEGORIES:Drag Brunches,Pink Eggs & Glam Drag Brunch
ATTACH;FMTTYPE=image/jpeg:https://skycasper.com/wp-content/uploads/2023/11/cadbb2d9d2349f57fce40defd8648d21-wG9Q05.tmp_.jpg
END:VEVENT
END:VCALENDAR