BEGIN:VCALENDAR
VERSION:2.0
PRODID:-//Sky Casper Entertainment - ECPv6.15.20//NONSGML v1.0//EN
CALSCALE:GREGORIAN
METHOD:PUBLISH
X-ORIGINAL-URL:https://skycasper.com
X-WR-CALDESC:Events for Sky Casper Entertainment
REFRESH-INTERVAL;VALUE=DURATION:PT1H
X-Robots-Tag:noindex
X-PUBLISHED-TTL:PT1H
BEGIN:VTIMEZONE
TZID:America/New_York
BEGIN:DAYLIGHT
TZOFFSETFROM:-0500
TZOFFSETTO:-0400
TZNAME:EDT
DTSTART:20210314T070000
END:DAYLIGHT
BEGIN:STANDARD
TZOFFSETFROM:-0400
TZOFFSETTO:-0500
TZNAME:EST
DTSTART:20211107T060000
END:STANDARD
BEGIN:DAYLIGHT
TZOFFSETFROM:-0500
TZOFFSETTO:-0400
TZNAME:EDT
DTSTART:20220313T070000
END:DAYLIGHT
BEGIN:STANDARD
TZOFFSETFROM:-0400
TZOFFSETTO:-0500
TZNAME:EST
DTSTART:20221106T060000
END:STANDARD
BEGIN:DAYLIGHT
TZOFFSETFROM:-0500
TZOFFSETTO:-0400
TZNAME:EDT
DTSTART:20230312T070000
END:DAYLIGHT
BEGIN:STANDARD
TZOFFSETFROM:-0400
TZOFFSETTO:-0500
TZNAME:EST
DTSTART:20231105T060000
END:STANDARD
END:VTIMEZONE
BEGIN:VEVENT
DTSTART;TZID=America/New_York:20220724T110000
DTEND;TZID=America/New_York:20220724T161500
DTSTAMP:20260422T021823
CREATED:20220705T170157Z
LAST-MODIFIED:20220727T132818Z
UID:10000121-1658660400-1658679300@skycasper.com
SUMMARY:New London Pink Eggs & Glam Drag Brunch w/ Robin Fierce
DESCRIPTION:Join us for our monthly live singing and comedic Pink Eggs & Glam Drag Brunch in New London\, CT at The Social Bar + Kitchen! We’ve got a fantastic lineup of rotating drag superstars from around the world. If you have yet to attend Sky Casper Entertainment’s #PinkEggsAndGlam\, just expect a great time with a phenomenal live singing and comedic drag performer or two. \nTHIS MONTHS SUPERSTAR: Robin Fierce – known for her spins\, high-energy performances\, quick wit\, and her fabulous singing voice. She is one not to be missed! \nSeating Times: 11AM & 2PM\nShowtimes: 12PM & 3PM \nTICKETS: $20 in advance\, $25 at the door (cash only\, if there is any availability). Food & Beverage are sold separately at the venue. \nPink Eggs & Glam Drag Brunch T-Shirts and hoodies are available at the event – sharpies are also available so you can collect your favorite drag performers’ autographs on your merchandise! \nWe’ve got so much coming up! Make sure to sign-up for event updates at SkyCasper.com/events\nThank you so much for all your support! \nSky Casper
URL:https://skycasper.com/event/new-london-pink-eggs-glam-drag-brunch-robin-fierce/
LOCATION:The Social Bar + Kitchen\, 208 Bank Street\, New London\, CT\, 06320\, United States
CATEGORIES:Drag Brunches,Pink Eggs & Glam Drag Brunch
ATTACH;FMTTYPE=image/png:https://skycasper.com/wp-content/uploads/2022/07/Square-Robin-Fierce-Website.png
ORGANIZER;CN="Sky Casper Entertainment":MAILTO:sky@skycasper.com
END:VEVENT
BEGIN:VEVENT
DTSTART;TZID=America/New_York:20220710T110000
DTEND;TZID=America/New_York:20220710T160000
DTSTAMP:20260422T021823
CREATED:20220615T004653Z
LAST-MODIFIED:20220615T004653Z
UID:10000120-1657450800-1657468800@skycasper.com
SUMMARY:West Hartford Pink Eggs & Glam Drag Brunch w/ Sutton Lee Seymour
DESCRIPTION:Our incredible live singing and comedy Pink Eggs & Glam Drag Brunch returns to West Hartford\, CT at the fabulous Toro Taberna! We have a fantastic lineup of rotating drag superstars from around the world. If you have yet to attend Sky Casper Entertainment’s #PinkEggsAndGlam\, just expect a great time with a phenomenal live singing and comedic drag performer or two. \nSUPERSTAR OF THE MONTH:\nSutton Lee Seymour\, the award-winning queen of stage and screen! When she’s not selling out shows in Puerto Vallarta\, Provincetown\, and on Atlantas Cruises\, we’re lucky enough to have her drop in to sing some show tunes and make us laugh. Expect Broadway songs\, theatrics\, Disney\, comedy\, and LIGHT choreography. \nSeating Times: 11 AM & 2 PM\nShowtimes: 12 PM & 3 PM \nTICKETS: $25 in advance at SkyCasper.com/events\, $30 (cash only) at the door (if there is any availability). \nFOOD & BEVERAGE: Tapa dishes and beverages will be served à la carte. \nPink Eggs & Glam Drag Brunch t-shirts are available at the event – sharpies are also available so you can collect your favorite drag performers’ autographs on your #PinkEggsAndGlam merchandise! \nWe’ve got so many incredible shows coming up! Make sure to sign up for updates at skycasper.com/contact/ 🙂 \nThank you for all your support!\nSky Casper
URL:https://skycasper.com/event/west-hartford-pink-eggs-glam-drag-brunch-w-sutton-lee-seymour/
LOCATION:Toro Taberna\, 14 Oakwood Ave\, West Hartford\, CT\, 06119\, United States
CATEGORIES:Drag Brunches,Pink Eggs & Glam Drag Brunch
ATTACH;FMTTYPE=image/png:https://skycasper.com/wp-content/uploads/2022/06/Sutton-Lee-Seymour-Pink-Eggs-Glam-Drag-Brunch-West-Hartford-CT.png
ORGANIZER;CN="Sky Casper Entertainment":MAILTO:sky@skycasper.com
END:VEVENT
BEGIN:VEVENT
DTSTART;TZID=America/New_York:20220626T110000
DTEND;TZID=America/New_York:20220626T161500
DTSTAMP:20260422T021823
CREATED:20220529T030052Z
LAST-MODIFIED:20220529T041447Z
UID:10000119-1656241200-1656260100@skycasper.com
SUMMARY:New London Pink Eggs & Glam Drag Brunch GAY ICONS edition with Patty Bourrée
DESCRIPTION:Join us for our monthly live singing and comedic Pink Eggs & Glam Drag Brunch in New London\, CT at The Social Bar + Kitchen! We’ve got a fantastic lineup of rotating drag superstars from around the world. If you have yet to attend Sky Casper Entertainment’s #PinkEggsAndGlam\, just expect a great time with a phenomenal live singing and comedic drag performer or two.\n \nTHIS MONTHS SUPERSTAR: Chic chanteuse and mouthy comedienne Patty Bourrée\, who has been wowing New England audiences since she left New York and gave up on her acting career in 2018\, becoming regionally known for her big voice\, hilarious parodies\, vintage style\, and bad attitude. Veritably crushed under the weight of her theater degrees (a BFA from NYU and MFA from Emerson College)\, an evening with Patty Bourrée is sure to be jam-packed with song and antics.\n \nSeating Times: 11AM & 2PM\nShowtimes: 12PM & 3PM\n \nTICKETS: $20 in advance\, $25 at the door (cash only\, if there is any availability). Food & Beverage are sold separately at the venue.\n \nPink Eggs & Glam Drag Brunch T-Shirts and hoodies are available at the event – sharpies are also available so you can collect your favorite drag performers’ autographs on your merchandise!\n\n \nThank you so much for all your support!\nSky Casper
URL:https://skycasper.com/event/new-london-pink-eggs-glam-drag-brunch-gay-icons-edition-with-patty-bourree/
LOCATION:The Social Bar + Kitchen\, 208 Bank Street\, New London\, CT\, 06320\, United States
CATEGORIES:Drag Brunches,Pink Eggs & Glam Drag Brunch
ATTACH;FMTTYPE=image/png:https://skycasper.com/wp-content/uploads/2022/05/Website-Filler-Patty-Bourree-Picture.png
ORGANIZER;CN="Sky Casper Entertainment":MAILTO:sky@skycasper.com
END:VEVENT
BEGIN:VEVENT
DTSTART;TZID=America/New_York:20220605T110000
DTEND;TZID=America/New_York:20220605T170000
DTSTAMP:20260422T021823
CREATED:20220425T164137Z
LAST-MODIFIED:20220601T234642Z
UID:10000109-1654426800-1654448400@skycasper.com
SUMMARY:Pink Eggs & Glam Drag Brunch w/ Patty Bourrée
DESCRIPTION:Seating Times: 11 AM & 2 PM \nShowtimes: 12 PM & 3 PM \nOur incredible live singing and comedy Pink Eggs & Glam Drag Brunch returns to West Hartford\, CT at the fabulous Toro Taberna! We have a fantastic lineup of rotating drag superstars from around the world. If you have yet to attend Sky Casper Entertainment’s #PinkEggsAndGlam\, just expect a great time with a phenomenal live singing and comedic drag performer or two. \nSUPERSTAR OF THE MONTH: Chic chanteuse and mouthy comedienne Patty Bourrée\, the Greatest Star of the Greater Boston area. Patty has been wowing New England audiences since she left New York and gave up on her acting career in 2018\, becoming regionally known for her big voice\, hilarious parodies\, vintage style\, and bad attitude. Veritably crushed under the weight of her theater degrees (a BFA from NYU\, and an MFA from Emerson College)\, an evening with Patty Bourrée is sure to be ham packed with song\, antics\, and special skills! \nFOOD & BEVERAGE: Tapa dishes and beverages will be served à la carte. \nPink Eggs & Glam Drag Brunch t-shirts and hoodies are available at the event – sharpies are also available so you can collect your favorite drag performers’ autographs on your #PinkEggsAndGlam merchandise!
URL:https://skycasper.com/event/pink-eggs-glam-drag-brunch-w-patty-bourree/
LOCATION:Toro Taberna\, 14 Oakwood Ave\, West Hartford\, CT\, 06119\, United States
CATEGORIES:Drag Brunches,Pink Eggs & Glam Drag Brunch
ATTACH;FMTTYPE=image/png:https://skycasper.com/wp-content/uploads/2022/04/Screen-Shot-2022-04-25-at-12.43.11-PM.png
ORGANIZER;CN="Sky Casper Entertainment":MAILTO:sky@skycasper.com
END:VEVENT
BEGIN:VEVENT
DTSTART;TZID=America/New_York:20220522T110000
DTEND;TZID=America/New_York:20220522T170000
DTSTAMP:20260422T021823
CREATED:20220506T160041Z
LAST-MODIFIED:20220522T014029Z
UID:10000113-1653217200-1653238800@skycasper.com
SUMMARY:Pink Eggs & Glam Drag Brunch w/ Cacophony Daniels
DESCRIPTION:Join us for our monthly live singing and comedic Pink Eggs & Glam Drag Brunch in New London\, CT at The Social Bar + Kitchen! We’ve got a fantastic lineup of rotating drag superstars from around the world. If you have yet to attend Sky Casper Entertainment’s #PinkEggsAndGlam\, just expect a great time with a phenomenal live singing and comedic drag performer or two. \nTHIS MONTHS SUPERSTAR: Bistro Award winner Cacophony Daniels from New York City\, a live-singing\, high-belting showgirl. She loves to sing Broadway\, standards and\, is heavily influenced by Bette Midler\, Elaine Stritch\, and everything Disney (and all in the original female keys). The man in her dress is a very well-known actor who has been featured in Jersey Boys\, Beauty & The Beast\, and more! She’s going to blow you away.
URL:https://skycasper.com/event/pink-eggs-glam-grab-brunch-cacophony-daniels/
LOCATION:The Social Bar + Kitchen\, 208 Bank Street\, New London\, CT\, 06320\, United States
CATEGORIES:Drag Brunches,Pink Eggs & Glam Drag Brunch
ATTACH;FMTTYPE=image/png:https://skycasper.com/wp-content/uploads/2022/05/Cacophony-New-London-May-22-Flyer.png
ORGANIZER;CN="Sky Casper Entertainment":MAILTO:sky@skycasper.com
END:VEVENT
BEGIN:VEVENT
DTSTART;TZID=America/New_York:20220515T100000
DTEND;TZID=America/New_York:20220515T140000
DTSTAMP:20260422T021823
CREATED:20220425T175958Z
LAST-MODIFIED:20220511T235853Z
UID:10000111-1652608800-1652623200@skycasper.com
SUMMARY:Southington Pride - Pink Eggs & Glam w/ Patty Bourrée
DESCRIPTION:[vc_row type=”in_container” full_screen_row_position=”middle” column_margin=”default” column_direction=”default” column_direction_tablet=”default” column_direction_phone=”default” scene_position=”center” text_color=”dark” text_align=”left” row_border_radius=”none” row_border_radius_applies=”bg” overflow=”visible” overlay_strength=”0.3″ gradient_direction=”left_to_right” shape_divider_position=”bottom” bg_image_animation=”none”][vc_column column_padding=”no-extra-padding” column_padding_tablet=”inherit” column_padding_phone=”inherit” column_padding_position=”all” column_element_spacing=”default” background_color_opacity=”1″ background_hover_color_opacity=”1″ column_shadow=”none” column_border_radius=”none” column_link_target=”_self” column_position=”default” gradient_direction=”left_to_right” overlay_strength=”0.3″ width=”1/1″ tablet_width_inherit=”default” tablet_text_alignment=”default” phone_text_alignment=”default” animation_type=”default” bg_image_animation=”none” border_type=”simple” column_border_width=”none” column_border_style=”solid”][vc_column_text]Join us Sunday May 15th at Craft Kitchen Plainville for Pink Eggs & Glam Drag Queen Singing Brunch with Patty Bourree! This interactive Drag Queen Brunch is filled with amazing performances\, laugh out loud comedy\, and the best part is all the proceeds go to support Southington PRIDE’s free youth and family programming. \nThe fabulous Craft Kitchen (Featured on Better Connecticut) will be preparing a delicious Brunch Buffet included with the purchase of your ticket. Tickets are $40 dollars per person which includes the table/bar seating for the performance\, buffet brunch for all in your party\, and non-alcoholic beverages. \nAlcohol and cocktails will be available for purchase via Craft Kitchen’s bar. Doors open for seating at 9:45am with Patty’s performance beginning at 10:45. For more information on this event and/or for any questions/concerns\, please email us at Southingtonpride@gmail.com \nThis event is a part of Southington PRIDE’s 2022 event lineup. All proceeds raised will go towards supporting Southington PRIDE’s free youth & family programming. \nSouthington PRIDE 2022 is sponsored by Wheeler Health\, Hartford Gay & Lesbian Health Collective\,\nCT Center for Children with Special Needs (CCSN)\, and HQ Dumpsters.[/vc_column_text][/vc_column][/vc_row][vc_row type=”in_container” full_screen_row_position=”middle” column_margin=”default” column_direction=”default” column_direction_tablet=”default” column_direction_phone=”default” scene_position=”center” text_color=”dark” text_align=”left” row_border_radius=”none” row_border_radius_applies=”bg” overflow=”visible” overlay_strength=”0.3″ gradient_direction=”left_to_right” shape_divider_position=”bottom” bg_image_animation=”none”][vc_column column_padding=”no-extra-padding” column_padding_tablet=”inherit” column_padding_phone=”inherit” column_padding_position=”all” column_element_spacing=”default” background_color_opacity=”1″ background_hover_color_opacity=”1″ column_shadow=”none” column_border_radius=”none” column_link_target=”_self” column_position=”default” gradient_direction=”left_to_right” overlay_strength=”0.3″ width=”1/1″ tablet_width_inherit=”default” tablet_text_alignment=”default” phone_text_alignment=”default” animation_type=”default” bg_image_animation=”none” border_type=”simple” column_border_width=”none” column_border_style=”solid”][nectar_btn size=”large” open_new_tab=”true” button_style=”regular” button_color_2=”Accent-Color” solid_text_color_override=”#ffffff” icon_family=”none” text=”Buy Tickets” url=”https://southingtonpride.ticketspice.com/pink-eggs-glam-wpatty-bourree”][/vc_column][/vc_row]
URL:https://skycasper.com/event/southington-pride-pink-eggs-glam-w-patty-bourree/
LOCATION:Craft Kitchen Plainville\, 400 New Britain Ave\, Plainville\, CT\, 06062\, United States
CATEGORIES:Drag Brunches,Pink Eggs & Glam Drag Brunch,Pride Events
ATTACH;FMTTYPE=image/png:https://skycasper.com/wp-content/uploads/2022/04/Southington-Pride-May-15th-Pink-Eggs-Glam-Flyer.png
ORGANIZER;CN="Southington Pride":MAILTO:southingtonpride@gmail.com
END:VEVENT
END:VCALENDAR