BEGIN:VCALENDAR
VERSION:2.0
PRODID:-//Sky Casper Entertainment - ECPv6.15.20//NONSGML v1.0//EN
CALSCALE:GREGORIAN
METHOD:PUBLISH
X-WR-CALNAME:Sky Casper Entertainment
X-ORIGINAL-URL:https://skycasper.com
X-WR-CALDESC:Events for Sky Casper Entertainment
REFRESH-INTERVAL;VALUE=DURATION:PT1H
X-Robots-Tag:noindex
X-PUBLISHED-TTL:PT1H
BEGIN:VTIMEZONE
TZID:America/New_York
BEGIN:DAYLIGHT
TZOFFSETFROM:-0500
TZOFFSETTO:-0400
TZNAME:EDT
DTSTART:20210314T070000
END:DAYLIGHT
BEGIN:STANDARD
TZOFFSETFROM:-0400
TZOFFSETTO:-0500
TZNAME:EST
DTSTART:20211107T060000
END:STANDARD
BEGIN:DAYLIGHT
TZOFFSETFROM:-0500
TZOFFSETTO:-0400
TZNAME:EDT
DTSTART:20220313T070000
END:DAYLIGHT
BEGIN:STANDARD
TZOFFSETFROM:-0400
TZOFFSETTO:-0500
TZNAME:EST
DTSTART:20221106T060000
END:STANDARD
BEGIN:DAYLIGHT
TZOFFSETFROM:-0500
TZOFFSETTO:-0400
TZNAME:EDT
DTSTART:20230312T070000
END:DAYLIGHT
BEGIN:STANDARD
TZOFFSETFROM:-0400
TZOFFSETTO:-0500
TZNAME:EST
DTSTART:20231105T060000
END:STANDARD
END:VTIMEZONE
BEGIN:VEVENT
DTSTART;TZID=America/New_York:20220916T200000
DTEND;TZID=America/New_York:20220916T230000
DTSTAMP:20260423T101134
CREATED:20220817T181839Z
LAST-MODIFIED:20220817T181839Z
UID:10000124-1663358400-1663369200@skycasper.com
SUMMARY:Pride on Pratt Street
DESCRIPTION:Pratt Street in Hartford and Sky Casper Entertainment are proud to present a high-energy Pride celebration in the city and under the stars! There will be bars with drinks in the street\, Lady Tita will be turning the beats\, and Kenya Mone Heart will be hosting and performing alongside the incomparable Amethyst and Miss Rozzz. And… Did we mention it’s a FREE event? Come turn up!
URL:https://skycasper.com/event/pride-on-pratt-street/
LOCATION:Pratt Street\, Pratt St\, Hartford\, CT\, 06103\, United States
CATEGORIES:Drag Brunches,Pride Events
ATTACH;FMTTYPE=image/png:https://skycasper.com/wp-content/uploads/2022/08/Pride-on-Pratt-Street-Flyer-2022.png
ORGANIZER;CN="Sky Casper Entertainment":MAILTO:sky@skycasper.com
END:VEVENT
BEGIN:VEVENT
DTSTART;TZID=America/New_York:20220924T110000
DTEND;TZID=America/New_York:20220924T160000
DTSTAMP:20260423T101134
CREATED:20220820T192204Z
LAST-MODIFIED:20220922T164802Z
UID:10000125-1664017200-1664035200@skycasper.com
SUMMARY:Beyoncé Drag Brunch @ Wood-N-Tap Hartford
DESCRIPTION:Are you that girl?!? Then this brunch is for you! Join us for a BEYONCÉ PACKED drag brunch with some of the fiercest superstars around. \nDoors: 11AM & 2PM // Showtimes: 12PM & 3PM \nTickets to the show are $20 each\, and they are sold in packages based on the table sizes we have available in the room (food and beverages are sold separately at the venue\, and they are as shown below). \nBRUNCH BUFFET: Fill your plate once\, twice\, or even thrice with everything nice! $22.99 includes: \nScrambled Eggs\, Rosemary Roasted Potatoes\, Bagels with Cream Cheeses (Lox\, Maple Walnut\, Garlic Herb)\, Brown Sugar Bacon\, Craft Sausages\, Texas French Toast w/ Bourbon Syrup\, Fresh Fruit\, Penne a la Vodka\, Herb Crusted Salmon with Dill Creme Fraiche\, Selection of premium pastries\, and Omelet station with a chef to build your custom omelet. \nMIMOSA BAR: Mimosas are sooooo last season. It’s all about the Guavosa\, Mangosa\, Tikkosa\, and Gingosa! At our Mimosa bar\, pair your bubbly with a bevy of juices from across the globe\, fresh fruits\, herbs\, and candies to create the perfect pairing. Toast to new flavors and new favorite brunch spots! $13.99 for two flutes\, $23.99 for unlimited bubbles! Included: \nJuices from orange to passionfruit to pineapple\, purees of every berry\, house blends like Baja and Tiki\, Berries\, flowers\, fresh herbs\, tropical and citrus fruits\, Candied ginger\, gummy bears\, sweet tarts\, rock candy wands \nSky Casper Entertainment does all sorts of LGBTQ+ events around the tristate area so make sure to follow along by signing up at skycasper.com/sign-up
URL:https://skycasper.com/event/beyonce-drag-brunch-wood-n-tap-hartford/
LOCATION:Wood-N-Tap\, 99 Sisson Avenue\, Hartford\, CT\, 06106\, United States
CATEGORIES:Drag Brunches,Pride Events
ATTACH;FMTTYPE=image/png:https://skycasper.com/wp-content/uploads/2022/08/Beyonce-Brunch-Flyer-4.png
ORGANIZER;CN="Sky Casper Entertainment":MAILTO:sky@skycasper.com
END:VEVENT
END:VCALENDAR