BEGIN:VCALENDAR
VERSION:2.0
PRODID:-//Sky Casper Entertainment - ECPv6.15.20//NONSGML v1.0//EN
CALSCALE:GREGORIAN
METHOD:PUBLISH
X-ORIGINAL-URL:https://skycasper.com
X-WR-CALDESC:Events for Sky Casper Entertainment
REFRESH-INTERVAL;VALUE=DURATION:PT1H
X-Robots-Tag:noindex
X-PUBLISHED-TTL:PT1H
BEGIN:VTIMEZONE
TZID:America/New_York
BEGIN:DAYLIGHT
TZOFFSETFROM:-0500
TZOFFSETTO:-0400
TZNAME:EDT
DTSTART:20220313T070000
END:DAYLIGHT
BEGIN:STANDARD
TZOFFSETFROM:-0400
TZOFFSETTO:-0500
TZNAME:EST
DTSTART:20221106T060000
END:STANDARD
BEGIN:DAYLIGHT
TZOFFSETFROM:-0500
TZOFFSETTO:-0400
TZNAME:EDT
DTSTART:20230312T070000
END:DAYLIGHT
BEGIN:STANDARD
TZOFFSETFROM:-0400
TZOFFSETTO:-0500
TZNAME:EST
DTSTART:20231105T060000
END:STANDARD
BEGIN:DAYLIGHT
TZOFFSETFROM:-0500
TZOFFSETTO:-0400
TZNAME:EDT
DTSTART:20240310T070000
END:DAYLIGHT
BEGIN:STANDARD
TZOFFSETFROM:-0400
TZOFFSETTO:-0500
TZNAME:EST
DTSTART:20241103T060000
END:STANDARD
END:VTIMEZONE
BEGIN:VEVENT
DTSTART;TZID=America/New_York:20230513T150000
DTEND;TZID=America/New_York:20230513T200000
DTSTAMP:20260422T214335
CREATED:20230412T051710Z
LAST-MODIFIED:20230512T155221Z
UID:10000167-1683990000-1684008000@skycasper.com
SUMMARY:Drag Extravaganza MILF (Mother's Day) @ The Place 2 Be (Downtown Hartford)
DESCRIPTION:Join us for our epic Drag Extravaganza at The Place 2 Be in Downtown Hartford on May 13th for a special MILFS theme for Mother’s Day weekend\n\n\nSky Casper Entertainment x The Place 2 Be brings Hartford an epic Drag Extravaganza on May 13th! Come turn up with us for a special MILFS Mother’s Day celebration!! Drag Dine Dance Drink Drag. \n*Brunch\, lunch\, and dinner options will be available \n*There is a 2 drink minimum per guest \n*Doors at 3\, show at 4 // Doors at 6\, show at 7 – tables can be purchased at the website link below \nATTENTION: If you need to add or combine tables\, be sure to get in touch with sky@skycasper.com BEFORE purchasing your tables. We don’t expect tables to be available for very long and we need to ensure we can accommodate you. \nWe’ve got so much coming up! Check out our lineup\, and make sure to sign-up for event updates at SkyCasper.com/events
URL:https://skycasper.com/event/drag-extravaganza-milf-edition-the-place-2-be-downtown-hartford/
LOCATION:The Place 2 Be\, 338 Elm Street\, New Haven\, CT\, 06511\, United States
CATEGORIES:Drag Brunches
ATTACH;FMTTYPE=image/jpeg:https://skycasper.com/wp-content/uploads/2023/04/1b41feb89e616ee768dea2b5eb67e3b2-ZJCdnx.tmp_.jpg
END:VEVENT
END:VCALENDAR