BEGIN:VCALENDAR
VERSION:2.0
PRODID:-//Sky Casper Entertainment - ECPv6.15.20//NONSGML v1.0//EN
CALSCALE:GREGORIAN
METHOD:PUBLISH
X-ORIGINAL-URL:https://skycasper.com
X-WR-CALDESC:Events for Sky Casper Entertainment
REFRESH-INTERVAL;VALUE=DURATION:PT1H
X-Robots-Tag:noindex
X-PUBLISHED-TTL:PT1H
BEGIN:VTIMEZONE
TZID:America/New_York
BEGIN:DAYLIGHT
TZOFFSETFROM:-0500
TZOFFSETTO:-0400
TZNAME:EDT
DTSTART:20220313T070000
END:DAYLIGHT
BEGIN:STANDARD
TZOFFSETFROM:-0400
TZOFFSETTO:-0500
TZNAME:EST
DTSTART:20221106T060000
END:STANDARD
BEGIN:DAYLIGHT
TZOFFSETFROM:-0500
TZOFFSETTO:-0400
TZNAME:EDT
DTSTART:20230312T070000
END:DAYLIGHT
BEGIN:STANDARD
TZOFFSETFROM:-0400
TZOFFSETTO:-0500
TZNAME:EST
DTSTART:20231105T060000
END:STANDARD
BEGIN:DAYLIGHT
TZOFFSETFROM:-0500
TZOFFSETTO:-0400
TZNAME:EDT
DTSTART:20240310T070000
END:DAYLIGHT
BEGIN:STANDARD
TZOFFSETFROM:-0400
TZOFFSETTO:-0500
TZNAME:EST
DTSTART:20241103T060000
END:STANDARD
END:VTIMEZONE
BEGIN:VEVENT
DTSTART;TZID=America/New_York:20230730T110000
DTEND;TZID=America/New_York:20230730T133000
DTSTAMP:20260422T184011
CREATED:20230702T164006Z
LAST-MODIFIED:20230728T180732Z
UID:10000182-1690714800-1690723800@skycasper.com
SUMMARY:Pink Eggs & Glam Drag Brunch w/ Carlös & Patty Bourrée (Southbury\, CT)
DESCRIPTION:Join Sky Casper Entertainment at Heritage Hotel in Southbury\, CT for a hilarious drag cabaret with drag superstars Carlös & Patty Bourrée!\n\n\nJoin Sky Casper Entertainment at Heritage Hotel for our renowned monthly live singing and comedic Pink Eggs & Glam Drag Brunch & Dinner series! We’ve got a fantastic lineup of rotating drag superstars from worldwide. If you have yet to attend #PinkEggsAndGlam\, expect a great time with phenomenal live vocals and comedy. \nThis month we have the incredibly funny and vocally talented Carlös & Patty Bourrée coming from Boston\, MA. Carlös & Patty are chic chanteuses and mouthy comediennes known regionally for her big voice\, hilarious parodies\, vintage style\, and bad attitude. Veritably crushed under the weight of their theater degrees\, an evening with these two queens is sure to be jam-packed with song\, antics\, and surprises.  \nSeating Time: 11 AM\, Showtime: 12 PM \nTICKETS: $25 in advance\, $30 at the door (Ages 18+). Last time we sold out in less than 48 hours! \n$30 fierce brunch buffet is required to order at the door. It is scrumptious! \nPink Eggs & Glam Drag Brunch T-Shirts are available at the event – sharpies are also available so you can collect your favorite drag performers’ autographs on your merchandise! \nWe’ve got so much coming up! Check out our lineup\, and make sure to sign-up for event updates at SkyCasper.com/events
URL:https://skycasper.com/event/pink-eggs-glam-drag-brunch-w-carlos-patty-bourree-southbury-ct-2/
LOCATION:Heritage Hotel\, Golf\, Spa & Conf Ctr\, BW Premier Collection\, 522 Heritage Road\, Southbury\, CT\, 06488\, United States
CATEGORIES:Drag Brunches
ATTACH;FMTTYPE=image/jpeg:https://skycasper.com/wp-content/uploads/2023/07/7f55454b5bd543de2149349bf15d28a3-r5UX96.tmp_.jpg
END:VEVENT
END:VCALENDAR