BEGIN:VCALENDAR
VERSION:2.0
PRODID:-//Sky Casper Entertainment - ECPv6.15.20//NONSGML v1.0//EN
CALSCALE:GREGORIAN
METHOD:PUBLISH
X-WR-CALNAME:Sky Casper Entertainment
X-ORIGINAL-URL:https://skycasper.com
X-WR-CALDESC:Events for Sky Casper Entertainment
REFRESH-INTERVAL;VALUE=DURATION:PT1H
X-Robots-Tag:noindex
X-PUBLISHED-TTL:PT1H
BEGIN:VTIMEZONE
TZID:America/New_York
BEGIN:DAYLIGHT
TZOFFSETFROM:-0500
TZOFFSETTO:-0400
TZNAME:EDT
DTSTART:20240310T070000
END:DAYLIGHT
BEGIN:STANDARD
TZOFFSETFROM:-0400
TZOFFSETTO:-0500
TZNAME:EST
DTSTART:20241103T060000
END:STANDARD
BEGIN:DAYLIGHT
TZOFFSETFROM:-0500
TZOFFSETTO:-0400
TZNAME:EDT
DTSTART:20250309T070000
END:DAYLIGHT
BEGIN:STANDARD
TZOFFSETFROM:-0400
TZOFFSETTO:-0500
TZNAME:EST
DTSTART:20251102T060000
END:STANDARD
BEGIN:DAYLIGHT
TZOFFSETFROM:-0500
TZOFFSETTO:-0400
TZNAME:EDT
DTSTART:20260308T070000
END:DAYLIGHT
BEGIN:STANDARD
TZOFFSETFROM:-0400
TZOFFSETTO:-0500
TZNAME:EST
DTSTART:20261101T060000
END:STANDARD
END:VTIMEZONE
BEGIN:VEVENT
DTSTART;TZID=America/New_York:20250309T110000
DTEND;TZID=America/New_York:20250309T163000
DTSTAMP:20260421T183149
CREATED:20250130T213124Z
LAST-MODIFIED:20250209T175520Z
UID:10000234-1741518000-1741537800@skycasper.com
SUMMARY:Pink Eggs & Glam Drag Brunch w/ Pissi Myles (New London\, CT)
DESCRIPTION:Join us for Connecticut’s longest-running big-city drag brunch experience – live vocals\, comedy\, chaos\, and more!\n\n\nJoin us for Connecticut’s longest-running big-city drag brunch experience – live vocals\, comedy\, chaos\, and more! \nIndulge in an unforgettable experience of live singing and side-splitting comedy at our monthly Pink Eggs & Glam Drag Brunch\, presented by Sky Casper Entertainment and The Social Bar + Kitchen. This event showcases a lineup of the world’s most talented drag superstars\, delivering captivating performances that will mesmerize you! \nOur #PinkEggsAndGlam event is a must-attend for anyone seeking a fabulous brunch experience paired with unbeatable live entertainment. Prepare for a phenomenal time that promises to be unforgettable! \n🔥This month\, we roll out the red carpet for none other than New York City’s reigning queen of parody\, Pissi Myles! 🔥 Born kicking\, screaming\, and serving attitude\, Pissi hasn’t stopped slaying since. A powerhouse comedian\, singer\, and all-around humorist\, she’s been hailed as one of the most talented queens in the Northeast—by fans\, critics\, and the unfortunate souls who dared to sit in the front row. Warning: Pissi is UNFILTERED\, unapologetic\, and absolutely unforgettable. Buckle up\, because this queen is about to take you on a wild\, laugh-out-loud ride you won’t want to miss! 💥 \nSeating Times: 11 AM & 2 PM Showtimes: 12 PM & 3 PM \nTICKETS: $20 in advance\, $25 at the door. Ages 14+\, please! Food and beverages are sold separately at the venue. \nDon’t forget to grab your Pink Eggs & Glam Drag Brunch T-shirt at the event! We’ll have Sharpies available so you can collect autographs from your favorite drag performers. \nWe have so much more in store! Check out our upcoming lineup and sign up for event updates at SkyCasper.com/events.
URL:https://skycasper.com/event/pink-eggs-glam-drag-brunch-w-pissi-myles-new-london-ct-2/
LOCATION:The Social Bar + Kitchen\, 208 Bank Street\, New London\, CT\, 06320\, United States
CATEGORIES:Drag Brunches,Pink Eggs & Glam Drag Brunch
ATTACH;FMTTYPE=image/jpeg:https://skycasper.com/wp-content/uploads/2025/01/3861403cb8d242ca0bed7dbbf20d70af-8h6g5N.tmp_.jpg
END:VEVENT
END:VCALENDAR