BEGIN:VCALENDAR
VERSION:2.0
PRODID:-//Sky Casper Entertainment - ECPv6.15.20//NONSGML v1.0//EN
CALSCALE:GREGORIAN
METHOD:PUBLISH
X-WR-CALNAME:Sky Casper Entertainment
X-ORIGINAL-URL:https://skycasper.com
X-WR-CALDESC:Events for Sky Casper Entertainment
REFRESH-INTERVAL;VALUE=DURATION:PT1H
X-Robots-Tag:noindex
X-PUBLISHED-TTL:PT1H
BEGIN:VTIMEZONE
TZID:America/New_York
BEGIN:DAYLIGHT
TZOFFSETFROM:-0500
TZOFFSETTO:-0400
TZNAME:EDT
DTSTART:20240310T070000
END:DAYLIGHT
BEGIN:STANDARD
TZOFFSETFROM:-0400
TZOFFSETTO:-0500
TZNAME:EST
DTSTART:20241103T060000
END:STANDARD
BEGIN:DAYLIGHT
TZOFFSETFROM:-0500
TZOFFSETTO:-0400
TZNAME:EDT
DTSTART:20250309T070000
END:DAYLIGHT
BEGIN:STANDARD
TZOFFSETFROM:-0400
TZOFFSETTO:-0500
TZNAME:EST
DTSTART:20251102T060000
END:STANDARD
BEGIN:DAYLIGHT
TZOFFSETFROM:-0500
TZOFFSETTO:-0400
TZNAME:EDT
DTSTART:20260308T070000
END:DAYLIGHT
BEGIN:STANDARD
TZOFFSETFROM:-0400
TZOFFSETTO:-0500
TZNAME:EST
DTSTART:20261101T060000
END:STANDARD
END:VTIMEZONE
BEGIN:VEVENT
DTSTART;TZID=America/New_York:20250601T110000
DTEND;TZID=America/New_York:20250601T163000
DTSTAMP:20260421T133907
CREATED:20250507T175032Z
LAST-MODIFIED:20250507T175700Z
UID:10000237-1748775600-1748795400@skycasper.com
SUMMARY:Pink Eggs & Glam Pride Kickoff Drag Brunch w/ Pissi Myles (Hartford\, CT)
DESCRIPTION:Kick off Pride Month with Connecticut’s longest-running big-city drag brunch experience – live vocals\, comedy\, chaos\, and more!\n\n\nIndulge in an unforgettable experience of live singing and hilarious comedy with the debut of our outrageous Pink Eggs & Glam Drag Brunch at Fire by Forge! Our events feature a lineup of the world’s most talented drag superstars\, promising an entertaining and captivating performance that will leave you mesmerized. Our #PinkEggsAndGlam event is a must-attend for enthusiasts seeking an exhilarating brunch experience with unbeatable live entertainment. Join us for a phenomenal time that is guaranteed to be unforgettable! \nWe’re rolling out the red carpet for none other than New York City’s reigning queen of parody\, Pissi Myles! Born kicking\, screaming\, and serving attitude\, Pissi hasn’t stopped slaying since. A powerhouse comedian\, singer\, and all-around humorist\, she’s been hailed as one of the most talented queens in the Northeast—by fans\, critics\, and the unfortunate souls who dared to sit in the front row. Warning: Pissi is UNFILTERED\, unapologetic\, and unforgettable. Buckle up\, because this queen is about to take you on a wild\, laugh-out-loud ride you won’t want to miss! \nSeating Times: 11 AM & 2 PM\, Showtimes: 12 & 3 PM \nTICKETS: $20 in advance\, $25 at the door. AGES 14+ PLEASE 🙂 \nFood and beverages are sold separately at the venue. \nPink Eggs & Glam Drag Brunch T-Shirts are available at the event – Sharpies are available so you can collect your favorite drag performers’ autographs on your merchandise! \nWe’ve got so much coming up! Check out our lineup\, and make sure to sign up for event updates at SkyCasper.com/events \n#LiveSingingDrag
URL:https://skycasper.com/event/pink-eggs-glam-pride-kickoff-drag-brunch/
LOCATION:Fire by Forge\, 539 Broad Street\, Hartford\, CT\, 06106\, United States
CATEGORIES:Drag Brunches,Pink Eggs & Glam Drag Brunch
ATTACH;FMTTYPE=image/jpeg:https://skycasper.com/wp-content/uploads/2025/05/8bc5bccf0d53ef448d3f0a69a2a64f54-IHMYNw.tmp_.jpg
END:VEVENT
BEGIN:VEVENT
DTSTART;TZID=America/New_York:20250608T110000
DTEND;TZID=America/New_York:20250608T133000
DTSTAMP:20260421T133907
CREATED:20250509T161628Z
LAST-MODIFIED:20250530T201723Z
UID:10000238-1749380400-1749389400@skycasper.com
SUMMARY:Pink Eggs & Glam Drag Brunch w/ RuPaul's Loosey LaDuca (Northampton\, MA)
DESCRIPTION:Indulge in an unforgettable experience of live singing and hilarious comedy with the Northampton debut of our iconic Pink Eggs & Glam Drag Brunch\, presented by Sky Casper Entertainment and The Hotel Northampton. Our event features a lineup of the world’s most talented drag superstars\, promising an entertaining and captivating performance that will leave you laughing. Our #PinkEggsAndGlam event is a must-attend for enthusiasts seeking an exhilarating brunch experience with unbeatable live entertainment. Join us for a phenomenal time that is guaranteed to be unforgettable! \nLocal icon and RuPaul’s Drag Race star\, Loosey LaDuca\, returns to Pink Eggs & Glam! Known for her quick wit and comedic timing\, Loosey made a lasting impression on Season 15 of Drag Race\, winning the iconic Snatch Game with her unforgettable Joan Rivers impersonation. With her sharp humor\, impressive vocal skills\, and electrifying stage presence\, Loosey’s return to the brunch stage is sure to be a showstopper! \nSeating 11 AM\, Showtime: Noon \nTICKETS: $30 in advance\, $35 at the door. AGES 14+ PLEASE 🙂 \nFood: Required $35 all-inclusive buffet (including mimosas for ages 21+) sold separately at the venue. There will be a full bar available to purchase additional beverages. \nPink Eggs & Glam Drag Brunch T-Shirts are available at the event – sharpies are also available so you can collect your favorite drag performers’ autographs on your merchandise! \nWe’ve got so much coming up! Check out our lineup\, and make sure to sign up for event updates at SkyCasper.com/events \n#LiveSingingDrag
URL:https://skycasper.com/event/drag-brunch-rupaul-loosey-laduca-northampton/
LOCATION:The Hotel Northampton\, 36 King Street\, Northampton\, MA\, 01060\, United States
CATEGORIES:Drag Brunches,Pink Eggs & Glam Drag Brunch
ATTACH;FMTTYPE=image/jpeg:https://skycasper.com/wp-content/uploads/2025/05/2e7e038dec0eb4e377b9b562e9fcf212-vINlDC.tmp_.jpg
END:VEVENT
BEGIN:VEVENT
DTSTART;TZID=America/New_York:20250629T110000
DTEND;TZID=America/New_York:20250629T163000
DTSTAMP:20260421T133907
CREATED:20250512T060423Z
LAST-MODIFIED:20250519T033424Z
UID:10000239-1751194800-1751214600@skycasper.com
SUMMARY:Pink Eggs & Glam Drag Brunch Pride w/ Wesley (New London\, CT)
DESCRIPTION:Join us for Connecticut’s longest-running big-city drag brunch experience – live vocals\, comedy\, chaos\, and more! \nIndulge in an unforgettable experience of live singing and side-splitting comedy at our monthly Pink Eggs & Glam Drag Brunch\, presented by Sky Casper Entertainment and The Social Bar + Kitchen. This event showcases a lineup of the world’s most talented drag superstars\, delivering captivating performances that will mesmerize you! \nOur #PinkEggsAndGlam event is a must-attend for anyone seeking a fabulous brunch experience paired with unbeatable live entertainment. Prepare for a phenomenal time that promises to be unforgettable! \nGet ready to be blown away by Wesley\, a dazzling force lighting up the New York City drag scene! This powerhouse vocalist and hilarious diva is making a major splash in cabaret and nightlife\, captivating audiences with incredible pipes and electrifying energy. Wesley commands the stage\, belting out anthems from pop icons like Gaga\, Beyoncé\, and Ariana with a power that will leave you breathless. Not just a voice\, Wesley brings the heat with killer dance moves and jaw-dropping splits\, proving she’s a true triple threat. A rising star with undeniable charisma and stunning looks\, Wesley is a must-see talent you won’t want to miss. \nSeating Times: 11 AM & 2 PM Showtimes: 12 PM & 3 PM \nTICKETS: $20 in advance\, $25 at the door. Ages 14+\, please! Food and beverages are sold separately at the venue. \nDon’t forget to grab your Pink Eggs & Glam Drag Brunch T-shirt at the event! We’ll have Sharpies available so you can collect autographs from your favorite drag performers. \nWe have so much more in store! Check out our upcoming lineup and sign up for event updates at SkyCasper.com/events. \n#LiveSingingDrag
URL:https://skycasper.com/event/pink-eggs-glam-drag-brunch-pride-new-london-ct/
LOCATION:The Social Bar + Kitchen\, 208 Bank Street\, New London\, CT\, 06320\, United States
CATEGORIES:Drag Brunches,Pink Eggs & Glam Drag Brunch,Pride Events
ATTACH;FMTTYPE=image/jpeg:https://skycasper.com/wp-content/uploads/2025/05/c9df4bf6b5b3789c29abe8b378a0a6b0-9xmH2l.tmp_.jpg
END:VEVENT
END:VCALENDAR