BEGIN:VCALENDAR
VERSION:2.0
PRODID:-//Sky Casper Entertainment - ECPv6.15.20//NONSGML v1.0//EN
CALSCALE:GREGORIAN
METHOD:PUBLISH
X-WR-CALNAME:Sky Casper Entertainment
X-ORIGINAL-URL:https://skycasper.com
X-WR-CALDESC:Events for Sky Casper Entertainment
REFRESH-INTERVAL;VALUE=DURATION:PT1H
X-Robots-Tag:noindex
X-PUBLISHED-TTL:PT1H
BEGIN:VTIMEZONE
TZID:America/New_York
BEGIN:DAYLIGHT
TZOFFSETFROM:-0500
TZOFFSETTO:-0400
TZNAME:EDT
DTSTART:20240310T070000
END:DAYLIGHT
BEGIN:STANDARD
TZOFFSETFROM:-0400
TZOFFSETTO:-0500
TZNAME:EST
DTSTART:20241103T060000
END:STANDARD
BEGIN:DAYLIGHT
TZOFFSETFROM:-0500
TZOFFSETTO:-0400
TZNAME:EDT
DTSTART:20250309T070000
END:DAYLIGHT
BEGIN:STANDARD
TZOFFSETFROM:-0400
TZOFFSETTO:-0500
TZNAME:EST
DTSTART:20251102T060000
END:STANDARD
BEGIN:DAYLIGHT
TZOFFSETFROM:-0500
TZOFFSETTO:-0400
TZNAME:EDT
DTSTART:20260308T070000
END:DAYLIGHT
BEGIN:STANDARD
TZOFFSETFROM:-0400
TZOFFSETTO:-0500
TZNAME:EST
DTSTART:20261101T060000
END:STANDARD
END:VTIMEZONE
BEGIN:VEVENT
DTSTART;TZID=America/New_York:20250713T110000
DTEND;TZID=America/New_York:20250713T140000
DTSTAMP:20260421T151903
CREATED:20250609T193038Z
LAST-MODIFIED:20250617T171623Z
UID:10000241-1752404400-1752415200@skycasper.com
SUMMARY:Pink Eggs & Glam Drag Brunch w/ Patty Bourrée (Northampton\, MA)
DESCRIPTION:Join us in Northampton for Sky Casper’s long-running big-city drag brunch experience – live vocals\, comedy\, chaos\, and more!\n\n\nIndulge in an unforgettable experience of live singing and hilarious comedy at THE Pink Eggs & Glam Drag Brunch\, presented by Sky Casper Entertainment and The Hotel Northampton. This event showcases a lineup of the world’s most talented drag superstars\, delivering captivating performances that will mesmerize you! \nOur #PinkEggsAndGlam event is a must-attend for anyone seeking a fabulous brunch experience paired with unbeatable live entertainment. Prepare for a phenomenal time that promises to be unforgettable! \nThis month\, we’re thrilled to feature Patty Bourrée\, a chic chanteuse and witty comedienne known for her powerhouse vocals\, hilarious parodies\, vintage flair\, and bold attitude. With degrees from NYU and Emerson College\, a brunch with Patty guarantees a delightful mix of song\, antics\, and surprises. \nSeating 11 AM\, Showtime: 12:15 PM \nTICKETS: $20 in advance\, $25 at the door. AGES 14+ PLEASE 🙂 \nFOOD: Food is required at this event! A huge and delicious $35 all-inclusive buffet (including mimosas for ages 21+) is sold separately at the venue. There will be additional beverages for purchase. \nPink Eggs & Glam Drag Brunch T-Shirts are available at the event – sharpies are also available so you can collect your favorite drag performers’ autographs on your merchandise! \nWe’ve got so much coming up! Check out our lineup\, and make sure to sign up for event updates at SkyCasper.com/events \n#LiveSingingDrag
URL:https://skycasper.com/event/pink-eggs-glam-drag-brunch-northampton/
LOCATION:The Hotel Northampton\, 36 King Street\, Northampton\, MA\, 01060\, United States
CATEGORIES:Drag Brunches,Pink Eggs & Glam Drag Brunch
ATTACH;FMTTYPE=image/jpeg:https://skycasper.com/wp-content/uploads/2025/06/553fa4d9d0194a28fd4b1ba11d10a40f-C7mqTJ.tmp_.jpg
END:VEVENT
BEGIN:VEVENT
DTSTART;TZID=America/New_York:20250719T110000
DTEND;TZID=America/New_York:20250719T163000
DTSTAMP:20260421T151903
CREATED:20250611T154746Z
LAST-MODIFIED:20250617T171624Z
UID:10000242-1752922800-1752942600@skycasper.com
SUMMARY:Pink Eggs & Glam Drag Brunch w/ Superstar Baga Chipz (Poughkeepsie\, NY)
DESCRIPTION:Join us for the return of our big-city drag brunch experience – live vocals\, comedy\, chaos\, and more!\n\n\nWE’RE BACK\, POUGHKEEPSIE! Indulge in an unforgettable experience of live singing and side-splitting comedy at our monthly Pink Eggs & Glam Drag Brunch\, presented by Sky Casper Entertainment and Mill House Brewing Company. This event showcases a lineup of the world’s most talented drag superstars\, delivering captivating performances that will mesmerize you! \nOur #PinkEggsAndGlam event is a must-attend for anyone seeking a fabulous brunch experience paired with unbeatable live entertainment. Prepare for a phenomenal time that promises to be unforgettable! \nGet ready for Baga Chipz\, the iconic British queen from RuPaul’s Drag Race UK and UK vs. the World! Known for her blistering quick wit\, unapologetic comedy\, and incredible live vocals\, Baga commands the stage. From her legendary Snatch Game wins to her hilarious antics\, she brings a uniquely charming and utterly unforgettable brand of British camp. Prepare for big laughs\, powerhouse vocals\, and a show that’s simply “much betta!” \nSeating Times: 11 AM & 2 PM\, Showtimes: 12 & 3 PM \nTICKETS: $30 in advance\, $35 at the door. AGES 14+ PLEASE 🙂 \nFOOD: Food is required at this event! Delicious family-style plates are provided to each table for $20 per person. Any additional beverages can also be ordered directly from your server. \nPink Eggs & Glam Drag Brunch T-Shirts are available at the event – sharpies are also available so you can collect your favorite drag performers’ autographs on your merchandise! \nWe’ve got so much coming up! Check out our lineup\, and make sure to sign up for event updates at SkyCasper.com/events \n#LiveSingingDrag
URL:https://skycasper.com/event/drag-brunch-baga-chipz-poughkeepsie-ny/
LOCATION:Mill House Brewing Company\, 289 Mill Street\, Poughkeepsie\, NY\, 12601\, United States
CATEGORIES:Drag Brunches,Pink Eggs & Glam Drag Brunch
ATTACH;FMTTYPE=image/jpeg:https://skycasper.com/wp-content/uploads/2025/06/c49f74322e28c29812c012377c8035ca-T1An3l.tmp_.jpg
END:VEVENT
BEGIN:VEVENT
DTSTART;TZID=America/New_York:20250720T110000
DTEND;TZID=America/New_York:20250720T163000
DTSTAMP:20260421T151903
CREATED:20250611T154749Z
LAST-MODIFIED:20250619T185808Z
UID:10000243-1753009200-1753029000@skycasper.com
SUMMARY:Pink Eggs & Glam Drag Brunch w/ Superstar Baga Chipz (New London\, CT)
DESCRIPTION:Join us for Connecticut’s longest-running big-city drag brunch experience – live vocals\, comedy\, chaos\, and more! \nIndulge in an unforgettable experience of live singing and side-splitting comedy at our monthly Pink Eggs & Glam Drag Brunch\, presented by Sky Casper Entertainment and The Social Bar + Kitchen. This event showcases a lineup of the world’s most talented drag superstars\, delivering captivating performances that will mesmerize you! \nOur #PinkEggsAndGlam event is a must-attend for anyone seeking a fabulous brunch experience paired with unbeatable live entertainment. Prepare for a phenomenal time that promises to be unforgettable! \nGet ready for Baga Chipz\, the iconic British queen from RuPaul’s Drag Race UK and UK vs. the World! Known for her blistering quick wit\, unapologetic comedy\, and incredible live vocals\, Baga commands the stage. From her legendary Snatch Game wins to her hilarious antics\, she brings a uniquely charming and utterly unforgettable brand of British camp. Prepare for big laughs\, powerhouse vocals\, and a show that’s simply “much betta!” \nSeating Times: 11 AM & 2 PM Showtimes: 12 PM & 3 PM \nTICKETS: $30 in advance\, $35 at the door. Ages 14+\, please! Food and beverages are sold separately at the venue. \nDon’t forget to grab your Pink Eggs & Glam Drag Brunch T-shirt at the event! We’ll have Sharpies available so you can collect autographs from your favorite drag performers. \nWe have so much more in store! Check out our upcoming lineup and sign up for event updates at SkyCasper.com/events. \n#LiveSingingDrag
URL:https://skycasper.com/event/pink-eggs-glam-drag-brunch-baga-chipz-new-london/
LOCATION:The Social Bar + Kitchen\, 208 Bank Street\, New London\, CT\, 06320\, United States
CATEGORIES:Drag Brunches,Pink Eggs & Glam Drag Brunch
ATTACH;FMTTYPE=image/jpeg:https://skycasper.com/wp-content/uploads/2025/06/3644e44873674fd49a70a550df2235e8-Qvw4WP.tmp_.jpg
END:VEVENT
END:VCALENDAR