BEGIN:VCALENDAR
VERSION:2.0
PRODID:-//Sky Casper Entertainment - ECPv6.15.20//NONSGML v1.0//EN
CALSCALE:GREGORIAN
METHOD:PUBLISH
X-WR-CALNAME:Sky Casper Entertainment
X-ORIGINAL-URL:https://skycasper.com
X-WR-CALDESC:Events for Sky Casper Entertainment
REFRESH-INTERVAL;VALUE=DURATION:PT1H
X-Robots-Tag:noindex
X-PUBLISHED-TTL:PT1H
BEGIN:VTIMEZONE
TZID:America/New_York
BEGIN:DAYLIGHT
TZOFFSETFROM:-0500
TZOFFSETTO:-0400
TZNAME:EDT
DTSTART:20240310T070000
END:DAYLIGHT
BEGIN:STANDARD
TZOFFSETFROM:-0400
TZOFFSETTO:-0500
TZNAME:EST
DTSTART:20241103T060000
END:STANDARD
BEGIN:DAYLIGHT
TZOFFSETFROM:-0500
TZOFFSETTO:-0400
TZNAME:EDT
DTSTART:20250309T070000
END:DAYLIGHT
BEGIN:STANDARD
TZOFFSETFROM:-0400
TZOFFSETTO:-0500
TZNAME:EST
DTSTART:20251102T060000
END:STANDARD
BEGIN:DAYLIGHT
TZOFFSETFROM:-0500
TZOFFSETTO:-0400
TZNAME:EDT
DTSTART:20260308T070000
END:DAYLIGHT
BEGIN:STANDARD
TZOFFSETFROM:-0400
TZOFFSETTO:-0500
TZNAME:EST
DTSTART:20261101T060000
END:STANDARD
END:VTIMEZONE
BEGIN:VEVENT
DTSTART;TZID=America/New_York:20250803T110000
DTEND;TZID=America/New_York:20250803T163000
DTSTAMP:20260421T165119
CREATED:20250704T162940Z
LAST-MODIFIED:20250725T233222Z
UID:10000245-1754218800-1754238600@skycasper.com
SUMMARY:Pink Eggs & Glam Drag Brunch w/ Superstar Gigi St. Croix (Hartford\, CT)
DESCRIPTION:Join Sky Casper Entertainment for Connecticut’s longest-running big-city drag brunch experience – live vocals\, comedy\, chaos\, and more! \nIndulge in an unforgettable experience of live singing and hilarious comedy with the debut of our outrageous Pink Eggs & Glam Drag Brunch at Fire by Forge! Our events feature a lineup of the world’s most talented drag superstars\, promising an entertaining and captivating performance that will leave you mesmerized. Our #PinkEggsAndGlam event is a must-attend for enthusiasts seeking an exhilarating brunch experience with unbeatable live entertainment. Join us for a phenomenal time that is guaranteed to be unforgettable! \nGet ready for Gigi St. Croix\, the true embodiment of New York City drag excellence! Hailing from the heart of the Big Apple\, Gigi is a celebrated live vocal powerhouse with a background that spans intimate cabaret stages to a show-stopping solo performance at Carnegie Hall. Gigi combines her cosmic charm with blistering wit and sharp comedic timing\, ensuring every moment is filled with laughter. She effortlessly blends brains\, brass\, beauty\, and Broadway belting\, making her a multifaceted force. With her electrifying stage presence and a unique brand of high camp humor\, Gigi St. Croix delivers an unforgettable performance that embodies the essence of NYC star power. \nSeating Times: 11 AM & 2 PM\, Showtimes: 12 & 3 PM\nTICKETS: $20 in advance\, $25 at the door. AGES 14+ PLEASE 🙂\nFood and beverages are sold separately at the venue. \nPink Eggs & Glam Drag Brunch T-Shirts are available at the event – Sharpies are available so you can collect your favorite drag performers’ autographs on your merchandise! \nWe’ve got so much coming up! Check out our lineup\, and make sure to sign up for event updates at SkyCasper.com/events \n#LiveSingingDrag
URL:https://skycasper.com/event/pink-eggs-glam-drag-brunch-hartford-ct/
LOCATION:Fire by Forge\, 539 Broad Street\, Hartford\, CT\, 06106\, United States
CATEGORIES:Drag Brunches,Pink Eggs & Glam Drag Brunch
ATTACH;FMTTYPE=image/png:https://skycasper.com/wp-content/uploads/2025/07/Gigi-St-Croix-Cover-Photo2.png
END:VEVENT
BEGIN:VEVENT
DTSTART;TZID=America/New_York:20250809T110000
DTEND;TZID=America/New_York:20250809T163000
DTSTAMP:20260421T165119
CREATED:20250715T212146Z
LAST-MODIFIED:20250729T151151Z
UID:10000248-1754737200-1754757000@skycasper.com
SUMMARY:Pink Eggs & Glam Drag Brunch w/ Superstar Pissi Myles (Poughkeepsie\, NY)
DESCRIPTION:Join us for the return of our big-city drag brunch experience – live vocals\, comedy\, chaos\, and more! \nWE’RE BACK\, POUGHKEEPSIE! Indulge in an unforgettable experience of live singing and side-splitting comedy at our monthly Pink Eggs & Glam Drag Brunch\, presented by Sky Casper Entertainment and Mill House Brewing Company. This event showcases a lineup of the world’s most talented drag superstars\, delivering captivating performances that will mesmerize you! \nOur #PinkEggsAndGlam event is a must-attend for anyone seeking a fabulous brunch experience paired with unbeatable live entertainment. Prepare for a phenomenal time that promises to be unforgettable! \nWe’re rolling out the red carpet for none other than New York City’s reigning queen of parody\, Pissi Myles! Born kicking\, screaming\, and serving attitude\, Pissi hasn’t stopped slaying since. A powerhouse comedian\, singer\, and all-around humorist\, she’s been hailed as one of the most talented queens in the Northeast – by fans\, critics\, and the unfortunate souls who dared to sit in the front row. Warning: Pissi is UNFILTERED\, unapologetic\, and unforgettable. Buckle up\, because this queen is about to take you on a wild\, laugh-out-loud ride you won’t want to miss! \nSeating Times: 11 AM & 2 PM\, Showtimes: 12 & 3 PM\nTICKETS: $25 in advance\, $30 at the door. AGES 14+ PLEASE 🙂\nFOOD: Food is required at this event! Delicious family-style plates are provided to each table for $20 per person. Food is served 15 minutes after your seating time! Any additional beverages can also be ordered directly from your server. \nPink Eggs & Glam Drag Brunch T-Shirts are available at the event – Sharpies are also available so you can collect your favorite drag performers’ autographs on your merchandise! \nWe’ve got so much coming up! Check out our lineup\, and make sure to sign up for event updates at SkyCasper.com/events \n#LiveSingingDrag
URL:https://skycasper.com/event/pink-eggs-glam-drag-brunch-poughkeepsie-ny/
LOCATION:Mill House Brewing Company\, 289 Mill Street\, Poughkeepsie\, NY\, 12601\, United States
CATEGORIES:Drag Brunches,Pink Eggs & Glam Drag Brunch
ATTACH;FMTTYPE=image/jpeg:https://skycasper.com/wp-content/uploads/2025/07/1fbfbf1921a6904007f9c1bb92f3524c-Tt3Afb.tmp_.jpg
END:VEVENT
BEGIN:VEVENT
DTSTART;TZID=America/New_York:20250810T110000
DTEND;TZID=America/New_York:20250810T140000
DTSTAMP:20260421T165119
CREATED:20250714T222430Z
LAST-MODIFIED:20250723T211023Z
UID:10000247-1754823600-1754834400@skycasper.com
SUMMARY:Pink Eggs & Glam Drag Brunch w/ A Woman Named Carlös (Northampton\, MA)
DESCRIPTION:Join us in Northampton for Sky Casper’s long-running big-city drag brunch experience – live vocals\, comedy\, chaos\, and more!\nIndulge in an unforgettable experience of live singing and hilarious comedy at THE Pink Eggs & Glam Drag Brunch\, presented by Sky Casper Entertainment and The Hotel Northampton. This event showcases a lineup of the world’s most talented drag superstars\, delivering captivating performances that will mesmerize you!\nOur #PinkEggsAndGlam event is a must-attend for anyone seeking a fabulous brunch experience paired with unbeatable live entertainment. Get ready for a phenomenal time that promises to be unforgettable.\nThis month\, we’re thrilled to welcome superstar A Woman Named Carlös\, making one special appearance during her Provincetown show residency!! You may have seen this queen headlining Virgin Voyages all Summer long (even though she’s far from a Virgin)\, performing in Provincetown\, Puerto Vallarta\, Boston\, New York City\, or performing at one of our fabulous Pink Eggs & Glam drag brunches! Come party with Carlös – she’s sassy\, wild\, and has an incredible voice that will blow you away.\nSeating 11 AM\, Showtime: 12:15 PM\nTICKETS: $20 in advance\, $25 at the door. AGES 14+ PLEASE 🙂\nFOOD: Food is required at this event! A huge and delicious $35 all-inclusive buffet (including mimosas for ages 21+) is sold separately at the venue. Additional beverages will be available for purchase.\nPink Eggs & Glam Drag Brunch T-Shirts are available at the event – Sharpies are also available so you can collect your favorite drag performers’ autographs on your merchandise!\nWe’ve got so much coming up! Check out our lineup\, and make sure to sign up for event updates at SkyCasper.com/events\n#LiveSingingDrag
URL:https://skycasper.com/event/pink-eggs-glam-drag-brunch-northampton-ma/
LOCATION:The Hotel Northampton\, 36 King Street\, Northampton\, MA\, 01060\, United States
CATEGORIES:Belting B*tches,Drag Brunches,Pink Eggs & Glam Drag Brunch
ATTACH;FMTTYPE=image/png:https://skycasper.com/wp-content/uploads/2025/07/Carlos-Northampton-Cover-Photo.png
END:VEVENT
BEGIN:VEVENT
DTSTART;TZID=America/New_York:20250824T110000
DTEND;TZID=America/New_York:20250824T163000
DTSTAMP:20260421T165119
CREATED:20250721T225737Z
LAST-MODIFIED:20250726T160313Z
UID:10000249-1756033200-1756053000@skycasper.com
SUMMARY:Pink Eggs & Glam Drag Brunch w/ Broadway's Evita Loca (New London\, CT)
DESCRIPTION:Join us for Connecticut’s longest-running big-city drag brunch experience – live vocals\, comedy\, chaos\, and more! \nIndulge in an unforgettable experience of live singing and side-splitting comedy at our monthly Pink Eggs & Glam Drag Brunch\, presented by Sky Casper Entertainment and The Social Bar + Kitchen. This event showcases a lineup of the world’s most talented drag superstars\, delivering captivating performances that will mesmerize you! \nOur #PinkEggsAndGlam event is a must-attend for anyone seeking a fabulous brunch experience paired with unbeatable live entertainment. Prepare for a phenomenal time that promises to be unforgettable! \nHailing from the dazzling streets of New York City\, Evita Loca is more than just a drag performer – she’s a Broadway sensation! 🎭 With a voice that could charm the stars and a wit sharper than the city skyline\, Evita has graced stages around the world\, captivating audiences with her unparalleled talent and magnetic presence. Evita is best known for her show-stopping performances and electrifying live vocals. Evita has wowed audiences in roles like Frankie Valli in “Jersey Boys” on Broadway\, proving that she’s not just a queen\, but a bona fide star! \nSeating Times: 11 AM & 2 PM Showtimes: 12 PM & 3 PM \nTICKETS: $20 in advance\, $25 at the door. Ages 14+\, please! Food and beverages are sold separately at the venue. \nDon’t forget to grab your Pink Eggs & Glam Drag Brunch T-shirt at the event! We’ll have Sharpies available so you can collect autographs from your favorite drag performers. \nWe have so much more in store! Check out our upcoming lineup and sign up for event updates at SkyCasper.com/events. \n#LiveSingingDrag
URL:https://skycasper.com/event/pink-eggs-glam-drag-brunch-new-london-ct/
LOCATION:The Social Bar + Kitchen\, 208 Bank Street\, New London\, CT\, 06320\, United States
CATEGORIES:Belting B*tches,Drag Brunches,Pink Eggs & Glam Drag Brunch
ATTACH;FMTTYPE=image/jpeg:https://skycasper.com/wp-content/uploads/2025/07/d79af400edca277488b82954c9a3317d-kvJhBl.tmp_.jpg
END:VEVENT
END:VCALENDAR