BEGIN:VCALENDAR
VERSION:2.0
PRODID:-//Sky Casper Entertainment - ECPv6.15.20//NONSGML v1.0//EN
CALSCALE:GREGORIAN
METHOD:PUBLISH
X-ORIGINAL-URL:https://skycasper.com
X-WR-CALDESC:Events for Sky Casper Entertainment
REFRESH-INTERVAL;VALUE=DURATION:PT1H
X-Robots-Tag:noindex
X-PUBLISHED-TTL:PT1H
BEGIN:VTIMEZONE
TZID:America/New_York
BEGIN:DAYLIGHT
TZOFFSETFROM:-0500
TZOFFSETTO:-0400
TZNAME:EDT
DTSTART:20240310T070000
END:DAYLIGHT
BEGIN:STANDARD
TZOFFSETFROM:-0400
TZOFFSETTO:-0500
TZNAME:EST
DTSTART:20241103T060000
END:STANDARD
BEGIN:DAYLIGHT
TZOFFSETFROM:-0500
TZOFFSETTO:-0400
TZNAME:EDT
DTSTART:20250309T070000
END:DAYLIGHT
BEGIN:STANDARD
TZOFFSETFROM:-0400
TZOFFSETTO:-0500
TZNAME:EST
DTSTART:20251102T060000
END:STANDARD
BEGIN:DAYLIGHT
TZOFFSETFROM:-0500
TZOFFSETTO:-0400
TZNAME:EDT
DTSTART:20260308T070000
END:DAYLIGHT
BEGIN:STANDARD
TZOFFSETFROM:-0400
TZOFFSETTO:-0500
TZNAME:EST
DTSTART:20261101T060000
END:STANDARD
END:VTIMEZONE
BEGIN:VEVENT
DTSTART;TZID=America/New_York:20251109T110000
DTEND;TZID=America/New_York:20251109T163000
DTSTAMP:20260421T151555
CREATED:20251010T175113Z
LAST-MODIFIED:20251031T043636Z
UID:10000258-1762686000-1762705800@skycasper.com
SUMMARY:Pink Eggs & Glam Drag Brunch w/ Superstar Patty Bourrée (Hartford\, CT)
DESCRIPTION:Sky Casper’s famous big-city drag brunch experience returns to Hartford – expect live vocals\, comedy\, chaos\, and more! \nIndulge in an unforgettable experience of live singing and hilarious comedy with the debut of our outrageous Pink Eggs & Glam Drag Brunch at Fire by Forge! Our events feature a lineup of the world’s most talented drag superstars\, promising an entertaining and captivating performance that will leave you mesmerized. Our #PinkEggsAndGlam event is a must-attend for enthusiasts seeking an exhilarating brunch experience with unbeatable live entertainment. Join us for a phenomenal time that is guaranteed to be unforgettable \nThis month\, we’re thrilled to feature Patty Bourrée\, a chic chanteuse and witty comedienne known for her powerhouse vocals\, hilarious parodies\, vintage flair\, and bold attitude. With degrees from NYU and Emerson College\, a brunch with Patty guarantees a delightful mix of song\, antics\, and surprises. \nSeating Times: 11 AM & 2 PM\, Showtimes: 12 & 3 PM \nTICKETS: $20 in advance\, $25 at the door. AGES 14+ PLEASE 🙂 \nFood and beverages are sold separately at the venue. \nPink Eggs & Glam Drag Brunch T-Shirts are available at the event – Sharpies are available so you can collect your favorite drag performers’ autographs on your merchandise! \nWe’ve got so much coming up! Check out our lineup\, and make sure to sign up for event updates at SkyCasper.com/events \n#LiveSingingDrag
URL:https://skycasper.com/event/drag-brunch-patty-bourree-hartford-ct/
LOCATION:Fire by Forge\, 539 Broad Street\, Hartford\, CT\, 06106\, United States
CATEGORIES:Belting B*tches,Drag Brunches,Pink Eggs & Glam Drag Brunch
ATTACH;FMTTYPE=image/jpeg:https://skycasper.com/wp-content/uploads/2025/10/06b783adc2b95f042d24546a7c1f6a7b-k76jtl.tmp_.jpg
END:VEVENT
END:VCALENDAR