BEGIN:VCALENDAR
VERSION:2.0
PRODID:-//Sky Casper Entertainment - ECPv6.15.20//NONSGML v1.0//EN
CALSCALE:GREGORIAN
METHOD:PUBLISH
X-WR-CALNAME:Sky Casper Entertainment
X-ORIGINAL-URL:https://skycasper.com
X-WR-CALDESC:Events for Sky Casper Entertainment
REFRESH-INTERVAL;VALUE=DURATION:PT1H
X-Robots-Tag:noindex
X-PUBLISHED-TTL:PT1H
BEGIN:VTIMEZONE
TZID:America/New_York
BEGIN:DAYLIGHT
TZOFFSETFROM:-0500
TZOFFSETTO:-0400
TZNAME:EDT
DTSTART:20220313T070000
END:DAYLIGHT
BEGIN:STANDARD
TZOFFSETFROM:-0400
TZOFFSETTO:-0500
TZNAME:EST
DTSTART:20221106T060000
END:STANDARD
BEGIN:DAYLIGHT
TZOFFSETFROM:-0500
TZOFFSETTO:-0400
TZNAME:EDT
DTSTART:20230312T070000
END:DAYLIGHT
BEGIN:STANDARD
TZOFFSETFROM:-0400
TZOFFSETTO:-0500
TZNAME:EST
DTSTART:20231105T060000
END:STANDARD
BEGIN:DAYLIGHT
TZOFFSETFROM:-0500
TZOFFSETTO:-0400
TZNAME:EDT
DTSTART:20240310T070000
END:DAYLIGHT
BEGIN:STANDARD
TZOFFSETFROM:-0400
TZOFFSETTO:-0500
TZNAME:EST
DTSTART:20241103T060000
END:STANDARD
END:VTIMEZONE
BEGIN:VEVENT
DTSTART;TZID=America/New_York:20230616T190000
DTEND;TZID=America/New_York:20230616T213000
DTSTAMP:20260425T192943
CREATED:20230531T174953Z
LAST-MODIFIED:20230531T182215Z
UID:10000175-1686942000-1686951000@skycasper.com
SUMMARY:Laugh With Pride w/ Julia Scotti from America's Got Talent (West Hartford Pride)
DESCRIPTION:West Hartford Pride & Sky Casper Entertainment present our annual Laugh With Pride – join us for a night of laughter featuring LGBTQ+ comedians from all walks of life\, and from around the country! We have the hilarious Griffin Leeds (NYC)\, Sureni Weerasekera (SF)\, AND headliner Julia Scotti from America’s Got Talent joining us for a great night!! Grab some friends and join us at New Park Brewing in West Hartford. There will be a full cash bar available! \nDoors open at 7 pm\, Showtime at 8 pm\, ending around 9:30 pm. \nMake sure to grab a ticket at the website link below\, or search www.givebutter.com/Laugh – we always sell out so don’t wait to grab your seats. \nHope to see you there!
URL:https://skycasper.com/event/laugh-with-pride-w-west-hartford-pride/
LOCATION:New Park Brewing\, 485 New Park Ave\, West Hartford\, CT\, 06110\, United States
CATEGORIES:LGBTQ+ Comedy,Pride Events
ATTACH;FMTTYPE=image/png:https://skycasper.com/wp-content/uploads/2023/05/SCE-Website-Image2.png
ORGANIZER;CN="Sky Casper Entertainment":MAILTO:sky@skycasper.com
END:VEVENT
END:VCALENDAR