BEGIN:VCALENDAR
VERSION:2.0
PRODID:-//Sky Casper Entertainment - ECPv6.15.20//NONSGML v1.0//EN
CALSCALE:GREGORIAN
METHOD:PUBLISH
X-ORIGINAL-URL:https://skycasper.com
X-WR-CALDESC:Events for Sky Casper Entertainment
REFRESH-INTERVAL;VALUE=DURATION:PT1H
X-Robots-Tag:noindex
X-PUBLISHED-TTL:PT1H
BEGIN:VTIMEZONE
TZID:America/New_York
BEGIN:DAYLIGHT
TZOFFSETFROM:-0500
TZOFFSETTO:-0400
TZNAME:EDT
DTSTART:20220313T070000
END:DAYLIGHT
BEGIN:STANDARD
TZOFFSETFROM:-0400
TZOFFSETTO:-0500
TZNAME:EST
DTSTART:20221106T060000
END:STANDARD
BEGIN:DAYLIGHT
TZOFFSETFROM:-0500
TZOFFSETTO:-0400
TZNAME:EDT
DTSTART:20230312T070000
END:DAYLIGHT
BEGIN:STANDARD
TZOFFSETFROM:-0400
TZOFFSETTO:-0500
TZNAME:EST
DTSTART:20231105T060000
END:STANDARD
BEGIN:DAYLIGHT
TZOFFSETFROM:-0500
TZOFFSETTO:-0400
TZNAME:EDT
DTSTART:20240310T070000
END:DAYLIGHT
BEGIN:STANDARD
TZOFFSETFROM:-0400
TZOFFSETTO:-0500
TZNAME:EST
DTSTART:20241103T060000
END:STANDARD
END:VTIMEZONE
BEGIN:VEVENT
DTSTART;TZID=America/New_York:20230616T190000
DTEND;TZID=America/New_York:20230616T213000
DTSTAMP:20260425T165600
CREATED:20230531T174953Z
LAST-MODIFIED:20230531T182215Z
UID:10000175-1686942000-1686951000@skycasper.com
SUMMARY:Laugh With Pride w/ Julia Scotti from America's Got Talent (West Hartford Pride)
DESCRIPTION:West Hartford Pride & Sky Casper Entertainment present our annual Laugh With Pride – join us for a night of laughter featuring LGBTQ+ comedians from all walks of life\, and from around the country! We have the hilarious Griffin Leeds (NYC)\, Sureni Weerasekera (SF)\, AND headliner Julia Scotti from America’s Got Talent joining us for a great night!! Grab some friends and join us at New Park Brewing in West Hartford. There will be a full cash bar available! \nDoors open at 7 pm\, Showtime at 8 pm\, ending around 9:30 pm. \nMake sure to grab a ticket at the website link below\, or search www.givebutter.com/Laugh – we always sell out so don’t wait to grab your seats. \nHope to see you there!
URL:https://skycasper.com/event/laugh-with-pride-w-west-hartford-pride/
LOCATION:New Park Brewing\, 485 New Park Ave\, West Hartford\, CT\, 06110\, United States
CATEGORIES:LGBTQ+ Comedy,Pride Events
ATTACH;FMTTYPE=image/png:https://skycasper.com/wp-content/uploads/2023/05/SCE-Website-Image2.png
ORGANIZER;CN="Sky Casper Entertainment":MAILTO:sky@skycasper.com
END:VEVENT
BEGIN:VEVENT
DTSTART;TZID=America/New_York:20230624T120000
DTEND;TZID=America/New_York:20230624T180000
DTSTAMP:20260425T165600
CREATED:20230621T180949Z
LAST-MODIFIED:20230623T005629Z
UID:10000177-1687608000-1687629600@skycasper.com
SUMMARY:West Hartford Pride
DESCRIPTION:West Hartford Pride & Sky Casper Entertainment have put together a 6-hour lineup of free entertainment for pride! Come enjoy vendors\, food trucks\, kids activities\, with performances by LGBTQ+ musicians and drag artists of all kinds\, and hosted by local drag superstar Loosey LaDuca from RuPaul’s Drag Race. Beginning at 6 pm\, we will be having a fabulous dance party at the stage. It will be the biggest West Hartford Pride event ever! Check out the lineup below: \nSister Funk (12:20 – 1 pm) \nMia E Z’Lay \nKenya Mone Heart \nCrystal Starz \nXiomarie LaBeija\, Harmony The Valkyrie\, Jehloni & Sapphire Bills \nLoosey LaDuca \nZoe Lewis (1:35 – 2:15 pm) \nAstra \nNatalia Fierce \nRozz Aura \nMoxie Angel \nLoosey LaDuca \nBrian Falduto (2:50 – 3:30 pm) \nBleach \nDestiny Nations Royal \nEthel DeLuxe \nEnigma Jones \nJ.Santino (4:05 – 4:45 pm) \nGiri Spades \nMidnight \nLady Tatiana \nZella \nCarrie Ashton (5:20 – 6:00 pm)
URL:https://skycasper.com/event/west-hartford-pride/
LOCATION:West Hartford Town Hall\, 50 S Main Street\, West Hartford\, CT\, 06107\, United States
CATEGORIES:Drag Brunches,Pride Events
ATTACH;FMTTYPE=image/png:https://skycasper.com/wp-content/uploads/2023/06/West-Hartford-Pride.png
ORGANIZER;CN="Sky Casper Entertainment":MAILTO:sky@skycasper.com
END:VEVENT
BEGIN:VEVENT
DTSTART;TZID=America/New_York:20230624T190000
DTEND;TZID=America/New_York:20230624T213000
DTSTAMP:20260425T165600
CREATED:20230621T173945Z
LAST-MODIFIED:20230623T005804Z
UID:10000176-1687633200-1687642200@skycasper.com
SUMMARY:Cocktails & Queens @ Mohegan Sun
DESCRIPTION:The divas have arrived! Join Mohegan Sun for a Pride-filled night\, featuring Sky Casper Entertainment’s finest drag superstars. Kenya Mone Heart will be hosting\, and there will be performances by headliners Pangina Heals & Robin Fierce from RuPaul’s Drag Race\, alongside local drag icons Angelina Fierce\, Dro Lopez\, Moxie Angel\, Natalia Fierce\, Rozz Aura\, Vypra Aura\, and Xiomara Amour. There will be a never-before-seen group performance by both the haus of Fierce & haus of Aura AND solo performances by the entire cast. \nDoors open at 7 pm\, and showtime at 8 pm! Grab a ticket at the “website” below\, just scroll on down. Tickets are $40 each. \nDon’t want your night to end? Show your Cocktails & Queens ticket at the door of Avalon to skip the line and pay no cover! Guests must be 21 and over to attend.
URL:https://skycasper.com/event/cocktails-queens-mohegan-sun/
LOCATION:Mohegan Sun Cabaret\, 1 Mohegan Sun Blvd\, Uncasville\, CT\, 06382
CATEGORIES:Drag Brunches,Pangina Heals,Pride Events
ATTACH;FMTTYPE=image/png:https://skycasper.com/wp-content/uploads/2023/06/Mohegan-Pride.png
ORGANIZER;CN="Sky Casper Entertainment":MAILTO:sky@skycasper.com
END:VEVENT
END:VCALENDAR