BEGIN:VCALENDAR
VERSION:2.0
PRODID:-//Sky Casper Entertainment - ECPv6.15.20//NONSGML v1.0//EN
CALSCALE:GREGORIAN
METHOD:PUBLISH
X-WR-CALNAME:Sky Casper Entertainment
X-ORIGINAL-URL:https://skycasper.com
X-WR-CALDESC:Events for Sky Casper Entertainment
REFRESH-INTERVAL;VALUE=DURATION:PT1H
X-Robots-Tag:noindex
X-PUBLISHED-TTL:PT1H
BEGIN:VTIMEZONE
TZID:America/New_York
BEGIN:DAYLIGHT
TZOFFSETFROM:-0500
TZOFFSETTO:-0400
TZNAME:EDT
DTSTART:20240310T070000
END:DAYLIGHT
BEGIN:STANDARD
TZOFFSETFROM:-0400
TZOFFSETTO:-0500
TZNAME:EST
DTSTART:20241103T060000
END:STANDARD
BEGIN:DAYLIGHT
TZOFFSETFROM:-0500
TZOFFSETTO:-0400
TZNAME:EDT
DTSTART:20250309T070000
END:DAYLIGHT
BEGIN:STANDARD
TZOFFSETFROM:-0400
TZOFFSETTO:-0500
TZNAME:EST
DTSTART:20251102T060000
END:STANDARD
BEGIN:DAYLIGHT
TZOFFSETFROM:-0500
TZOFFSETTO:-0400
TZNAME:EDT
DTSTART:20260308T070000
END:DAYLIGHT
BEGIN:STANDARD
TZOFFSETFROM:-0400
TZOFFSETTO:-0500
TZNAME:EST
DTSTART:20261101T060000
END:STANDARD
BEGIN:DAYLIGHT
TZOFFSETFROM:-0500
TZOFFSETTO:-0400
TZNAME:EDT
DTSTART:20270314T070000
END:DAYLIGHT
BEGIN:STANDARD
TZOFFSETFROM:-0400
TZOFFSETTO:-0500
TZNAME:EST
DTSTART:20271107T060000
END:STANDARD
END:VTIMEZONE
BEGIN:VEVENT
DTSTART;TZID=America/New_York:20250621T103000
DTEND;TZID=America/New_York:20250621T180000
DTSTAMP:20260424T105117
CREATED:20250529T012423Z
LAST-MODIFIED:20250621T122449Z
UID:10000240-1750501800-1750528800@skycasper.com
SUMMARY:West Hartford Pride Festival
DESCRIPTION:Pride is more important than ever! West Hartford Pride is here to #StandOurGround with you on June 21\, 2025. Rally to kick off festival at 10:30 am. Over one hundred vendors\, 5 hours of live entertainment\, including 25 drag performers\, food trucks\, family fun\, and something for everyone. Entertainment starts at Noon! You’ll see Sky running around\, so make sure to say hello 🙂 \nStarting at Noon:\nHeidi N Closet Performance & Greeting\nAngel Rivers\, Enigma Jones\, Ethel De Luxe\, Kiki Lucia\, Mz. Clementine KuLayd\nCarrie Ashton\nSparkle Diamond\, Dom Parinyon\, Kenya Mone Heart\, Ryder Die\, Midnight\nPride 365\nFelicity V. Lay\, Frizzie Borden\, Malaya Love Nations\, Lexxi Pro\, Jehloni\nSister Funk\nNatalia Fierce\, Dro Lopez-Fierce\, Lady Tatiana\, Judah\, Harmony The Valkyrie\nHeidi N Closet Performance & Crowdwork \nOnixx Aura\, Ivanna\, Moxie Angel\, Auntie Lu\nDance Party till 6pm
URL:https://skycasper.com/event/west-hartford-pride-festival-2/
LOCATION:50 S Main St\, 50 South Main Street\, West Hartford\, CT\, 06107\, United States
CATEGORIES:Pride Events,Queer Events
ATTACH;FMTTYPE=image/jpeg:https://skycasper.com/wp-content/uploads/2025/05/f1038e19dc10c0b13b801310d0471f85-HerwJa.tmp_.jpg
END:VEVENT
BEGIN:VEVENT
DTSTART;TZID=America/New_York:20250622T180000
DTEND;TZID=America/New_York:20250622T210000
DTSTAMP:20260424T105117
CREATED:20250611T160257Z
LAST-MODIFIED:20250611T160257Z
UID:10000244-1750615200-1750626000@skycasper.com
SUMMARY:Fête en Blanc w/ Westport Pride
DESCRIPTION:Join us for an unforgettable summer night at Fête en Blanc! \n\nAn all-white attire fundraiser celebrating community\, culture\, and compassion\, hosted by Westport Pride and the Westport Museum for History & Culture.\n\n Music & dancing under the stars\n Cocktails & mocktails\n Latin-inspired bites from a local food truck\n Raffles\, auctions & good vibes\n Proceeds support The Circle Care Center’s HIV treatment & prevention work\n\nThis event honors the legacy of white parties in the LGBTQ+ community\, born in the ‘80s & ‘90s as powerful fundraisers for HIV/AIDS awareness. Let’s celebrate with purpose\, pride\, and style.\n\n Dress in your best white\n Westport Museum of History and Culture | June 22 | 6-9 PM\n Grab your tickets before we’re sold out: https://westporthistory.org/event/fete-en-blanc/
URL:https://skycasper.com/event/fete-en-blanc-westport-pride-fundraiser/
LOCATION:Westport Museum of History and Culture\, 25 Avery Place\, Westport\, 06880\, United States
CATEGORIES:Pride Events,Queer Events
ATTACH;FMTTYPE=image/jpeg:https://skycasper.com/wp-content/uploads/2025/06/Westport-Pride-Celebration-Trifold-Brochure.jpeg
END:VEVENT
BEGIN:VEVENT
DTSTART;TZID=America/New_York:20250629T110000
DTEND;TZID=America/New_York:20250629T163000
DTSTAMP:20260424T105117
CREATED:20250512T060423Z
LAST-MODIFIED:20250519T033424Z
UID:10000239-1751194800-1751214600@skycasper.com
SUMMARY:Pink Eggs & Glam Drag Brunch Pride w/ Wesley (New London\, CT)
DESCRIPTION:Join us for Connecticut’s longest-running big-city drag brunch experience – live vocals\, comedy\, chaos\, and more! \nIndulge in an unforgettable experience of live singing and side-splitting comedy at our monthly Pink Eggs & Glam Drag Brunch\, presented by Sky Casper Entertainment and The Social Bar + Kitchen. This event showcases a lineup of the world’s most talented drag superstars\, delivering captivating performances that will mesmerize you! \nOur #PinkEggsAndGlam event is a must-attend for anyone seeking a fabulous brunch experience paired with unbeatable live entertainment. Prepare for a phenomenal time that promises to be unforgettable! \nGet ready to be blown away by Wesley\, a dazzling force lighting up the New York City drag scene! This powerhouse vocalist and hilarious diva is making a major splash in cabaret and nightlife\, captivating audiences with incredible pipes and electrifying energy. Wesley commands the stage\, belting out anthems from pop icons like Gaga\, Beyoncé\, and Ariana with a power that will leave you breathless. Not just a voice\, Wesley brings the heat with killer dance moves and jaw-dropping splits\, proving she’s a true triple threat. A rising star with undeniable charisma and stunning looks\, Wesley is a must-see talent you won’t want to miss. \nSeating Times: 11 AM & 2 PM Showtimes: 12 PM & 3 PM \nTICKETS: $20 in advance\, $25 at the door. Ages 14+\, please! Food and beverages are sold separately at the venue. \nDon’t forget to grab your Pink Eggs & Glam Drag Brunch T-shirt at the event! We’ll have Sharpies available so you can collect autographs from your favorite drag performers. \nWe have so much more in store! Check out our upcoming lineup and sign up for event updates at SkyCasper.com/events. \n#LiveSingingDrag
URL:https://skycasper.com/event/pink-eggs-glam-drag-brunch-pride-new-london-ct/
LOCATION:The Social Bar + Kitchen\, 208 Bank Street\, New London\, CT\, 06320\, United States
CATEGORIES:Drag Brunches,Pink Eggs & Glam Drag Brunch,Pride Events
ATTACH;FMTTYPE=image/jpeg:https://skycasper.com/wp-content/uploads/2025/05/c9df4bf6b5b3789c29abe8b378a0a6b0-9xmH2l.tmp_.jpg
END:VEVENT
BEGIN:VEVENT
DTSTART;TZID=America/New_York:20250822T210000
DTEND;TZID=America/New_York:20250823T020000
DTSTAMP:20260424T105117
CREATED:20250815T173358Z
LAST-MODIFIED:20250822T152902Z
UID:10000250-1755896400-1755914400@skycasper.com
SUMMARY:GAME OVAH!! Queer Night @ Spare Time
DESCRIPTION:Get OVAH yourself with Sky Casper Entertainment and Spare Time’s queer-only night of games\, shows\, and beats! Will you bowl a strike or spend the evening in the gutter with unlimited bowling? Will someone tag that ass with unlimited laser tag? Of course\, we’ll keep things fierce and fab with beats and an amazing drag show. Spare Time also has a full gaming arcade\, so it’s gonna be on like Donkey Kong up in this b*tch. Drinks and food will be available for purchase. \nTickets are more limited than Sky’s bowling ability\, so don’t wait! $25 in advance/$30 cash at the door. This event is for 18+ and it will be from 9 pm to 2 am. Drag show at 11 pm. Last call for food is at 11:15 pm. Please note that there will be no entry/reentry after 12:30 am. Inviting those in the LGBTQ+ community is welcome 🙂 \nCan’t make it? Make sure to sign up for queer event updates at www.skycasper.com/events
URL:https://skycasper.com/event/game-ovah-queer-lgbtq-night-spare-time/
LOCATION:Spare Time Windsor Locks\, 129 Ella Grasso Turnpike\, Windsor Locks\, CT\, 06096\, United States
CATEGORIES:Pride Events,Queer Events
ATTACH;FMTTYPE=image/jpeg:https://skycasper.com/wp-content/uploads/2025/08/977751a6a5e905bf9f74f5ef5bac0a90-UAkvob.tmp_.jpg
END:VEVENT
BEGIN:VEVENT
DTSTART;TZID=America/New_York:20250914T110000
DTEND;TZID=America/New_York:20250914T163000
DTSTAMP:20260424T105117
CREATED:20250816T230639Z
LAST-MODIFIED:20250820T211252Z
UID:10000251-1757847600-1757867400@skycasper.com
SUMMARY:Pink Eggs & Glam Hartford Pride Drag Brunch w/ Loosey LaDuca (Hartford\, CT)
DESCRIPTION:Close out Hartford Pride weekend with Connecticut’s longest-running big-city drag brunch experience – live vocals\, comedy\, chaos\, and more! \nIndulge in an unforgettable experience of live singing and hilarious comedy with the debut of our outrageous Pink Eggs & Glam Drag Brunch at Fire by Forge! Our events feature a lineup of the world’s most talented drag superstars\, promising an entertaining and captivating performance that will leave you mesmerized. Our #PinkEggsAndGlam event is a must-attend for enthusiasts seeking an exhilarating brunch experience with unbeatable live entertainment. Join us for a phenomenal time that is guaranteed to be unforgettable! \nWe’re rolling out the red carpet for local drag icon and RuPaul’s Drag Race star\, Loosey LaDuca! Known for her quick wit and comedic timing\, Loosey made a lasting impression on Season 15 of Drag Race\, winning the iconic Snatch Game with her unforgettable Joan Rivers impersonation. With her sharp humor\, impressive vocal skills\, and electrifying stage presence\, Loosey’s return to the brunch stage is sure to be a showstopper! \nSeating Times: 11 AM & 2 PM\, Showtimes: 12 & 3 PM \nTICKETS: $30 in advance\, or $40 at the door. AGES 14+ PLEASE 🙂 \nFood and beverages are sold separately at the venue. \nPink Eggs & Glam Drag Brunch T-Shirts are available at the event – Sharpies are available so you can collect your favorite drag performers’ autographs on your merchandise! \nWe’ve got so much coming up! Check out our lineup\, and make sure to sign up for event updates at SkyCasper.com/events \n#LiveSingingDrag
URL:https://skycasper.com/event/hartford-pride-drag-brunch-loosey-laduca/
LOCATION:Fire by Forge\, 539 Broad Street\, Hartford\, CT\, 06106\, United States
CATEGORIES:Belting B*tches,Drag Brunches,Pink Eggs & Glam Drag Brunch,Pride Events
ATTACH;FMTTYPE=image/jpeg:https://skycasper.com/wp-content/uploads/2025/08/50d75ca8cd744e42ff3609693025c153-eEpXLV.tmp_.jpg
END:VEVENT
BEGIN:VEVENT
DTSTART;TZID=America/New_York:20250927T190000
DTEND;TZID=America/New_York:20250928T000000
DTSTAMP:20260424T105117
CREATED:20250904T161717Z
LAST-MODIFIED:20250909T184603Z
UID:10000256-1758999600-1759017600@skycasper.com
SUMMARY:HEATWAVE: End of Summer Queer Extravaganza
DESCRIPTION:Join Sky Casper Entertainment and West Hartford Pride for the ULTIMATE LGBTQ+ End of Summer Party: HEATWAVE!\n\n\nHEATWAVE: The Ultimate End of Summer Queer Extravaganza 🔥 \nWe may not have had the West Hartford Pride afterparty of our dreams this year\, but Sky Casper Entertainment and West Hartford Pride have come together for our very first HEATWAVE\, and it’s not to be missed! Get ready for an unforgettable night with two private rooms\, three bars\, a public outdoor patio\, new DJs\, and fresh performers! \nWhere: New Park Brewing\, 485 New Park Avenue\, West Hartford\, CT \nWhen: Saturday\, September 27th \nTime: 7 PM – 12 AM \nCover: $10 in advance / $15 at the door \nAges: 21+ \nThe Vibes \n7 PM: HAPPY HOUR \nStart the night right with drink specials\, socializing\, and chill lounge vibes. \n8 PM: GIRLIE POP ERA \nRoom 1 | DJ Meat aka Rory Roux Lay is spinning all your favorite girlie pop hits from Chappel Roan\, Lady Gaga\, Tate McRae\, Charli XCX\, MARINA\, Sabrina Carpenter\, and more! And of course\, hype girlies keeping the energy going! \n8 PM: THE FUNCTION MINI BALL \nRoom 2 | BALL AT 9 PM SHARP! Get ready for an EPIC night. Emcee Xiomarie LaBeija\, calling out the categories and serving as always. Categories include OTA Face\, OTA Runway\, OTA Twerk\, and OTA Performance\, with a panel of stars\, Lucky Talfar\, Rodd Juicy\, and Valentina Mulan! Come and win a $100 grand prize in each category! DJ EZ Banks will be serving us Hip Hop\, Vogue\, Pop & R&B beats until 10 PM! \n10 PM: HEATED HOUSE \nRoom 1 | Baby\, this is THE house music party! DJ AR & Zayn Maddox\, who will be playing you all the high-energy\, diva house\, and electric house beats. Get ready to DANCE! \n10 PM: BAILE CALIENTE \nRoom 2 | Drag Icons Destiny Nations Royal\, Lady Tatiana & Natalia Fierce hit the stage at 10 PM SHARP! Get ready for an EPIC Latin party with rising-star DJ Concón\, who will be bringing you all the Merengue\, Bachata\, Dembow\, Salsa\, and Latin hits you can handle! \n \nThis is an inclusive LGBTQ+ space where everyone feels welcome and valued. From vibrant dance floors to unique community gatherings\, we’re committed to providing a diverse and ever-changing environment. Come and experience a night filled with love\, acceptance\, and a true queer dance party that is much needed! Get ready to dance the night away! \nWant to receive future event updates from Sky Casper Entertainment? Sign up at SkyCasper.com/events
URL:https://skycasper.com/event/summer-queer-party-west-hartford-pride-casper/
LOCATION:New Park Brewing\, 485 New Park Ave\, West Hartford\, CT\, 06110\, United States
CATEGORIES:Pride Events,Queer Events
ATTACH;FMTTYPE=image/jpeg:https://skycasper.com/wp-content/uploads/2025/09/3a4ac8935171ad094062d78f82b31b55-i2Pts0.tmp_.jpg
END:VEVENT
BEGIN:VEVENT
DTSTART;TZID=America/New_York:20251126T190000
DTEND;TZID=America/New_York:20251127T000000
DTSTAMP:20260424T105117
CREATED:20251103T163622Z
LAST-MODIFIED:20251120T161539Z
UID:10000259-1764183600-1764201600@skycasper.com
SUMMARY:THANKSLIVING EVE: Big Queer White Party
DESCRIPTION:THANKSLIVING EVE: The Ultimate Thanksgiving Eve Queer Party \nSky Casper Entertainment and West Hartford Pride are teaming up for the very first THANKSLIVING EVE – and it’s not one to miss! Two private rooms\, three bars\, a public outdoor patio\, new DJs\, 4Ever Vintage\, and fresh performers are all coming together for a night you’ll be thankful for! DRESS CODE: White \nWhere: New Park Brewing\, 485 New Park Avenue\, West Hartford \nWhen: Wednesday\, November 26th \nTime: 7 PM – 12 AM \nCover: $10 in advance / $15 at the door \nAges: 21+ \n  \nTHE VIBES \n7-8PM: HAPPY HOUR & DRAG SHOW \nEase into the night with drink specials\, chill lounge vibes\, and a 7:30PM star-studded drag show hosted by Kenya Mone Heart\, with performances by Angel Rivers\, Harmony The Valkyrie\, Malaya Love Nations\, and Xiomarie LaBeija! \n8-10PM: GROOVE GARDEN \nRoom 1 | DJ AR brings the funk\, disco\, and feel-good grooves. Expect nothing but good vibes and moving feet! \n8-10PM: THE FUNCTION MINI BALL \nRoom 2 | BALL AT 9 PM SHARP! Emcee Xiomarie LaBeija will announce the categories and keep the energy high! Categories: OTA Face\, OTA Runway\, OTA Twerk\, and OTA Performance. Judges: Johnny Lavoy Nations\, Logik Louboutin\, and Rodd Juicy. Each category is accompanied by a $100 grand prize! DJ Edgewood will be serving vogue\, hip hop\, pop\, and R&B! \n10-12AM: HOUSE HEAVEN \nRoom 1 | Our last House Room felt like a Berlin nightclub – and we’re doing it again! Crowd favorite Zayn Maddox returns with high-energy diva house\, electric house\, and Latin house beats. You’d better be ready to DANCE. \n10-12AM: RITMO LATINO \nRoom 2 | Drag icons Destiny Nations Royal\, Lady Tatiana\, and Reyna Alize Nations hit the stage at 10:10PM SHARP! Then\, rising-star Lil Colibrí keeps the energy up with merengue\, bachata\, dembow\, salsa\, and all the Latin hits you can handle! \n  \nThis is an inclusive LGBTQ+ event where everyone is welcome and celebrated. From vibrant dance floors to meaningful community connections\, we’re building spaces that are diverse\, dynamic\, and full of love. Let’s dance the night away and give thanks for queer joy\, community\, and connection. \n✨ Want updates on future events? Sign up at SkyCasper.com/events
URL:https://skycasper.com/event/thanksliving-eve-queer-white-party-sky-casper/
LOCATION:New Park Brewing\, 485 New Park Ave\, West Hartford\, CT\, 06110\, United States
CATEGORIES:Pride Events,Queer Events
ATTACH;FMTTYPE=image/png:https://skycasper.com/wp-content/uploads/2025/11/67483c808f9462031557a1da4c916fd6-TxEkmm.tmp_.png
END:VEVENT
BEGIN:VEVENT
DTSTART;TZID=America/New_York:20260214T170000
DTEND;TZID=America/New_York:20260214T190000
DTSTAMP:20260424T105117
CREATED:20260202T220326Z
LAST-MODIFIED:20260206T025242Z
UID:10000265-1771088400-1771095600@skycasper.com
SUMMARY:U-Haul Heartthrobs Queer Women's Dating Show
DESCRIPTION:U-Haul Heartthrobs: A Valentine’s Comedy Dating Show for Queer Women \nReady to find your next crush IRL instead of on an app? U-Haul Heartthrobs is a live\, queer dating show packed with comedy\, connection\, and just the right amount of sapphic chaos. \nHosted by New York City comedian Bridget Foley\, this Valentine’s edition brings together queer women and the queer-aligned cuties who love them for a hilarious night of banter\, blind dates\, and maybe even a match (or a situationship). \nHere’s what to expect: \n\nThe Warm-Up: Bridget kicks off the night with some fun\, flirty crowd banter to get everyone laughing – and maybe revealing a few crush-worthy details.\nBlindfolded Dates: A few brave volunteers take the stage for playful blindfolded matchmaking\, guided by our hosts. You’ll get to watch the sparks (or splinters) fly as matches answer cheeky questions and test their chemistry live.\nAudience Matchmaking: Not blindfolded? Don’t worry – there’s still a chance to join the fun. Audience members looking to mingle can raise their hands to be part of a lighthearted round of live matchmaking where the hosts play queer Cupid\, bringing potential couples up to the stage to see if their vibes align.\nSpontaneous Surprises: If a match doesn’t quite land or sparks fly unexpectedly elsewhere\, the hosts might mix and match on the spot for some hilarious and maybe even romantic twists.\n\nIt’s part comedy show\, part dating experiment\, and all queer joy. Whether you’re there to meet someone or just to watch the queerest U-Haul jokes fly\, you’ll leave smiling (and possibly exchanging numbers). \nWant to be blindfolded? Apply here for a chance to be part of the onstage dating fun:\nhttps://docs.google.com/forms/d/e/1FAIpQLSee684W-XenROz8edVG_xKmYLzl2I_PHPYpHdb3hmGBCt1YDg/viewform?usp=dialog \nWhere: New Park Brewing\, West Hartford – cozy taproom vibes\, great brews\, and plenty of queer eye contact from across the room.\nWhen: February 14\, 2026 · 5-7 PM (doors at 5:00\, show at 5:30).\nWhy: Real queer connections\, big laughs\, and some unhinged Valentine’s energy – because we all know lesbians move fast\, but tonight we’re at least making it funny. \nSeats are limited\, so grab your tickets and maybe your next date\, too. ♥
URL:https://skycasper.com/event/u-haul-heartthrobs-queer-womens-dating-show/
LOCATION:New Park Brewing\, 485 New Park Ave\, West Hartford\, CT\, 06110\, United States
CATEGORIES:LGBTQ+ Comedy,Pride Events,Queer Events
ATTACH;FMTTYPE=image/jpeg:https://skycasper.com/wp-content/uploads/2026/02/210c7339bf3434e333d53b7a9fdce70c-Vyvb7s.tmp_.jpg
END:VEVENT
BEGIN:VEVENT
DTSTART;TZID=America/New_York:20260214T200000
DTEND;TZID=America/New_York:20260214T220000
DTSTAMP:20260424T105117
CREATED:20260203T023207Z
LAST-MODIFIED:20260210T015719Z
UID:10000266-1771099200-1771106400@skycasper.com
SUMMARY:Pre-Heated Rivalry Queer Men's Comedy Dating Show
DESCRIPTION:Get ready for a hilarious night of comedy and connection with the Pre-Heated Rivalry Queer Men’s Comedy Dating Show!\n\n\nPre-Heated Rivalry is a live queer men’s comedy dating show where blind dates\, bold questions\, and unhinged fun collide in one Valentine’s night of banter and connection. Hosted by drag queen Loosey LaDuca\, the show is half improv\, half genuinely helping men who like men meet each other in real life instead of just swiping. \nThink of it as a playful pre-game to the world of Heated Rivalry: less hockey\, more flirting\, and a room full of people who might just be your next boyfriend\, fling\, or rivalry-turned-romance. \nWhat the night looks like: \n\nThe Warm-Up: Loosey kicks things off with about ten minutes of crowd work and banter\, getting to know who’s in the room and building some inside jokes and references to call back to throughout the show.\nBlindfolded Dates: A small number of pre-selected participants head to the stage for blindfolded matchmaking. Loosey guides them through cheeky questions and playful prompts while the audience watches the tension\, chemistry\, or chaos unfold in real time.\nAudience Matchmaking: Not on a blindfolded date? You can still get in on the action. Audience members who are open to meeting someone can raise their hands as Loosey scouts for promising bachelors\, chats with them\, and pulls a few up for live\, on-stage matchmaking. Questions are asked\, potential matches are chosen\, and you’ll see if any sparks catch fire under the lights.\nSpicy Twists: If a date clearly isn’t landing or there’s obvious interest from someone offstage\, Loosey may shake things up by swapping partners or inviting a new person into the mix\, keeping things fun\, flirty\, and full of surprises.\n\nIt’s part comedy show\, part dating experiment: you can come to find a crush\, cheer on the chaos\, or just enjoy watching queer men shoot their shot with a drag queen running interference. \nWant to be blindfolded?\nOnly a handful of people will be chosen for the blindfolded dates\, so if you want a shot at being on stage\, apply here for a chance to be part of the matchmaking:\nApply for blindfolded dates: https://docs.google.com/forms/d/e/1FAIpQLSee684W-XenROz8edVG_xKmYLzl2I_PHPYpHdb3hmGBCt1YDg/viewform?usp=dialog \nWhere: New Park Brewing\, West Hartford – cozy taproom vibes\, excellent beer but we’ve got a full bar\, and plenty of room to make eye contact (or avoid it) across the room. \nWhen: February 14\, 2026: 8–10 pm (doors at 8:00\, show at 8:30). \nWhy: Queer joy\, real-life connections\, and unhinged Loosey commentary in a room full of men who get it. \nSeats are limited\, so invite some friends\, grab your tickets\, and come see if your next Heated Rivalry starts here.
URL:https://skycasper.com/event/heated-rivalry-gay-mens-comedy-dating-show/
LOCATION:New Park Brewing\, 485 New Park Ave\, West Hartford\, CT\, 06110\, United States
CATEGORIES:LGBTQ+ Comedy,Pride Events,Queer Events
ATTACH;FMTTYPE=image/jpeg:https://skycasper.com/wp-content/uploads/2026/02/5b299d491f9aecf20e5c0657c85ce57f-s3vfdt.tmp_.jpg
END:VEVENT
BEGIN:VEVENT
DTSTART;TZID=America/New_York:20260424T203000
DTEND;TZID=America/New_York:20260425T020000
DTSTAMP:20260424T105117
CREATED:20260407T165942Z
LAST-MODIFIED:20260409T161518Z
UID:10000271-1777062600-1777082400@skycasper.com
SUMMARY:Sky Casper's Birthday w/ Heidi N Closet & Miz Cracker
DESCRIPTION:How old is Sky turning?!? The world may never know. Join us for a star-studded lineup\, honestly just to celebrate life.\n\n\nYou’re officially invited to my “we’re not talking about age” birthday celebration in New Britain – with TWO RuPaul’s Drag Race powerhouses coming to celebrate. \nHeidi N Closet\, Season 12’s Miss Congeniality and All Stars 8 sweetheart\, is bringing her quick wit\, authenticity\, and Southern charm\, and Miz Cracker\, the whip‑smart New York comedy queen and All Stars finalist\, delivers her signature sharp humor and polished performance – and it’s her birthday week too!! \nHeidi was last year’s West Hartford Pride headliner\, and we’re thrilled to have her back in CT to celebrate my birthday with Miz Cracker – both of them ready to kiki\, cut up\, and clown with you all night. It’s also Miz Cracker’s birthday week! \nHosted by Destiny Nations Royal\, with performances by local icons Angel Rivers and Xiomarie LaBeija\, plus JoeyStache serving beats all night. This is a full evening: Iconic drag shows\, dancing\, photos\, and maybe a few birthday secrets spilled. \n\nLocation – PD Club\, 89 Grove Street\, New Britain\, CT\n8:30 pm – VIP Meet & Greet entry\n9:00 pm – VIP Meet & Greet with Heidi N Closet & Miz Cracker\n9:30 pm – General Admission entry\n10:30 pm – First show\n11:30 pm – Second show\nDance party until 2:00 am\n\nTickets: $25 GA / $40 VIP. Capacity is limited\, and this will sell out quickly\, so secure your spot early. There’s a 75-car lot attached\, but we recommend carpooling or Uber so you can fully enjoy the night. Step & repeat will be up – dress up\, dress queer\, and let’s have an incredible night. \nJust a warning: This event will be filmed to document Sky Casper’s __ birthday! \nCan’t make it? Sign up for future queer parties\, shows\, bowling/laser tag\, beach days\, socials\, pride festivals\, and other community event updates at SkyCasper.com/events
URL:https://skycasper.com/event/sky-caspers-birthday-rupauls-drag-race/
LOCATION:PD Club\, 89 Grove Street\, New Britain\, CT\, 06053\, United States
CATEGORIES:Pride Events,Queer Events
ATTACH;FMTTYPE=image/jpeg:https://skycasper.com/wp-content/uploads/2026/04/ddf753cf79a011af6983ee0b0f39fe4e-vRKCWg.tmp_.jpg
END:VEVENT
END:VCALENDAR