BEGIN:VCALENDAR
VERSION:2.0
PRODID:-//Sky Casper Entertainment - ECPv6.15.20//NONSGML v1.0//EN
CALSCALE:GREGORIAN
METHOD:PUBLISH
X-ORIGINAL-URL:https://skycasper.com
X-WR-CALDESC:Events for Sky Casper Entertainment
REFRESH-INTERVAL;VALUE=DURATION:PT1H
X-Robots-Tag:noindex
X-PUBLISHED-TTL:PT1H
BEGIN:VTIMEZONE
TZID:America/New_York
BEGIN:DAYLIGHT
TZOFFSETFROM:-0500
TZOFFSETTO:-0400
TZNAME:EDT
DTSTART:20250309T070000
END:DAYLIGHT
BEGIN:STANDARD
TZOFFSETFROM:-0400
TZOFFSETTO:-0500
TZNAME:EST
DTSTART:20251102T060000
END:STANDARD
BEGIN:DAYLIGHT
TZOFFSETFROM:-0500
TZOFFSETTO:-0400
TZNAME:EDT
DTSTART:20260308T070000
END:DAYLIGHT
BEGIN:STANDARD
TZOFFSETFROM:-0400
TZOFFSETTO:-0500
TZNAME:EST
DTSTART:20261101T060000
END:STANDARD
BEGIN:DAYLIGHT
TZOFFSETFROM:-0500
TZOFFSETTO:-0400
TZNAME:EDT
DTSTART:20270314T070000
END:DAYLIGHT
BEGIN:STANDARD
TZOFFSETFROM:-0400
TZOFFSETTO:-0500
TZNAME:EST
DTSTART:20271107T060000
END:STANDARD
END:VTIMEZONE
BEGIN:VEVENT
DTSTART;TZID=America/New_York:20260524T110000
DTEND;TZID=America/New_York:20260524T163000
DTSTAMP:20260422T072222
CREATED:20260419T051110Z
LAST-MODIFIED:20260420T154222Z
UID:10000272-1779620400-1779640200@skycasper.com
SUMMARY:Pink Eggs & Glam Drag Brunch w/ Jackie Cox (New London\, CT)
DESCRIPTION:An unforgettable live-singing and comedy drag brunch with RuPaul’s Drag Race star Jackie Cox!\n\n\nSky Casper Entertainment is bringing pure camp\, chaos\, and killer vocals to New London with a special edition of our smash-hit drag brunch\, Pink Eggs & Glam – starring RuPaul’s Drag Race icon Jackie Cox. \nGet ready for big hair\, bigger belting\, and that signature Jackie Cox blend of sharp comedy\, theatrical storytelling\, and live-singing. Expect ridiculous banter\, show-stopping numbers\, campy fun\, and interactive moments. It’s the kind of unhinged\, feel-good chaos Pink Eggs & Glam is known for – just with an international drag superstar. \nTWO SHOWS ONLY – this one’s going to move faster than bottomless mimosas\, so grab your brunch crew and plan accordingly.Seating times: 11 AM and 2 PMShowtimes: 12 PM and 3 PMTickets: $30 in advance | $35 at the doorAges: 14+ \nLocation: The Social Bar + Kitchen 208 Bank Street\, New London\, CT \nFood and beverages are sold separately at the venue. \nPink Eggs & Glam T‑shirts will be available for purchase\, and yes\, Jackie and the cast will be ready with Sharpies for autographs and photos. \nSky Casper Entertainment has so much more on the horizon – check out upcoming events and join our mailing list at SkyCasper.com/events.
URL:https://skycasper.com/event/pink-eggs-glam-drag-brunch-w-jackie-cox-new-london-ct-2/
LOCATION:The Social Bar + Kitchen\, 208 Bank Street\, New London\, CT\, 06320\, United States
ATTACH;FMTTYPE=image/jpeg:https://skycasper.com/wp-content/uploads/2026/04/9098a75dba63e0283129df27258f860c-hM6AEc.tmp_.jpg
END:VEVENT
BEGIN:VEVENT
DTSTART;TZID=America/New_York:20260627T120000
DTEND;TZID=America/New_York:20260627T170000
DTSTAMP:20260422T072222
CREATED:20260420T173612Z
LAST-MODIFIED:20260421T015714Z
UID:10000273-1782561600-1782579600@skycasper.com
SUMMARY:West Hartford Pride Festival
DESCRIPTION:Pride is more important than ever! West Hartford Pride is here to #BeLoudBeProud with you on June 27th\, 2026.\n\n\nPride is more important than ever\, and West Hartford Pride is ready to #BeLoudBeProud with you on Saturday\, June 27\, 2026. Join us at West Hartford Town Hall for a full day of queer joy\, community\, and celebration – starting with a Pride Rally at 10:30 am to kick off the festival. \nEnjoy over 100 vendors\, 5 hours of non-stop live entertainment\, and a stacked mainstage featuring co-hosts Natalia Fierce and DJ Edgewood\, plus headliners Alyssa Edwards\, Miss Kelli\, Bentley Robles\, Sister Funk\, New England Pride 365\, and 15 incredible drag performers. Expect drag\, live music\, food trucks\, family activities\, and something for every corner of our community. Entertainment begins at 12:00 pm! \nYou’ll see Sky running around – make sure to say hi if you spot him! \nOur massive West Hartford Pride Afterparty at New Park Brewing is also returning\, with full details dropping soon. Grab your free RSVP now so we can keep you updated on festival highlights\, schedule info\, and the official afterparty announcement. We’ll also keep you up to date on future events\, including queer socials\, drag shows\, parties\, singles events\, comedy shows\, burlesque\, and more!
URL:https://skycasper.com/event/west-hartford-pride-festival-3/
LOCATION:50 S Main St\, 50 South Main Street\, West Hartford\, CT\, 06107\, United States
ATTACH;FMTTYPE=image/jpeg:https://skycasper.com/wp-content/uploads/2026/04/ea5868536d31c80e18497d6f1ee54a73-U9hR7K.tmp_.jpg
END:VEVENT
END:VCALENDAR