BEGIN:VCALENDAR
VERSION:2.0
PRODID:-//Sky Casper Entertainment - ECPv6.15.20//NONSGML v1.0//EN
CALSCALE:GREGORIAN
METHOD:PUBLISH
X-WR-CALNAME:Sky Casper Entertainment
X-ORIGINAL-URL:https://skycasper.com
X-WR-CALDESC:Events for Sky Casper Entertainment
REFRESH-INTERVAL;VALUE=DURATION:PT1H
X-Robots-Tag:noindex
X-PUBLISHED-TTL:PT1H
BEGIN:VTIMEZONE
TZID:America/New_York
BEGIN:DAYLIGHT
TZOFFSETFROM:-0500
TZOFFSETTO:-0400
TZNAME:EDT
DTSTART:20210314T070000
END:DAYLIGHT
BEGIN:STANDARD
TZOFFSETFROM:-0400
TZOFFSETTO:-0500
TZNAME:EST
DTSTART:20211107T060000
END:STANDARD
BEGIN:DAYLIGHT
TZOFFSETFROM:-0500
TZOFFSETTO:-0400
TZNAME:EDT
DTSTART:20220313T070000
END:DAYLIGHT
BEGIN:STANDARD
TZOFFSETFROM:-0400
TZOFFSETTO:-0500
TZNAME:EST
DTSTART:20221106T060000
END:STANDARD
BEGIN:DAYLIGHT
TZOFFSETFROM:-0500
TZOFFSETTO:-0400
TZNAME:EDT
DTSTART:20230312T070000
END:DAYLIGHT
BEGIN:STANDARD
TZOFFSETFROM:-0400
TZOFFSETTO:-0500
TZNAME:EST
DTSTART:20231105T060000
END:STANDARD
END:VTIMEZONE
BEGIN:VEVENT
DTSTART;TZID=America/New_York:20220514T110000
DTEND;TZID=America/New_York:20220514T170000
DTSTAMP:20260422T180422
CREATED:20220425T162926Z
LAST-MODIFIED:20220511T172409Z
UID:10000108-1652526000-1652547600@skycasper.com
SUMMARY:Celebrities On Tap Drag Queen Brunch
DESCRIPTION:Sky Casper Entertainment is bringing a new LEGENDARY Celebrity Impersonations drag queen brunch to Hartford\, CT and we’re not quite sure you’re ready for it! \nTables are very limited so don’t wait long \nDoors: 11AM & 2PM \nShowtimes: 12PM & 3PM \nTickets to the show are $25 each\, and they are sold in packages based on the table sizes we have available in the room (food and beverages are sold separately at the venue\, and they are as shown below). \nBRUNCH BUFFET: Fill your plate once\, twice\, or even thrice with everything nice! $22.99 \n\nScrambled Eggs\nRosemary Roasted Potatoes\nBagels with Cream Cheeses (Berry Medley\, Lox\, Maple Walnut\, Garlic Herb)\nBrown Sugar Bacon\, Craft Sausages\nTexas French Toast w/ Bourbon Syrup\nFresh Fruit\nPenne a la Vodka\nHerb Crusted Salmon with Dill Creme Fraiche\nSelection of premium pastries\nOmelet station with a chef to build your custom omelet\n\nBLOODY MARY BAR: Ever wonder if our Famous Bar Bites would go with a Bloody Mary? Well now you don’t have to – our Bloody Mary Bar pairs the classic brunch cocktail with a myriad of garnishes from bacon to celery to mini-burgers and everything in between. $15.99 for a one and a refill\, $25.99 for as many as you want! \n\nClassic or Spicy Bloody Mary Mix w/ Tito’s vodka\nBacon\, mini-burgers\, shrimp ceviche\nRoasted garlic\, pickled green beans\, pearl onions\nFresh Mozzarella\, jumbo olives\, deviled eggs\n\nMIMOSA BAR: Mimosas are sooooo last season. It’s all about the Guavosa\, Mangosa\, Tikkosa\, and Gingosa! At our Mimosa bar\, pair your bubbly with a bevy of juices from across the globe\, fresh fruits\, herbs\, and candies to create the perfect pairing. Toast to new flavors and new favorite brunch spots! $13.99 for two flutes\, $23.99 for unlimited bubbles! \n\nJuices from orange to passionfruit to pineapple\, purees of every berry\, house blends like Baja and Tiki\nBerries\, flowers\, fresh herbs\, tropical and citrus fruits\nCandied ginger\, gummy bears\, sweet tarts\, rock candy wands
URL:https://skycasper.com/event/celebrities-on-tap-drag-queen-brunch/
LOCATION:Wood-N-Tap\, 99 Sisson Avenue\, Hartford\, CT\, 06106\, United States
CATEGORIES:Drag Brunches
ATTACH;FMTTYPE=image/png:https://skycasper.com/wp-content/uploads/2022/04/Celb_On-Tap.png
ORGANIZER;CN="Sky Casper Entertainment":MAILTO:sky@skycasper.com
END:VEVENT
BEGIN:VEVENT
DTSTART;TZID=America/New_York:20220513T150000
DTEND;TZID=America/New_York:20220514T150000
DTSTAMP:20260422T180422
CREATED:20220508T224728Z
LAST-MODIFIED:20220508T225039Z
UID:10000116-1652454000-1652540400@skycasper.com
SUMMARY:Iconique Drag Con Unofficial Launch Party
DESCRIPTION:[vc_row type=”in_container” full_screen_row_position=”middle” column_margin=”default” column_direction=”default” column_direction_tablet=”default” column_direction_phone=”default” scene_position=”center” text_color=”dark” text_align=”left” row_border_radius=”none” row_border_radius_applies=”bg” overflow=”visible” overlay_strength=”0.3″ gradient_direction=”left_to_right” shape_divider_position=”bottom” bg_image_animation=”none”][vc_column column_padding=”no-extra-padding” column_padding_tablet=”inherit” column_padding_phone=”inherit” column_padding_position=”all” column_element_spacing=”default” background_color_opacity=”1″ background_hover_color_opacity=”1″ column_shadow=”none” column_border_radius=”none” column_link_target=”_self” column_position=”default” gradient_direction=”left_to_right” overlay_strength=”0.3″ width=”1/1″ tablet_width_inherit=”default” tablet_text_alignment=”default” phone_text_alignment=”default” animation_type=”default” bg_image_animation=”none” border_type=”simple” column_border_width=”none” column_border_style=”solid”][vc_column_text]Iconique\, Fantastique…Don’t get stuck in Traffique! \nCome join us for an evening of magic with iconic queens from RuPaul’s Drag Race featuring Jimbo\, Pangina Heals\, Baga Chipz\, Detox\, Kita Mean\, Mariah Balenciaga\, Juice Boxx\, Delta Work\, Tamisha Iman and more TBA. \nWith guests from Los Angeles featuring Godoy\, Fabeyonc_e\, Barbra Wyre and more TBA. \nEvent is 21+ must have proof of vaccination ready or proof of negative test within 72 hours of event. (We’re closely watching Covid-19 mandates for LA county and will update.) \nDoors: 7 PM \nShow: 8’sh PM \nTickets: Early Bird Specials now available from $40. \nVIP Sofas: Includes 1 bottle service – tax and 20% will be included in price. Please email us if you’re interested in purchasing. Sofas can sit 4 max 6 people. \n**Line up subject to change. \nTickets are NON-REFUNDABLE. Please ensure date and time works with your schedule. \nParking available around the venue or it’s a 5 minute ride share from the Convention Center.[/vc_column_text][/vc_column][/vc_row][vc_row type=”in_container” full_screen_row_position=”middle” column_margin=”default” column_direction=”default” column_direction_tablet=”default” column_direction_phone=”default” scene_position=”center” text_color=”dark” text_align=”left” row_border_radius=”none” row_border_radius_applies=”bg” overflow=”visible” overlay_strength=”0.3″ gradient_direction=”left_to_right” shape_divider_position=”bottom” bg_image_animation=”none”][vc_column column_padding=”no-extra-padding” column_padding_tablet=”inherit” column_padding_phone=”inherit” column_padding_position=”all” column_element_spacing=”default” background_color_opacity=”1″ background_hover_color_opacity=”1″ column_shadow=”none” column_border_radius=”none” column_link_target=”_self” column_position=”default” gradient_direction=”left_to_right” overlay_strength=”0.3″ width=”1/1″ tablet_width_inherit=”default” tablet_text_alignment=”default” phone_text_alignment=”default” animation_type=”default” bg_image_animation=”none” border_type=”simple” column_border_width=”none” column_border_style=”solid”][nectar_btn size=”small” open_new_tab=”true” button_style=”regular” button_color_2=”Accent-Color” solid_text_color_override=”#ffffff” icon_family=”none” text=”Buy Tickets” url=”https://www.eventbrite.com/e/iconique-drag-con-unofficial-launch-party-tickets-288232871277″][/vc_column][/vc_row]
URL:https://skycasper.com/event/iconique-drag-con-unofficial-launch-party/
LOCATION:Globe Theatre Los Angeles\, 740 South Broadway\, Los Angeles\, CA\, 90014\, United States
CATEGORIES:Pangina Heals
END:VEVENT
END:VCALENDAR