BEGIN:VCALENDAR
VERSION:2.0
PRODID:-//Sky Casper Entertainment - ECPv6.15.20//NONSGML v1.0//EN
CALSCALE:GREGORIAN
METHOD:PUBLISH
X-WR-CALNAME:Sky Casper Entertainment
X-ORIGINAL-URL:https://skycasper.com
X-WR-CALDESC:Events for Sky Casper Entertainment
REFRESH-INTERVAL;VALUE=DURATION:PT1H
X-Robots-Tag:noindex
X-PUBLISHED-TTL:PT1H
BEGIN:VTIMEZONE
TZID:America/New_York
BEGIN:DAYLIGHT
TZOFFSETFROM:-0500
TZOFFSETTO:-0400
TZNAME:EDT
DTSTART:20220313T070000
END:DAYLIGHT
BEGIN:STANDARD
TZOFFSETFROM:-0400
TZOFFSETTO:-0500
TZNAME:EST
DTSTART:20221106T060000
END:STANDARD
BEGIN:DAYLIGHT
TZOFFSETFROM:-0500
TZOFFSETTO:-0400
TZNAME:EDT
DTSTART:20230312T070000
END:DAYLIGHT
BEGIN:STANDARD
TZOFFSETFROM:-0400
TZOFFSETTO:-0500
TZNAME:EST
DTSTART:20231105T060000
END:STANDARD
BEGIN:DAYLIGHT
TZOFFSETFROM:-0500
TZOFFSETTO:-0400
TZNAME:EDT
DTSTART:20240310T070000
END:DAYLIGHT
BEGIN:STANDARD
TZOFFSETFROM:-0400
TZOFFSETTO:-0500
TZNAME:EST
DTSTART:20241103T060000
END:STANDARD
END:VTIMEZONE
BEGIN:VEVENT
DTSTART;TZID=America/New_York:20230211T150000
DTEND;TZID=America/New_York:20230211T200000
DTSTAMP:20260423T074531
CREATED:20230207T172732Z
LAST-MODIFIED:20230209T195203Z
UID:10000147-1676127600-1676145600@skycasper.com
SUMMARY:Drag Extravaganza @ The Place 2 Be (Downtown Hartford)
DESCRIPTION:Join us for our EPIC Drag Extravaganza at The Place 2 Be in Downtown Hartford on February 11th!\n\n\nSky Casper Entertainment x The Place 2 Be brings Hartford an EPIC Drag Extravaganza! The Downtown location is back and better than ever\, and our next show is on February 11th\, and we want you to come turn up with us!! Drag Dine Dance Drink Drag. \n*Brunch\, lunch\, and dinner options will be available \n*There is a 2 drink minimum per guest \n*Doors at 3\, show at 4 // Doors at 6\, show at 7 – tables can be purchased at the website link below \nATTENTION: If you need to add or combine tables\, be sure to get in touch with sky@skycasper.com BEFORE purchasing your tables. We don’t expect tables to be available for very long and we need to ensure we can accommodate you. \nWe’ve got so much coming up! Check out our lineup\, and make sure to sign-up for event updates at SkyCasper.com/events
URL:https://skycasper.com/event/drag-extravaganza-the-place-2-be-downtown-hartford-4/
LOCATION:The Place 2 Be\, 338 Elm Street\, New Haven\, CT\, 06511\, United States
CATEGORIES:Drag Brunches
ATTACH;FMTTYPE=image/png:https://skycasper.com/wp-content/uploads/2023/02/Angelina-on-Table-Edited.png
END:VEVENT
BEGIN:VEVENT
DTSTART;TZID=America/New_York:20230218T150000
DTEND;TZID=America/New_York:20230218T203000
DTSTAMP:20260423T074531
CREATED:20230207T173307Z
LAST-MODIFIED:20230207T173307Z
UID:10000148-1676732400-1676752200@skycasper.com
SUMMARY:Drag Extravaganza @ The Place 2 Be (Springfield\, MA)
DESCRIPTION:Join us at the Springfield location for our first EPIC Drag Extravaganza on February 18th!\n\n\nSky Casper Entertainment x The Place 2 Be brings Springfield the second EPIC Drag Extravaganzas on February 18th! Come turn up with us!! Drag Dine Dance Drink Drag. \n*Brunch\, lunch\, and dinner options will be available \n*There is a 2 drink minimum per guest \n*Doors at 3\, show at 4 // Doors at 6\, show at 7 – tables can be purchased at the website link below \nATTENTION: If you need to add or combine tables\, be sure to get in touch with sky@skycasper.com BEFORE purchasing your tables. We don’t expect tables to be available for very long and we need to ensure we can accommodate you.
URL:https://skycasper.com/event/drag-extravaganza-the-place-2-be-springfield-ma-4/
LOCATION:The Place 2 Be Springfield\, 1000 Hall of Fame Ave Unit 5\, Springfield\, MA\, 01105\, United States
ATTACH;FMTTYPE=image/jpeg:https://skycasper.com/wp-content/uploads/2023/02/7146b843a85a3946c45c048d0eebb639-mdEtyV.tmp_.jpg
END:VEVENT
BEGIN:VEVENT
DTSTART;TZID=America/New_York:20230219T110000
DTEND;TZID=America/New_York:20230219T161500
DTSTAMP:20260423T074531
CREATED:20230207T173310Z
LAST-MODIFIED:20230207T173310Z
UID:10000149-1676804400-1676823300@skycasper.com
SUMMARY:Pink Eggs & Glam Drag Brunch w/ Bootsie LeFaris (New London\, CT)
DESCRIPTION:Join us for Connecticut’s longest-running big-city drag brunch experience – live vocals\, comedy\, chaos\, and more!\n\n\nJoin Sky Casper Entertainment and The Social Bar + Kitchen for our renowned monthly live singing and comedic Pink Eggs & Glam Drag Brunch! We’ve got a fantastic lineup of rotating drag superstars worldwide. If you have yet to attend #PinkEggsAndGlam\, expect a great time with phenomenal live singing and a hilarious drag performer. \nThis month we welcome back New York City legend and icon Bootsie LeFaris for another fabulous show filled with live singing\, comedy mixes\, games\, chaos\, and more! She is wild and we love it. \nSeating Times: 11 AM & 2 PM\, Showtimes: 12 PM & 3 PM \nTICKETS: $20 in advance\, $25 at the door. \nFood & Beverage are sold separately at the venue. \nPink Eggs & Glam Drag Brunch T-Shirts are available at the event – sharpies are also available so you can collect your favorite drag performers’ autographs on your merchandise! \nWe’ve got so much coming up! Check out our lineup\, and make sure to sign-up for event updates at SkyCasper.com/events
URL:https://skycasper.com/event/pink-eggs-glam-drag-brunch-w-bootsie-lefaris-new-london-ct-2/
LOCATION:The Social Bar + Kitchen\, 208 Bank Street\, New London\, CT\, 06320\, United States
ATTACH;FMTTYPE=image/jpeg:https://skycasper.com/wp-content/uploads/2023/02/30f80915731d838c09729e8182af00ca-r8GDVi.tmp_.jpg
END:VEVENT
END:VCALENDAR