BEGIN:VCALENDAR
VERSION:2.0
PRODID:-//Sky Casper Entertainment - ECPv6.15.20//NONSGML v1.0//EN
CALSCALE:GREGORIAN
METHOD:PUBLISH
X-ORIGINAL-URL:https://skycasper.com
X-WR-CALDESC:Events for Sky Casper Entertainment
REFRESH-INTERVAL;VALUE=DURATION:PT1H
X-Robots-Tag:noindex
X-PUBLISHED-TTL:PT1H
BEGIN:VTIMEZONE
TZID:America/New_York
BEGIN:DAYLIGHT
TZOFFSETFROM:-0500
TZOFFSETTO:-0400
TZNAME:EDT
DTSTART:20220313T070000
END:DAYLIGHT
BEGIN:STANDARD
TZOFFSETFROM:-0400
TZOFFSETTO:-0500
TZNAME:EST
DTSTART:20221106T060000
END:STANDARD
BEGIN:DAYLIGHT
TZOFFSETFROM:-0500
TZOFFSETTO:-0400
TZNAME:EDT
DTSTART:20230312T070000
END:DAYLIGHT
BEGIN:STANDARD
TZOFFSETFROM:-0400
TZOFFSETTO:-0500
TZNAME:EST
DTSTART:20231105T060000
END:STANDARD
BEGIN:DAYLIGHT
TZOFFSETFROM:-0500
TZOFFSETTO:-0400
TZNAME:EDT
DTSTART:20240310T070000
END:DAYLIGHT
BEGIN:STANDARD
TZOFFSETFROM:-0400
TZOFFSETTO:-0500
TZNAME:EST
DTSTART:20241103T060000
END:STANDARD
END:VTIMEZONE
BEGIN:VEVENT
DTSTART;TZID=America/New_York:20230304T150000
DTEND;TZID=America/New_York:20230304T200000
DTSTAMP:20260423T060708
CREATED:20230207T173313Z
LAST-MODIFIED:20230207T173313Z
UID:10000150-1677942000-1677960000@skycasper.com
SUMMARY:Drag Extravaganza @ The Place 2 Be (New Haven\, CT)
DESCRIPTION:Join us for the debut of our EPIC Drag Extravaganza at The Place 2 Be in New Haven on March 4th!\n\n\nSky Casper Entertainment x The Place 2 Be brings New Haven our EPIC Drag Extravaganza! Come turn up with us on March 4th!! Drag Dine Dance Drink Drag. \n*Brunch\, lunch\, and dinner options will be available \n*There is a 2 drink minimum per guest \n*Doors at 3\, show at 4 // Doors at 6\, show at 7 – tables can be purchased at the website link below \nATTENTION: If you need to add or combine tables\, be sure to get in touch with sky@skycasper.com BEFORE purchasing your tables\, we don’t expect tables to be available for very long and we need to ensure we can accommodate you.
URL:https://skycasper.com/event/drag-extravaganza-the-place-2-be-new-haven-ct-2/
LOCATION:The Place 2 Be\, 338 Elm Street\, New Haven\, CT\, 06511\, United States
ATTACH;FMTTYPE=image/jpeg:https://skycasper.com/wp-content/uploads/2023/02/588e12c7719b01728fe20fa43c0cb7ed-gopUyh.tmp_.jpg
END:VEVENT
BEGIN:VEVENT
DTSTART;TZID=America/New_York:20230311T150000
DTEND;TZID=America/New_York:20230311T200000
DTSTAMP:20260423T060708
CREATED:20230209T193142Z
LAST-MODIFIED:20230311T210716Z
UID:10000152-1678546800-1678564800@skycasper.com
SUMMARY:Drag Extravaganza @ The Place 2 Be (Downtown Hartford)
DESCRIPTION:Join us for our EPIC Drag Extravaganza at The Place 2 Be in Downtown Hartford on March 11th!\n\n\nSky Casper Entertainment x The Place 2 Be brings Hartford an EPIC Drag Extravaganza! The Downtown location is back and better than ever\, and our next show is on March 11th\, and we want you to come turn up with us!! Drag Dine Dance Drink Drag. \n*Brunch\, lunch\, and dinner options will be available \n*There is a 2 drink minimum per guest \n*Doors at 3\, show at 4 // Doors at 6\, show at 7 – tables can be purchased at the website link below \nATTENTION: If you need to add or combine tables\, be sure to get in touch with sky@skycasper.com BEFORE purchasing your tables. We don’t expect tables to be available for very long and we need to ensure we can accommodate you. \nWe’ve got so much coming up! Check out our lineup\, and make sure to sign-up for event updates at SkyCasper.com/events
URL:https://skycasper.com/event/drag-extravaganza-the-place-2-be-downtown-hartford-5/
LOCATION:The Place 2 Be\, 338 Elm Street\, New Haven\, CT\, 06511\, United States
CATEGORIES:Drag Brunches
ATTACH;FMTTYPE=image/jpeg:https://skycasper.com/wp-content/uploads/2023/02/d8890466bd27c89813990aa3dc4924fe-3YTyhN.tmp_.jpg
END:VEVENT
BEGIN:VEVENT
DTSTART;TZID=America/New_York:20230312T170000
DTEND;TZID=America/New_York:20230312T191500
DTSTAMP:20260423T060708
CREATED:20230209T173811Z
LAST-MODIFIED:20230311T210719Z
UID:10000151-1678640400-1678648500@skycasper.com
SUMMARY:Belting B*tches "Broadway VS Pop" w/ Patty Bourrée (Southington\, CT)
DESCRIPTION:Join Sky Casper Entertainment in Southington\, CT for our next Belting B*tches\, this time with cabaret legend Patty Bourrée from Boston!\n\n\nJoin Sky Casper Entertainment in Southington\, CT for our next Belting B*tches cabaret\, this time with humble cabaret legend Patty Bourrée for “Broadway VS Pop.” The name says it all. \nPatty is a chic chanteuse and mouthy comedienne known regionally for her big voice\, hilarious parodies\, vintage style\, and bad attitude. Veritably crushed under the weight of her theater degrees (a BFA from NYU and MFA from Emerson College)\, an evening with Patty Bourrée is sure to be jam-packed with song\, antics\, and surprises. \nA﻿TTENTION: Food orders are required by each guest & the venue is BYOB\, so stop at the store! \nD﻿oors: 5pm / Showtime: 6pm \nT﻿ickets are $25 online and $30 at the door (we do not normally have tickets at the door) \nWe’ve got so much coming up! Check out our lineup\, and make sure to sign-up for event updates at SkyCasper.com/events
URL:https://skycasper.com/event/belting-btches-broadway-vs-pop-w-patty-bourree/
LOCATION:Paul Gregory’s\, 168 Center Street\, #Building B\, Southington\, CT\, 06489\, United States
CATEGORIES:Belting B*tches
ATTACH;FMTTYPE=image/jpeg:https://skycasper.com/wp-content/uploads/2023/02/94e788aa5d316d31269c3f9aa4fca69e-64sXLP.tmp_.jpg
END:VEVENT
BEGIN:VEVENT
DTSTART;TZID=America/New_York:20230318T150000
DTEND;TZID=America/New_York:20230318T200000
DTSTAMP:20260423T060708
CREATED:20230214T222235Z
LAST-MODIFIED:20230318T002344Z
UID:10000154-1679151600-1679169600@skycasper.com
SUMMARY:Drag Extravaganza @ The Place 2 Be (Springfield\, MA)
DESCRIPTION:Join us at the Springfield location for our first EPIC Drag Extravaganza on March 18th!\n\n\nSky Casper Entertainment x The Place 2 Be brings Springfield the second EPIC Drag Extravaganzas on March 18th! Come turn up with us!! Drag Dine Dance Drink Drag. \n*Brunch\, lunch\, and dinner options will be available \n*There is a 2 drink minimum per guest \n*Doors at 3\, show at 4 // Doors at 6\, show at 7 – tables sell out fast! \nATTENTION: If you need to add or combine tables\, be sure to get in touch with sky@skycasper.com BEFORE purchasing your tables. We don’t expect tables to be available for very long and we need to ensure we can accommodate you. \nWe’ve got so much coming up! Check out our lineup\, and make sure to sign-up for event updates at SkyCasper.com/events
URL:https://skycasper.com/event/drag-extravaganza-the-place-2-be-springfield-ma-5/
LOCATION:The Place 2 Be Springfield\, 1000 Hall of Fame Ave Unit 5\, Springfield\, MA\, 01105\, United States
CATEGORIES:Drag Brunches
ATTACH;FMTTYPE=image/jpeg:https://skycasper.com/wp-content/uploads/2023/02/24383f8c10cd226527c19077a60783d3-pkEEzm.tmp_.jpg
END:VEVENT
BEGIN:VEVENT
DTSTART;TZID=America/New_York:20230319T110000
DTEND;TZID=America/New_York:20230319T161500
DTSTAMP:20260423T060708
CREATED:20230222T043815Z
LAST-MODIFIED:20230319T011008Z
UID:10000156-1679223600-1679242500@skycasper.com
SUMMARY:Pink Eggs & Glam Drag Brunch w/ Kiki Ball-Change (New London\, CT)
DESCRIPTION:Join us for Connecticut’s longest-running big-city drag brunch experience – live vocals\, comedy\, chaos\, and more!\n\n\nJoin Sky Casper Entertainment and The Social Bar + Kitchen for our renowned monthly live singing and comedic Pink Eggs & Glam Drag Brunch! We’ve got a fantastic lineup of rotating drag superstars worldwide. If you have yet to attend #PinkEggsAndGlam\, expect a great time with phenomenal live singing and a hilarious drag performer. \nThis month we welcome New York City’s Cabaret of the Year Award Winner Kiki Ball-Change back for another wild show. \nSeating Times: 11 AM & 2 PM\, Showtimes: 12 PM & 3 PM \nTICKETS: $20 in advance\, $25 at the door. \nFood & Beverage are sold separately at the venue. \nPink Eggs & Glam Drag Brunch T-Shirts are available at the event – sharpies are also available so you can collect your favorite drag performers’ autographs on your merchandise! \nWe’ve got so much coming up! Check out our lineup\, and make sure to sign-up for event updates at SkyCasper.com/events
URL:https://skycasper.com/event/pink-eggs-glam-drag-brunch-w-kiki-ball-change-new-london-ct/
LOCATION:The Social Bar + Kitchen\, 208 Bank Street\, New London\, CT\, 06320\, United States
ATTACH;FMTTYPE=image/jpeg:https://skycasper.com/wp-content/uploads/2023/03/63f5e7900caa99f27cbad96ec5793d54-lRWusk.tmp_.jpg
END:VEVENT
BEGIN:VEVENT
DTSTART;TZID=America/New_York:20230326T110000
DTEND;TZID=America/New_York:20230326T161500
DTSTAMP:20260423T060708
CREATED:20230216T062857Z
LAST-MODIFIED:20230326T115328Z
UID:10000155-1679828400-1679847300@skycasper.com
SUMMARY:LIZZO Drag Brunch at Wood-N-Tap (Hartford\, CT)
DESCRIPTION:Join us for a fierce drag brunch featuring all your favorite Lizzo songs and more. Come ready to turn up and have a great time.\n\n\nJoin us for a fierce drag brunch featuring all your favorite Lizzo songs and more. Come ready to turn up and have a great time! We’ll be joined by local drag divas Midnight\, Miss Matté & Xiomarie LaBeija and they are ready to slay. \nSeating Times: 11 AM & 2 PM\, Showtimes: 12 PM & 3 PM \nTickets to the show are $20 each\, and they are sold in packages based on the table sizes we have available in the room (food and beverages are sold separately at the venue). \nSky Casper Entertainment does all sorts of LGBTQ+ events around the tristate area so make sure to follow along by signing up at skycasper.com/events
URL:https://skycasper.com/event/lizzo-drag-brunch-at-wood-n-tap/
LOCATION:Wood-N-Tap\, 99 Sisson Avenue\, Hartford\, CT\, 06106\, United States
ATTACH;FMTTYPE=image/jpeg:https://skycasper.com/wp-content/uploads/2023/03/9545143075ef61bcb732be071fb140fc-zL18TA.tmp_.jpg
END:VEVENT
END:VCALENDAR