BEGIN:VCALENDAR
VERSION:2.0
PRODID:-//Sky Casper Entertainment - ECPv6.15.20//NONSGML v1.0//EN
CALSCALE:GREGORIAN
METHOD:PUBLISH
X-WR-CALNAME:Sky Casper Entertainment
X-ORIGINAL-URL:https://skycasper.com
X-WR-CALDESC:Events for Sky Casper Entertainment
REFRESH-INTERVAL;VALUE=DURATION:PT1H
X-Robots-Tag:noindex
X-PUBLISHED-TTL:PT1H
BEGIN:VTIMEZONE
TZID:America/New_York
BEGIN:DAYLIGHT
TZOFFSETFROM:-0500
TZOFFSETTO:-0400
TZNAME:EDT
DTSTART:20220313T070000
END:DAYLIGHT
BEGIN:STANDARD
TZOFFSETFROM:-0400
TZOFFSETTO:-0500
TZNAME:EST
DTSTART:20221106T060000
END:STANDARD
BEGIN:DAYLIGHT
TZOFFSETFROM:-0500
TZOFFSETTO:-0400
TZNAME:EDT
DTSTART:20230312T070000
END:DAYLIGHT
BEGIN:STANDARD
TZOFFSETFROM:-0400
TZOFFSETTO:-0500
TZNAME:EST
DTSTART:20231105T060000
END:STANDARD
BEGIN:DAYLIGHT
TZOFFSETFROM:-0500
TZOFFSETTO:-0400
TZNAME:EDT
DTSTART:20240310T070000
END:DAYLIGHT
BEGIN:STANDARD
TZOFFSETFROM:-0400
TZOFFSETTO:-0500
TZNAME:EST
DTSTART:20241103T060000
END:STANDARD
END:VTIMEZONE
BEGIN:VEVENT
DTSTART;TZID=America/New_York:20230513T150000
DTEND;TZID=America/New_York:20230513T200000
DTSTAMP:20260423T024027
CREATED:20230412T051710Z
LAST-MODIFIED:20230512T155221Z
UID:10000167-1683990000-1684008000@skycasper.com
SUMMARY:Drag Extravaganza MILF (Mother's Day) @ The Place 2 Be (Downtown Hartford)
DESCRIPTION:Join us for our epic Drag Extravaganza at The Place 2 Be in Downtown Hartford on May 13th for a special MILFS theme for Mother’s Day weekend\n\n\nSky Casper Entertainment x The Place 2 Be brings Hartford an epic Drag Extravaganza on May 13th! Come turn up with us for a special MILFS Mother’s Day celebration!! Drag Dine Dance Drink Drag. \n*Brunch\, lunch\, and dinner options will be available \n*There is a 2 drink minimum per guest \n*Doors at 3\, show at 4 // Doors at 6\, show at 7 – tables can be purchased at the website link below \nATTENTION: If you need to add or combine tables\, be sure to get in touch with sky@skycasper.com BEFORE purchasing your tables. We don’t expect tables to be available for very long and we need to ensure we can accommodate you. \nWe’ve got so much coming up! Check out our lineup\, and make sure to sign-up for event updates at SkyCasper.com/events
URL:https://skycasper.com/event/drag-extravaganza-milf-edition-the-place-2-be-downtown-hartford/
LOCATION:The Place 2 Be\, 338 Elm Street\, New Haven\, CT\, 06511\, United States
CATEGORIES:Drag Brunches
ATTACH;FMTTYPE=image/jpeg:https://skycasper.com/wp-content/uploads/2023/04/1b41feb89e616ee768dea2b5eb67e3b2-ZJCdnx.tmp_.jpg
END:VEVENT
BEGIN:VEVENT
DTSTART;TZID=America/New_York:20230520T150000
DTEND;TZID=America/New_York:20230520T200000
DTSTAMP:20260423T024027
CREATED:20230417T165916Z
LAST-MODIFIED:20230519T193734Z
UID:10000169-1684594800-1684612800@skycasper.com
SUMMARY:Drag Extravaganza @ The Place 2 Be (Springfield\, MA)
DESCRIPTION:Join us at the Springfield location for our first EPIC Drag Extravaganza on May 20th!\n\n\nSky Casper Entertainment x The Place 2 Be brings Springfield the second EPIC Drag Extravaganzas on May 20th! Come turn up with us!! Drag Dine Dance Drink Drag. \n*Brunch\, lunch\, and dinner options will be available \n*There is a 2 drink minimum per guest \n*Doors at 3\, show at 4 // Doors at 6\, show at 7 – tables sell out fast! \nATTENTION: If you need to add or combine tables\, be sure to get in touch with sky@skycasper.com BEFORE purchasing your tables. We don’t expect tables to be available for very long and we need to ensure we can accommodate you. \nWe’ve got so much coming up! Check out our lineup\, and make sure to sign-up for event updates at SkyCasper.com/events
URL:https://skycasper.com/event/drag-extravaganza-the-place-2-be-springfield-ma-7/
LOCATION:The Place 2 Be Springfield\, 1000 Hall of Fame Ave Unit 5\, Springfield\, MA\, 01105\, United States
ATTACH;FMTTYPE=image/jpeg:https://skycasper.com/wp-content/uploads/2023/04/13eb3c771b307cb0a38aef7c9d17ca24-3ZF1FP.tmp_.jpg
END:VEVENT
BEGIN:VEVENT
DTSTART;TZID=America/New_York:20230521T110000
DTEND;TZID=America/New_York:20230521T161500
DTSTAMP:20260423T024027
CREATED:20230502T181347Z
LAST-MODIFIED:20230521T162402Z
UID:10000170-1684666800-1684685700@skycasper.com
SUMMARY:Pink Eggs & Glam Drag Brunch w/ Pissi Myles  (New London\, CT)
DESCRIPTION:Join us for Connecticut’s longest-running big-city drag brunch experience – live vocals\, comedy\, chaos\, and more!\n\n\nJoin Sky Casper Entertainment and The Social Bar + Kitchen for our renowned monthly live singing and comedic Pink Eggs & Glam Drag Brunch! We’ve got a fantastic lineup of rotating drag superstars worldwide. If you have yet to attend #PinkEggsAndGlam\, expect a great time with phenomenal live singing and a hilarious drag performer. \nThis month we welcome back New York City’s Pissi Myles! Pissi was born kicking and screaming and hasn’t stopped since. As a comedian\, singer\, and humorist\, Pissi has been noted as one of the most talented queens in the North East by fans\, critics\, and peers. She has worked with brands like Taco Bell\, Miller Lite\, and Grindr and performed with musical acts like Kim Petras and Danity Kane. She’s also been featured in Vogue\, Cosmopolitan Magazine\, RuPaul’s What’s the T Podcast\, and more! Please be aware that she is unfiltered! \nSeating Times: 11 AM & 2 PM\, Showtimes: 12 PM & 3 PM \nTICKETS: $20 in advance\, $25 at the door. \nFood & Beverage are sold separately at the venue. \nPink Eggs & Glam Drag Brunch T-Shirts are available at the event – sharpies are also available so you can collect your favorite drag performers’ autographs on your merchandise! \nWe’ve got so much coming up! Check out our lineup\, and make sure to sign-up for event updates at SkyCasper.com/events
URL:https://skycasper.com/event/pink-eggs-glam-drag-brunch-w-pissi-myles-new-london-ct/
LOCATION:The Social Bar + Kitchen\, 208 Bank Street\, New London\, CT\, 06320\, United States
ATTACH;FMTTYPE=image/jpeg:https://skycasper.com/wp-content/uploads/2023/05/9cb68effb3cb24d2fb3844b8844a95cc-VD0vc3.tmp_.jpg
END:VEVENT
END:VCALENDAR