BEGIN:VCALENDAR
VERSION:2.0
PRODID:-//Sky Casper Entertainment - ECPv6.15.20//NONSGML v1.0//EN
CALSCALE:GREGORIAN
METHOD:PUBLISH
X-WR-CALNAME:Sky Casper Entertainment
X-ORIGINAL-URL:https://skycasper.com
X-WR-CALDESC:Events for Sky Casper Entertainment
REFRESH-INTERVAL;VALUE=DURATION:PT1H
X-Robots-Tag:noindex
X-PUBLISHED-TTL:PT1H
BEGIN:VTIMEZONE
TZID:America/New_York
BEGIN:DAYLIGHT
TZOFFSETFROM:-0500
TZOFFSETTO:-0400
TZNAME:EDT
DTSTART:20220313T070000
END:DAYLIGHT
BEGIN:STANDARD
TZOFFSETFROM:-0400
TZOFFSETTO:-0500
TZNAME:EST
DTSTART:20221106T060000
END:STANDARD
BEGIN:DAYLIGHT
TZOFFSETFROM:-0500
TZOFFSETTO:-0400
TZNAME:EDT
DTSTART:20230312T070000
END:DAYLIGHT
BEGIN:STANDARD
TZOFFSETFROM:-0400
TZOFFSETTO:-0500
TZNAME:EST
DTSTART:20231105T060000
END:STANDARD
BEGIN:DAYLIGHT
TZOFFSETFROM:-0500
TZOFFSETTO:-0400
TZNAME:EDT
DTSTART:20240310T070000
END:DAYLIGHT
BEGIN:STANDARD
TZOFFSETFROM:-0400
TZOFFSETTO:-0500
TZNAME:EST
DTSTART:20241103T060000
END:STANDARD
END:VTIMEZONE
BEGIN:VEVENT
DTSTART;TZID=America/New_York:20231022T110000
DTEND;TZID=America/New_York:20231022T161500
DTSTAMP:20260422T190227
CREATED:20230923T170514Z
LAST-MODIFIED:20231021T182217Z
UID:10000187-1697972400-1697991300@skycasper.com
SUMMARY:Pink Eggs & Glam Drag Brunch Spooktacular w/ Cacophony  (New London\, CT)
DESCRIPTION:Join us for Connecticut’s longest-running big-city drag brunch experience – live vocals\, comedy\, chaos\, and more!\n\n\nJoin Sky Casper Entertainment and The Social Bar + Kitchen for our renowned monthly live singing and comedic Pink Eggs & Glam Drag Brunch! We’ve got a fantastic lineup of rotating drag superstars worldwide. If you have yet to attend #PinkEggsAndGlam\, expect a great time with phenomenal live singing and comedy performer(s). \nTHIS MONTHS STAR: Bistro Award winner Cacophony Daniels from New York City\, a live-singing\, high-belting showgirl. She loves to sing Broadway\, standards and\, is heavily influenced by Bette Midler\, Elaine Stritch\, and everything Disney (and all in the original female keys). The man in her dress is a very well-known actor who has been featured in Jersey Boys\, Beauty & The Beast\, and more! She makes our jaw drop every time. \nSeating Times: 11 AM & 2 PM\, Showtimes: 12 PM & 3 PM \nTICKETS: $20 in advance\, $25 at the door. \nFood & Beverage are sold separately at the venue. \nPink Eggs & Glam Drag Brunch T-Shirts are available at the event – sharpies are also available so you can collect your favorite drag performers’ autographs on your merchandise! \nWe’ve got so much coming up! Check out our lineup\, and make sure to sign-up for event updates at SkyCasper.com/events
URL:https://skycasper.com/event/pink-eggs-glam-drag-brunch-spooktacular-w-cacophony-new-london-ct/
LOCATION:The Social Bar + Kitchen\, 208 Bank Street\, New London\, CT\, 06320\, United States
CATEGORIES:Drag Brunches,Pink Eggs & Glam Drag Brunch
ATTACH;FMTTYPE=image/jpeg:https://skycasper.com/wp-content/uploads/2023/09/d23092ae75535b3b3401c41da9d0da99-KmTz5U.tmp_.jpg
END:VEVENT
END:VCALENDAR