BEGIN:VCALENDAR
VERSION:2.0
PRODID:-//Sky Casper Entertainment - ECPv6.15.20//NONSGML v1.0//EN
CALSCALE:GREGORIAN
METHOD:PUBLISH
X-ORIGINAL-URL:https://skycasper.com
X-WR-CALDESC:Events for Sky Casper Entertainment
REFRESH-INTERVAL;VALUE=DURATION:PT1H
X-Robots-Tag:noindex
X-PUBLISHED-TTL:PT1H
BEGIN:VTIMEZONE
TZID:America/New_York
BEGIN:DAYLIGHT
TZOFFSETFROM:-0500
TZOFFSETTO:-0400
TZNAME:EDT
DTSTART:20220313T070000
END:DAYLIGHT
BEGIN:STANDARD
TZOFFSETFROM:-0400
TZOFFSETTO:-0500
TZNAME:EST
DTSTART:20221106T060000
END:STANDARD
BEGIN:DAYLIGHT
TZOFFSETFROM:-0500
TZOFFSETTO:-0400
TZNAME:EDT
DTSTART:20230312T070000
END:DAYLIGHT
BEGIN:STANDARD
TZOFFSETFROM:-0400
TZOFFSETTO:-0500
TZNAME:EST
DTSTART:20231105T060000
END:STANDARD
BEGIN:DAYLIGHT
TZOFFSETFROM:-0500
TZOFFSETTO:-0400
TZNAME:EDT
DTSTART:20240310T070000
END:DAYLIGHT
BEGIN:STANDARD
TZOFFSETFROM:-0400
TZOFFSETTO:-0500
TZNAME:EST
DTSTART:20241103T060000
END:STANDARD
END:VTIMEZONE
BEGIN:VEVENT
DTSTART;TZID=America/New_York:20231112T120000
DTEND;TZID=America/New_York:20231112T143000
DTSTAMP:20260422T173152
CREATED:20231012T222535Z
LAST-MODIFIED:20231111T183721Z
UID:10000189-1699790400-1699799400@skycasper.com
SUMMARY:Pink Eggs & Glam Drag Brunch w/ Patty Bourrée (West Hartford\, CT)
DESCRIPTION:Indulge in an unforgettable experience with our monthly Pink Eggs & Glam Drag Brunch\, presented by Sky Casper Entertainment!\n\n\nIndulge in an unforgettable experience of live singing and hilarious comedy with our monthly Pink Eggs & Glam Drag Brunch\, presented by Sky Casper Entertainment and New Park Brewing. Our event features a lineup of the world’s most talented drag superstars\, promising an entertaining and captivating performance that will leave you mesmerized. Our #PinkEggsAndGlam event is a must-attend for enthusiasts seeking an exhilarating brunch experience with unbeatable live entertainment. Join us for a phenomenal time that is guaranteed to be unforgettable! \nThis month we welcome chic chanteuse and mouthy comedienne Patty Bourrée\, known regionally for her big voice\, hilarious parodies\, vintage style\, and bad attitude. Veritably crushed under the weight of her theater degrees (a BFA from NYU and an MFA from Emerson College)\, an evening with Patty Bourrée is sure to be jam-packed with song\, antics\, and surprises. \nSeating Times: 12 & 12:30 PM\, Showtime: 1 PM \nFood and beverages are sold separately at the venue. \nPink Eggs & Glam Drag Brunch T-Shirts are available at the event – sharpies are also available so you can collect your favorite drag performers’ autographs on your merchandise \nWe’ve got so much coming up! Check out our lineup\, and make sure to sign up for event updates at SkyCasper.com/events
URL:https://skycasper.com/event/west-hartford-pink-eggs-glam-drag-brunch-w-patty-bourree/
LOCATION:New Park Brewing\, 485 New Park Ave\, West Hartford\, CT\, 06110\, United States
CATEGORIES:Belting B*tches,Drag Brunches,Pink Eggs & Glam Drag Brunch
ATTACH;FMTTYPE=image/jpeg:https://skycasper.com/wp-content/uploads/2023/11/71658e8048bb6b47ee76791b1bde091f-8BmWMr.tmp_.jpg
END:VEVENT
BEGIN:VEVENT
DTSTART;TZID=America/New_York:20231118T170000
DTEND;TZID=America/New_York:20231118T213000
DTSTAMP:20260422T173152
CREATED:20231024T001522Z
LAST-MODIFIED:20231118T232230Z
UID:10000192-1700326800-1700343000@skycasper.com
SUMMARY:Uncorked & Unfiltered Starring Bootsie Lefaris (Colchester\, CT)
DESCRIPTION:Join Sky Casper Entertainment in Colchester\, CT for our first Uncorked & Unfiltered\, an unhinged interactive drag show cabaret experience.\n\n\nJoin Sky Casper Entertainment & Priam Vineyards in Colchester\, CT for our inaugural Uncorked & Unfiltered – an immersive live cabaret-style drag show that knows no bounds! This month\, we’re thrilled to present the renowned Bootsie Lefaris – New York City’s Entertainer of the Year\, lauded for her uproarious humor and angelic vocals. With pure brilliance that keeps you on the edge of your seat\, Bootsie never fails to leave an impression – but beware\, she’s known for being unabashedly bold. \nDoors: 5 & 8pm / Showtimes: 6 & 9pm \nTickets are $25 online and $30 at the door (we do not usually have tickets at the door) \nWe’ve got so much coming up! Check out our lineup\, and make sure to sign up for event updates at SkyCasper.com/events
URL:https://skycasper.com/event/uncorked-unfiltered-starring-bootsie-lefaris-colchester-ct/
LOCATION:Priam Vineyards\, 11 Shailor Hill Road\, Colchester\, CT\, 06415\, United States
CATEGORIES:Belting B*tches,Drag Brunches,Pink Eggs & Glam Drag Brunch
ATTACH;FMTTYPE=image/jpeg:https://skycasper.com/wp-content/uploads/2023/10/696d71655e41395990692ea118a54e08-0evA82.tmp_.jpg
END:VEVENT
BEGIN:VEVENT
DTSTART;TZID=America/New_York:20231119T110000
DTEND;TZID=America/New_York:20231119T161500
DTSTAMP:20260422T173152
CREATED:20231013T031514Z
LAST-MODIFIED:20231118T232235Z
UID:10000190-1700391600-1700410500@skycasper.com
SUMMARY:Pink Eggs & Glam Drag Brunch w/ Bootsie Lefaris  (New London\, CT)
DESCRIPTION:Join us for Connecticut’s longest-running big-city drag brunch experience – live vocals\, comedy\, chaos\, and more!\n\n\nIndulge in an unforgettable experience of live singing and hilarious comedy with our monthly Pink Eggs & Glam Drag Brunch\, presented by Sky Casper Entertainment and The Social Bar + Kitchen. Our event features a lineup of the world’s most talented drag superstars\, promising an entertaining and captivating performance that will leave you mesmerized. Our #PinkEggsAndGlam event is a must-attend for enthusiasts seeking an exhilarating brunch experience with unbeatable live entertainment. Join us for a phenomenal time that is guaranteed to be unforgettable! \nThis month we welcome NYC ENTERTAINER OF THE YEAR\, the hilarious and spontaneous Bootsie Lefaris back to Pink Eggs & Glam for a fabulous time. She is a crowd favorite and you are going to LOVE her. \nSeating Times: 11 AM & 2 PM\, Showtimes: 12 PM & 3 PM \nTICKETS: $20 in advance\, $25 at the door. \nFood & Beverages are sold separately at the venue. \nPink Eggs & Glam Drag Brunch T-Shirts are available at the event – sharpies are also available so you can collect your favorite drag performers’ autographs on your merchandise! \nWe’ve got so much coming up! Check out our lineup\, and make sure to sign-up for event updates at SkyCasper.com/events
URL:https://skycasper.com/event/pink-eggs-glam-drag-brunch-w-bootsie-lefaris-new-london-ct-3/
LOCATION:The Social Bar + Kitchen\, 208 Bank Street\, New London\, CT\, 06320\, United States
ATTACH;FMTTYPE=image/jpeg:https://skycasper.com/wp-content/uploads/2023/10/c0e8b6049e9daabdca1b90406fe8a489-eR2ZCr.tmp_.jpg
END:VEVENT
BEGIN:VEVENT
DTSTART;TZID=America/New_York:20231119T160000
DTEND;TZID=America/New_York:20231119T213000
DTSTAMP:20260422T173152
CREATED:20231020T025145Z
LAST-MODIFIED:20231118T232239Z
UID:10000191-1700409600-1700429400@skycasper.com
SUMMARY:Belting B*tches w/ Superstar Castrata (Southington\, CT)
DESCRIPTION:Join Sky Casper Entertainment in Southington CT for our next Belting B*tches\, this time with the incredibly talented Castrata from NYC!\n\n\nJoin Sky Casper Entertainment in Southington\, CT for our next Belting B*tches\, this time with drag superstar Castrata\, from New York City! \nCastrata is the drag chanteuse of New York City. She is taking what it means to be a drag vocalist to the next level with her unique voice and the glamour to match. She is a multi-award-nominee and has been described as a “drag artist for the age in which we live” – BroadwayWorld. \nATTENTION: Food orders are required by each guest & the venue is BYOB\, so stop at the store! \nDoors: 4 pm / Showtime: 5 pm \nTickets are $25 online and $30 at the door (we do not usually have tickets at the door) \nWe’ve got so much coming up! Check out our lineup\, and make sure to sign up for event updates at SkyCasper.com/events
URL:https://skycasper.com/event/belting-btches-w-superstar-castrata-southington-ct/
LOCATION:Paul Gregory’s\, 168 Center Street\, #Building B\, Southington\, CT\, 06489\, United States
ATTACH;FMTTYPE=image/jpeg:https://skycasper.com/wp-content/uploads/2023/10/f43196912d472db0a4264cf9bf20db99-Ruirrg.tmp_.jpg
END:VEVENT
END:VCALENDAR