BEGIN:VCALENDAR
VERSION:2.0
PRODID:-//Sky Casper Entertainment - ECPv6.15.20//NONSGML v1.0//EN
CALSCALE:GREGORIAN
METHOD:PUBLISH
X-WR-CALNAME:Sky Casper Entertainment
X-ORIGINAL-URL:https://skycasper.com
X-WR-CALDESC:Events for Sky Casper Entertainment
REFRESH-INTERVAL;VALUE=DURATION:PT1H
X-Robots-Tag:noindex
X-PUBLISHED-TTL:PT1H
BEGIN:VTIMEZONE
TZID:America/New_York
BEGIN:DAYLIGHT
TZOFFSETFROM:-0500
TZOFFSETTO:-0400
TZNAME:EDT
DTSTART:20230312T070000
END:DAYLIGHT
BEGIN:STANDARD
TZOFFSETFROM:-0400
TZOFFSETTO:-0500
TZNAME:EST
DTSTART:20231105T060000
END:STANDARD
BEGIN:DAYLIGHT
TZOFFSETFROM:-0500
TZOFFSETTO:-0400
TZNAME:EDT
DTSTART:20240310T070000
END:DAYLIGHT
BEGIN:STANDARD
TZOFFSETFROM:-0400
TZOFFSETTO:-0500
TZNAME:EST
DTSTART:20241103T060000
END:STANDARD
BEGIN:DAYLIGHT
TZOFFSETFROM:-0500
TZOFFSETTO:-0400
TZNAME:EDT
DTSTART:20250309T070000
END:DAYLIGHT
BEGIN:STANDARD
TZOFFSETFROM:-0400
TZOFFSETTO:-0500
TZNAME:EST
DTSTART:20251102T060000
END:STANDARD
END:VTIMEZONE
BEGIN:VEVENT
DTSTART;TZID=America/New_York:20240121T110000
DTEND;TZID=America/New_York:20240121T161500
DTSTAMP:20260422T100903
CREATED:20240101T233706Z
LAST-MODIFIED:20240120T210741Z
UID:10000200-1705834800-1705853700@skycasper.com
SUMMARY:Pink Eggs & Glam Drag Brunch w/ Drag Superstar Pissi Myles (New London\, CT)
DESCRIPTION:Join us for Connecticut’s longest-running big-city drag brunch experience – live vocals\, comedy\, chaos\, and more!\n\n\nIndulge in an unforgettable experience of live singing and hilarious comedy with our monthly Pink Eggs & Glam Drag Brunch\, presented by Sky Casper Entertainment and The Social Bar + Kitchen. Our event features a lineup of the world’s most talented drag superstars\, promising an entertaining and captivating performance that will leave you mesmerized. Our #PinkEggsAndGlam event is a must-attend for enthusiasts seeking an exhilarating brunch experience with unbeatable live entertainment. Join us for a phenomenal time that is guaranteed to be unforgettable! \nThis month we welcome New York City’s parody queen Pissi Myles! Pissi was born kicking and screaming and hasn’t stopped since. As a comedian\, singer\, and humorist\, Pissi has been noted as one of the most talented queens in the Northeast by fans\, critics\, and peers. She has worked with brands like Taco Bell\, Miller Lite\, and Grindr and performed with musical acts like Kim Petras and Danity Kane. She’s also been featured in Vogue\, Cosmopolitan Magazine\, RuPaul’s What’s the T Podcast\, and more! Pissi is VERY unfiltered! \nSeating Times: 11 AM & 2 PM\, Showtimes: 12 PM & 3 PM \nTICKETS: $20 in advance\, $25 at the door. \nFood and beverages are sold separately at the venue. \nPink Eggs & Glam Drag Brunch T-Shirts are available at the event – sharpies are also available so you can collect your favorite drag performers’ autographs on your merchandise! \nWe’ve got so much coming up! Check out our lineup\, and make sure to sign up for event updates at SkyCasper.com/events
URL:https://skycasper.com/event/pink-eggs-glam-drag-brunch-w-drag-superstar-pissi-myles-new-london-ct/
LOCATION:The Social Bar + Kitchen\, 208 Bank Street\, New London\, CT\, 06320\, United States
ATTACH;FMTTYPE=image/jpeg:https://skycasper.com/wp-content/uploads/2024/01/4c7d96b6b0cafd517de3ae7348cdbbb3-Yt89Lp.tmp_.jpg
END:VEVENT
END:VCALENDAR