BEGIN:VCALENDAR
VERSION:2.0
PRODID:-//Sky Casper Entertainment - ECPv6.15.20//NONSGML v1.0//EN
CALSCALE:GREGORIAN
METHOD:PUBLISH
X-WR-CALNAME:Sky Casper Entertainment
X-ORIGINAL-URL:https://skycasper.com
X-WR-CALDESC:Events for Sky Casper Entertainment
REFRESH-INTERVAL;VALUE=DURATION:PT1H
X-Robots-Tag:noindex
X-PUBLISHED-TTL:PT1H
BEGIN:VTIMEZONE
TZID:America/New_York
BEGIN:DAYLIGHT
TZOFFSETFROM:-0500
TZOFFSETTO:-0400
TZNAME:EDT
DTSTART:20230312T070000
END:DAYLIGHT
BEGIN:STANDARD
TZOFFSETFROM:-0400
TZOFFSETTO:-0500
TZNAME:EST
DTSTART:20231105T060000
END:STANDARD
BEGIN:DAYLIGHT
TZOFFSETFROM:-0500
TZOFFSETTO:-0400
TZNAME:EDT
DTSTART:20240310T070000
END:DAYLIGHT
BEGIN:STANDARD
TZOFFSETFROM:-0400
TZOFFSETTO:-0500
TZNAME:EST
DTSTART:20241103T060000
END:STANDARD
BEGIN:DAYLIGHT
TZOFFSETFROM:-0500
TZOFFSETTO:-0400
TZNAME:EDT
DTSTART:20250309T070000
END:DAYLIGHT
BEGIN:STANDARD
TZOFFSETFROM:-0400
TZOFFSETTO:-0500
TZNAME:EST
DTSTART:20251102T060000
END:STANDARD
END:VTIMEZONE
BEGIN:VEVENT
DTSTART;TZID=America/New_York:20240210T150000
DTEND;TZID=America/New_York:20240210T200000
DTSTAMP:20260422T082633
CREATED:20240112T173750Z
LAST-MODIFIED:20240209T232213Z
UID:10000205-1707577200-1707595200@skycasper.com
SUMMARY:Bottomless Heartbreaks Drag Brunch at The Place 2 Be (New Haven\, CT)
DESCRIPTION:Sky Casper’s Drag Brunch is making an epic return to The Place 2 Be – catch us this month at the New Haven location!\n\n\nSky Casper Entertainment x The Place 2 Be: The ultimate Valentine’s Day weekend drag brunch party! \n*Brunch\, lunch\, and dinner options will be available \nBring a physical pic of your ex for 1/2 OFF BOTTOMLESS DRINKS (Mimosas\, Bellinis\, or Sangrias) – we’ll fill the other half of that broken heart! \n*Doors at 3\, show at 4 // Doors at 6\, show at 7 – you can get tickets below. Tickets sell out fast! \nATTENTION: If you need to add or combine tables\, be sure to get in touch with sky@skycasper.com BEFORE purchasing your tables\, we don’t expect tables to be available for very long\, many tables can not be combined\, and we would like to accommodate you. \nWe’ve got so much coming up! Check out our lineup\, and make sure to sign up for event updates at SkyCasper.com/events
URL:https://skycasper.com/event/bottomless-heartbreaks-drag-brunch-at-the-place-2-be-new-haven-ct/
LOCATION:The Place 2 Be\, 338 Elm Street\, New Haven\, CT\, 06511\, United States
CATEGORIES:Drag Brunches
ATTACH;FMTTYPE=image/jpeg:https://skycasper.com/wp-content/uploads/2024/01/916d962a955ed7d4e24b4a997a2d5629-ByHXwa.tmp_.jpg
END:VEVENT
BEGIN:VEVENT
DTSTART;TZID=America/New_York:20240225T110000
DTEND;TZID=America/New_York:20240225T161500
DTSTAMP:20260422T082633
CREATED:20240122T154918Z
LAST-MODIFIED:20240225T040725Z
UID:10000206-1708858800-1708877700@skycasper.com
SUMMARY:Pink Eggs & Glam Drag Brunch w/ NYC & Ptown's Paige Turner (New London\, CT)
DESCRIPTION:Join us for Connecticut’s longest-running big-city drag brunch experience – live vocals\, comedy\, chaos\, and more!\n\n\nIndulge in an unforgettable experience of live singing and hilarious comedy with our monthly Pink Eggs & Glam Drag Brunch\, presented by Sky Casper Entertainment and The Social Bar + Kitchen. Our event features a lineup of the world’s most talented drag superstars\, promising an entertaining and captivating performance that will leave you mesmerized. Our #PinkEggsAndGlam event is a must-attend for enthusiasts seeking an exhilarating brunch experience with unbeatable live entertainment. Join us for a phenomenal time that is guaranteed to be unforgettable! \nIntroducing this month’s performer\, the one and only SHOWBIZ SPITFIRE\, Paige Turner! Hailing from the vibrant scenes of New York City and Provincetown\, Paige brings an unparalleled blend of camp\, craziness\, and wit to the stage. Get ready for a chaotic time! \nSeating Times: 11 AM & 2 PM\, Showtimes: 12 PM & 3 PM \nTICKETS: $20 in advance\, $25 at the door. \nFood and beverages are sold separately at the venue. \nPink Eggs & Glam Drag Brunch T-Shirts are available at the event – sharpies are also available so you can collect your favorite drag performers’ autographs on your merchandise! \nWe’ve got so much coming up! Check out our lineup\, and make sure to sign up for event updates at SkyCasper.com/events
URL:https://skycasper.com/event/pink-eggs-glam-drag-brunch-w-nyc-ptowns-paige-turner-new-london-ct/
LOCATION:The Social Bar + Kitchen\, 208 Bank Street\, New London\, CT\, 06320\, United States
ATTACH;FMTTYPE=image/jpeg:https://skycasper.com/wp-content/uploads/2024/01/110937bb30a9792be98c7386b7b868ac-ZTZmej.tmp_.jpg
END:VEVENT
END:VCALENDAR