BEGIN:VCALENDAR
VERSION:2.0
PRODID:-//Sky Casper Entertainment - ECPv6.15.20//NONSGML v1.0//EN
CALSCALE:GREGORIAN
METHOD:PUBLISH
X-ORIGINAL-URL:https://skycasper.com
X-WR-CALDESC:Events for Sky Casper Entertainment
REFRESH-INTERVAL;VALUE=DURATION:PT1H
X-Robots-Tag:noindex
X-PUBLISHED-TTL:PT1H
BEGIN:VTIMEZONE
TZID:America/New_York
BEGIN:DAYLIGHT
TZOFFSETFROM:-0500
TZOFFSETTO:-0400
TZNAME:EDT
DTSTART:20230312T070000
END:DAYLIGHT
BEGIN:STANDARD
TZOFFSETFROM:-0400
TZOFFSETTO:-0500
TZNAME:EST
DTSTART:20231105T060000
END:STANDARD
BEGIN:DAYLIGHT
TZOFFSETFROM:-0500
TZOFFSETTO:-0400
TZNAME:EDT
DTSTART:20240310T070000
END:DAYLIGHT
BEGIN:STANDARD
TZOFFSETFROM:-0400
TZOFFSETTO:-0500
TZNAME:EST
DTSTART:20241103T060000
END:STANDARD
BEGIN:DAYLIGHT
TZOFFSETFROM:-0500
TZOFFSETTO:-0400
TZNAME:EDT
DTSTART:20250309T070000
END:DAYLIGHT
BEGIN:STANDARD
TZOFFSETFROM:-0400
TZOFFSETTO:-0500
TZNAME:EST
DTSTART:20251102T060000
END:STANDARD
END:VTIMEZONE
BEGIN:VEVENT
DTSTART;TZID=America/New_York:20240504T150000
DTEND;TZID=America/New_York:20240504T203000
DTSTAMP:20260422T033403
CREATED:20240221T205119Z
LAST-MODIFIED:20240323T200546Z
UID:10000211-1714834800-1714854600@skycasper.com
SUMMARY:Met Gala Gone Wild Drag Brunch @ The Place 2 Be (New Haven\, CT)
DESCRIPTION:Sky Casper Entertainment x The Place 2 Be \nConnecticut’s ultimate party drag brunch returns to The Place 2 Be in New Haven\, CT! Indulge in an epic show with six FABULOUS divas guaranteed to make your jaw drop. \n*Brunch\, lunch\, and dinner options will be available \nBring a physical pic of your ex for 1/2 OFF BOTTOMLESS DRINKS (Mimosas\, Bellinis\, or Sangrias) – we’ll fill the other half of that broken heart! \n*Doors at 3\, show at 4 // Doors at 6\, show at 7 – you can get tickets below. Tickets sell out fast! \nATTENTION: If you need to add or combine tables\, be sure to get in touch with sky@skycasper.com BEFORE purchasing your tables\, we don’t expect tables to be available for very long\, many tables can not be combined\, and we would like to accommodate you. \nWe’ve got so much coming up! Check out our lineup\, and make sure to sign up for event updates at SkyCasper.com/events
URL:https://skycasper.com/event/met-gala-gone-wild-drag-brunch-the-place-2-be-new-haven-ct/
LOCATION:The Place 2 Be New Haven\, 338 Elm Street\, New Haven\, CT\, 06511\, United States
CATEGORIES:Drag Brunches
ATTACH;FMTTYPE=image/jpeg:https://skycasper.com/wp-content/uploads/2024/02/96d91f01f877d03e3fa0d08ae7459fe2-6wOZ2K.tmp_.jpg
END:VEVENT
BEGIN:VEVENT
DTSTART;TZID=America/New_York:20240519T110000
DTEND;TZID=America/New_York:20240519T163000
DTSTAMP:20260422T033403
CREATED:20240424T205620Z
LAST-MODIFIED:20240517T212359Z
UID:10000215-1716116400-1716136200@skycasper.com
SUMMARY:Pink Eggs & Glam Drag Brunch w/ Evita Loca (New London\, CT)
DESCRIPTION:Join us for Connecticut’s longest-running big-city drag brunch experience – live vocals\, comedy\, chaos\, and more!\n\n\nIndulge in an unforgettable experience of live singing and hilarious comedy with our monthly Pink Eggs & Glam Drag Brunch\, presented by Sky Casper Entertainment and The Social Bar + Kitchen. Our event features a lineup of the world’s most talented drag superstars\, promising an entertaining and captivating performance that will leave you mesmerized. Our #PinkEggsAndGlam event is a must-attend for enthusiasts seeking an exhilarating brunch experience with unbeatable live entertainment. Join us for a phenomenal time that is guaranteed to be unforgettable! \nHailing from the dazzling streets of New York City\, Evita Loca is more than just a drag performer – she’s a Broadway sensation! 🎭 With a voice that could charm the stars and a wit sharper than the city skyline\, Evita has graced stages around the world\, captivating audiences with her unparalleled talent and magnetic presence. Evita is best known for her show-stopping performances and electrifying live vocals\, Evita has wowed audiences in roles like Frankie Valli in “Jersey Boys” on Broadway\, proving that she’s not just a queen\, but a bona fide star! \nSeating Times: 11 AM & 2 PM\, Showtimes: 12 & 3 PM \nTICKETS: $20 in advance\, $25 at the door. AGES 14+ PLEASE 🙂 \nFood and beverages are sold separately at the venue. \nPink Eggs & Glam Drag Brunch T-Shirts are available at the event – sharpies are also available so you can collect your favorite drag performers’ autographs on your merchandise! \nWe’ve got so much coming up! Check out our lineup\, and make sure to sign up for event updates at SkyCasper.com/events
URL:https://skycasper.com/event/pink-eggs-glam-drag-brunch-w-broadway-star-evita-loca-new-london-ct/
LOCATION:The Social Bar + Kitchen\, 208 Bank Street\, New London\, CT\, 06320\, United States
CATEGORIES:Drag Brunches
ATTACH;FMTTYPE=image/jpeg:https://skycasper.com/wp-content/uploads/2024/04/a3fc2e525127296bec91b383af9fe9ba-cJ20Hr.tmp_.jpg
END:VEVENT
BEGIN:VEVENT
DTSTART;TZID=America/New_York:20240525T160000
DTEND;TZID=America/New_York:20240525T200000
DTSTAMP:20260422T033403
CREATED:20240509T011617Z
LAST-MODIFIED:20240509T011617Z
UID:10000217-1716652800-1716667200@skycasper.com
SUMMARY:Throwback Queer Tea Dance (West Hartford\, CT)
DESCRIPTION:Join Sky Casper for an unforgettable Throwback Queer Tea Dance! Dancing\, mingling\, looks\, club vibez\, and a full bar.\n\n\nGet ready for the ultimate Throwback Queer Tea Dance hosted by Sky Casper! Our past tea dance parties have been amazing\, and we’re taking it up a notch with this one. Come prepared to dance\, mingle\, and show off your best looks – we’ve got club vibes\, adorable faces\, and a fully stocked bar waiting for you. \nWe’ve got DJ Edgewood on the beats – you can expect dance hits by the likes of Britney\, Christina\, Ciara\, Destiny’s Child\, Eve\, Janet\, JLo\, Mariah\, Missy\, Spice Girls\, TLC\, Whitney\, and more! \nDon’t miss out on our happy hour specials from 4-5 pm – arrive early to make the most of it! The dance floor will be open until 8 pm sharp. \nDoors: 4 PM \nTickets: $15 ($10 with discount code – message @skycasperofficial on IG if you need one). Admission at the door is $15\, payable in cash only – please note we cannot accept credit cards at the door. \nLocation: New Park Brewing 485 New Park Ave\, West Hartford\, CT 06110 \nIf you can’t join us this time\, be sure to sign up for our queer event updates at www.skycasper.com/vip/ \nSee you on the dance floor!
URL:https://skycasper.com/event/throwback-queer-tea-dance-west-hartford-ct-5/
LOCATION:New Park Brewing\, 485 New Park Ave\, West Hartford\, CT\, 06110\, United States
ATTACH;FMTTYPE=image/jpeg:https://skycasper.com/wp-content/uploads/2024/05/534b571bb72cb6e5b56cc372f365681f-pjMrcm.tmp_.jpg
END:VEVENT
END:VCALENDAR