BEGIN:VCALENDAR
VERSION:2.0
PRODID:-//Sky Casper Entertainment - ECPv6.15.20//NONSGML v1.0//EN
CALSCALE:GREGORIAN
METHOD:PUBLISH
X-ORIGINAL-URL:https://skycasper.com
X-WR-CALDESC:Events for Sky Casper Entertainment
REFRESH-INTERVAL;VALUE=DURATION:PT1H
X-Robots-Tag:noindex
X-PUBLISHED-TTL:PT1H
BEGIN:VTIMEZONE
TZID:America/New_York
BEGIN:DAYLIGHT
TZOFFSETFROM:-0500
TZOFFSETTO:-0400
TZNAME:EDT
DTSTART:20230312T070000
END:DAYLIGHT
BEGIN:STANDARD
TZOFFSETFROM:-0400
TZOFFSETTO:-0500
TZNAME:EST
DTSTART:20231105T060000
END:STANDARD
BEGIN:DAYLIGHT
TZOFFSETFROM:-0500
TZOFFSETTO:-0400
TZNAME:EDT
DTSTART:20240310T070000
END:DAYLIGHT
BEGIN:STANDARD
TZOFFSETFROM:-0400
TZOFFSETTO:-0500
TZNAME:EST
DTSTART:20241103T060000
END:STANDARD
BEGIN:DAYLIGHT
TZOFFSETFROM:-0500
TZOFFSETTO:-0400
TZNAME:EDT
DTSTART:20250309T070000
END:DAYLIGHT
BEGIN:STANDARD
TZOFFSETFROM:-0400
TZOFFSETTO:-0500
TZNAME:EST
DTSTART:20251102T060000
END:STANDARD
END:VTIMEZONE
BEGIN:VEVENT
DTSTART;TZID=America/New_York:20240721T110000
DTEND;TZID=America/New_York:20240721T163000
DTSTAMP:20260422T002508
CREATED:20240628T195033Z
LAST-MODIFIED:20240628T195033Z
UID:10000220-1721559600-1721579400@skycasper.com
SUMMARY:Pink Eggs & Glam Drag Brunch w/ Jackie Cox (New London\, CT)
DESCRIPTION:Join us for Connecticut’s longest-running big-city drag brunch experience – live vocals\, comedy\, chaos\, and more!\n\n\nIndulge in an unforgettable experience of live singing and hilarious comedy with our monthly Pink Eggs & Glam Drag Brunch\, presented by Sky Casper Entertainment and The Social Bar + Kitchen. Our event features a lineup of the world’s most talented drag superstars\, promising an entertaining and captivating performance that will leave you mesmerized. Our #PinkEggsAndGlam event is a must-attend for enthusiasts seeking an exhilarating brunch experience with unbeatable live entertainment. Join us for a phenomenal time that is guaranteed to be unforgettable! \nThis month\, we have drag cabaret star from RuPaul’s Drag Race\, Jackie Cox!  \nSeating Times: 11 AM & 2 PM\, Showtimes: 12 & 3 PM \nTICKETS: $30 in advance\, $35 at the door. AGES 14+ PLEASE 🙂 \nFood and beverages are sold separately at the venue. \nPink Eggs & Glam Drag Brunch T-Shirts are available at the event – sharpies are also available so you can collect your favorite drag performers’ autographs on your merchandise! \nWe’ve got so much coming up! Check out our lineup\, and make sure to sign up for event updates at SkyCasper.com/events
URL:https://skycasper.com/event/pink-eggs-glam-drag-brunch-w-jackie-cox-new-london-ct/
LOCATION:The Social Bar + Kitchen\, 208 Bank Street\, New London\, CT\, 06320\, United States
ATTACH;FMTTYPE=image/jpeg:https://skycasper.com/wp-content/uploads/2024/06/3a3fe1b83c6ca7019190e98b61229da7-QTBnJw.tmp_.jpg
END:VEVENT
BEGIN:VEVENT
DTSTART;TZID=America/New_York:20240721T200000
DTEND;TZID=America/New_York:20240722T010000
DTSTAMP:20260422T002508
CREATED:20240702T172350Z
LAST-MODIFIED:20240704T030310Z
UID:10000221-1721592000-1721610000@skycasper.com
SUMMARY:GAME OVAH!! Queer Night @ Spare Time
DESCRIPTION:Get OVAH yourself with Sky Casper Entertainment and Spare Time’s queer-only (Sorry\, allies!) night of games\, shows\, and beats! Will you bowl a strike or spend the evening in the gutter with the unlimited bowling? Will someone tag that ass with unlimited laser tag? Of course\, we’ll keep things fierce and fab with beats and an amazing drag show. Spare Time also has a full gaming arcade\, so it’s gonna be on like Donkey Kong up in this b*tch. Drinks and food will be available for purchase. \nTickets are more limited than Sky’s bowling ability\, so don’t wait! $25 in advance/$30 cash at the door. This event is for 18+ and it will be from 8 pm – 1 am\, activities and mingling begins at 8 pm\, drag show at 9 pm – there will be no entry/reentry after 12:30 am. Inviting those in the LGBTQ+ community is welcome 🙂 \nThank you to our proud sponsor Circle Care Center for supporting our event creation and community. \n\n\nCan’t make it? Make sure to sign up for queer event updates at www.skycasper.com/vip/
URL:https://skycasper.com/event/game-ovah-9/
LOCATION:Spare Time Windsor Locks\, 129 Ella Grasso Turnpike\, Windsor Locks\, CT\, 06096\, United States
CATEGORIES:Game Ovah!!,Queer Events
ATTACH;FMTTYPE=image/jpeg:https://skycasper.com/wp-content/uploads/2023/12/977751a6a5e905bf9f74f5ef5bac0a90-Ff5VC7.tmp_.jpg
END:VEVENT
END:VCALENDAR