BEGIN:VCALENDAR
VERSION:2.0
PRODID:-//Sky Casper Entertainment - ECPv6.15.20//NONSGML v1.0//EN
CALSCALE:GREGORIAN
METHOD:PUBLISH
X-ORIGINAL-URL:https://skycasper.com
X-WR-CALDESC:Events for Sky Casper Entertainment
REFRESH-INTERVAL;VALUE=DURATION:PT1H
X-Robots-Tag:noindex
X-PUBLISHED-TTL:PT1H
BEGIN:VTIMEZONE
TZID:America/New_York
BEGIN:DAYLIGHT
TZOFFSETFROM:-0500
TZOFFSETTO:-0400
TZNAME:EDT
DTSTART:20230312T070000
END:DAYLIGHT
BEGIN:STANDARD
TZOFFSETFROM:-0400
TZOFFSETTO:-0500
TZNAME:EST
DTSTART:20231105T060000
END:STANDARD
BEGIN:DAYLIGHT
TZOFFSETFROM:-0500
TZOFFSETTO:-0400
TZNAME:EDT
DTSTART:20240310T070000
END:DAYLIGHT
BEGIN:STANDARD
TZOFFSETFROM:-0400
TZOFFSETTO:-0500
TZNAME:EST
DTSTART:20241103T060000
END:STANDARD
BEGIN:DAYLIGHT
TZOFFSETFROM:-0500
TZOFFSETTO:-0400
TZNAME:EDT
DTSTART:20250309T070000
END:DAYLIGHT
BEGIN:STANDARD
TZOFFSETFROM:-0400
TZOFFSETTO:-0500
TZNAME:EST
DTSTART:20251102T060000
END:STANDARD
END:VTIMEZONE
BEGIN:VEVENT
DTSTART;TZID=America/New_York:20241006T150000
DTEND;TZID=America/New_York:20241006T210000
DTSTAMP:20260421T193344
CREATED:20240919T151054Z
LAST-MODIFIED:20240919T151054Z
UID:10000226-1728226800-1728248400@skycasper.com
SUMMARY:Sky Casper's Boo Bash! LGBTQ+ Halloween Dance Party (New Haven\, CT)
DESCRIPTION:After the success of our New Haven Pride Big Queer Day Party\, we’re excited to bring that big city energy to our very first Boo Bash!\n\n\n👻 Sky Casper Entertainment Presents: Sky Casper’s Boo Bash! 👻 \nGet ready to kick off a thrilling new tradition with Connecticut’s most anticipated LGBTQ+/Queer Halloween event! Following the incredible success of our New Haven Pride Big Queer Day Dance\, we’re excited to bring that big city energy to our very first Boo Bash! \n🎟️ Tickets: Early bird tickets are just $10 until October 1st—grab them before they go up to $15 at the door! Get yours at: SkyCasper.com/events \n✨ Event Highlights: 2 rooms\, lots of different vibes\, 2 big bars\, a public outdoor patio\, and happy hour drink specials from 3-4PM \nJoin us in creating an inclusive space where everyone feels welcome! We’re dedicated to fostering a diverse and ever-changing environment\, from vibrant dance floors to unique community gatherings. Experience a night filled with love\, acceptance\, and unforgettable moments! \n📣 Huge Shoutout to Our Proud Sponsors: The Health Collective and Milner Pest Control \n \n⏰ 3-4 PM: \nRoom 1: Haunted Harmonies \nA spooky singers’ showcase featuring Jon Whitford and more! After the success of our first showcase in New Haven\, we’re thrilled to present this special Halloween edition. \nRoom 2: Sapphic Soirée \nJoin us for a queer women’s safe space and pre-game happy hour\, hosted by Lesbians of Connecticut Happy Hour group\, now with 1\,300 members! \n \n⏰ 4-6 PM: \nRoom 1: The Function \nGet ready for a 2X $100 Grand Prize Mini Ball hosted by Xiomarie LaBeija\, with DJ EZ Banks spinning Hip Hop\, Vogue\, Pop\, and R&B beats. \nRoom 2: Ghoulish Disco \nDance to a wicked Disco & House music blend with rising star DJ Eric Otero. \n \n⏰ 6-7 PM: \nVixens of the Night \nEnjoy a spectacular drag show featuring local drag vixens\, including Angelina Fierce\, Angel Rivers\, Destiny Nations\, Kiki Lucia\, Lady Tatiana\, Midnight\, Natalia Fierce\, Tiana Maxim\, and Xiomarie LeBeija. Don’t miss the iconic Tiana Maxim returning from New York to host this fabulous event! \nCostume Contest \nEnter for a chance to win cash prizes—$250 for the sexiest costume and $500 for the overall best costume. Get creative; it’s going to be a hot competition! \n \n⏰ 7-9 PM: \nRoom 1: Time Machine \nDJ Edgewood will take you on a nostalgic journey with an epic throwback dance party featuring hits from Beyoncé\, Britney\, Christina\, Gaga\, Mariah\, and more! \nRoom 2: Baile de Fantasmas 👻 \nJoin us for a ghoulish edition of our epic Latin party\, hosted by the legendary Destiny Nations and Lady Tatiana\, with DJ Sangria keeping the dance floor alive! \n \nSponsor Information: \n✨ The Health Collective: hglhc.org – \nThe mission of The Health Collective is to promote healthy living\, provide high-quality\, compassionate care\, and advocate for systemic solutions to the healthcare access barriers and health disparities faced by sexual and gender minority groups. We are committed to being a beacon of hope and healing for the LGBTQIA+ community in Connecticut. \n✨ Milner Pest Control: milnerpestcontrol.com | (860) 673-1224 🪳 \n \n💎 Want to stay updated on future events? Sign up at SkyCasper.com/events \n📍 Location: 144 Temple Street\, 144 Temple Street\, New Haven\, CT \nAges 21+ // Full Bar Available \nJoin us for a night of thrills\, chills\, and unforgettable fun at Sky Casper’s Boo Bash! It’s going to be an incredible night as we create a wonderful new tradition that no one will want to miss!
URL:https://skycasper.com/event/sky-caspers-boo-bash-lgbtq-halloween-dance-party-new-haven-ct/
LOCATION:144 Temple Street\, 144 Temple Street\, New Haven\, CT\, 06510\, United States
ATTACH;FMTTYPE=image/jpeg:https://skycasper.com/wp-content/uploads/2024/09/d8cd63db4d66f9b3d542f44e1db5c6f3-yeyIVw.tmp_.jpg
END:VEVENT
BEGIN:VEVENT
DTSTART;TZID=America/New_York:20241011T190000
DTEND;TZID=America/New_York:20241012T000000
DTSTAMP:20260421T193344
CREATED:20240919T151056Z
LAST-MODIFIED:20241011T134122Z
UID:10000227-1728673200-1728691200@skycasper.com
SUMMARY:Sky Casper's Boo Bash! LGBTQ+ Halloween Dance Party (Bridgeport\, CT)
DESCRIPTION:Bridgeport is begging for something big and queer and we’re excited to bring our big-city energy to Bridgeport’s very first Boo Bash!\n\n\n👻 Sky Casper Entertainment Presents: Sky Casper’s Boo Bash! 👻 \nGet ready to kick off a thrilling new tradition with Connecticut’s most anticipated LGBTQ+/Queer Halloween event! Following the incredible success of our West Hartford Pride & New Haven Pride events\, we’re excited to bring that big-city energy to our very first Boo Bash series at a new venue in Bridgeport! We’re turning this brewery into a nightclub! \n🎟️ Tickets: Early bird tickets are just $10 until October 6th—grab them before they go up to $15 at the door! Get yours at: SkyCasper.com/events \n✨ Event Highlights: 2 rooms\, lots of different vibes\, and happy hour drink specials from 7-8PM \nJoin us in creating an inclusive space where everyone feels welcome! We’re dedicated to fostering a diverse and ever-changing environment\, from vibrant dance floors to unique community gatherings. Experience a night filled with love\, acceptance\, and unforgettable moments! \n📣 Huge Shoutout to Our Proud Sponsors: The Health Collective and Milner Pest Control \n  \n⏰ 7-9 PM: \nRoom 1: The Function \nGet ready for a 2X $100 Grand Prize Mini Ball hosted by Xiomarie LaBeija\, with DJ EZ Banks spinning Hip Hop\, Vogue\, Pop\, and R&B beats. \nRoom 2: Ghoulish Disco \nDance to a wicked Disco & House music blend with rising star DJ Eric Otero. \n  \n⏰ 9-10 PM: \nVixens of the Night \nEnjoy a spectacular drag show featuring local drag vixens\, including Angelina Fierce\, Destiny Nations\, Haus of Holbein\, Kiki Lucia\, Lady Tatiana\, Midnight\, and Xiomarie LeBeija. \nCostume Contest \nEnter for a chance to win cash prizes—$250 for the sexiest costume and $500 for the overall best costume. Get creative; it’s going to be a hot competition! \n  \n⏰ 10-12 PM: \nRoom 1: Time Machine \nDJ Baby Frost will take you on a nostalgic journey with an epic throwback dance party featuring hits from Beyoncé\, Britney\, Christina\, Gaga\, Mariah\, and more! \nRoom 2: Baile de Fantasmas 👻 \nJoin us for a ghoulish edition of our epic Latin party\, hosted by the legendary Destiny Nations and Lady Tatiana\, with DJ Sangria keeping the dance floor alive! \n  \nSponsor Information: \n✨ The Health Collective: hglhc.org – \nThe mission of The Health Collective is to promote healthy living\, provide high-quality\, compassionate care\, and advocate for systemic solutions to the healthcare access barriers and health disparities faced by sexual and gender minority groups. We are committed to being a beacon of hope and healing for the LGBTQIA+ community in Connecticut. \n✨ Milner Pest Control: milnerpestcontrol.com | (860) 673-1224 🪳 \n  \n💎 Want to stay updated on future events? Sign up at SkyCasper.com/events \n📍 Location: Foolproof Brewing 785 Union Ave\, Bridgeport\, CT \nAges 21+ // Full Bar Available \nJoin us for a night of thrills\, chills\, and unforgettable fun at Sky Casper’s Boo Bash! It will be an incredible night as we create a wonderful new tradition that no one will want to miss!
URL:https://skycasper.com/event/sky-caspers-boo-bash-lgbtq-halloween-dance-party-bridgeport-ct/
LOCATION:Foolproof Brewing Company Bridgeport\, 785 Union Ave\, Bridgeport\, 06607\, United States
ATTACH;FMTTYPE=image/jpeg:https://skycasper.com/wp-content/uploads/2024/09/599c63bd0b9b2eef96c27b7eb533ac7e-fpdkdu.tmp_.jpg
END:VEVENT
BEGIN:VEVENT
DTSTART;TZID=America/New_York:20241019T190000
DTEND;TZID=America/New_York:20241020T010000
DTSTAMP:20260421T193344
CREATED:20240919T151058Z
LAST-MODIFIED:20241011T141100Z
UID:10000228-1729364400-1729386000@skycasper.com
SUMMARY:Sky Casper's Boo Bash! LGBTQ+ Halloween Dance Party (West Hartford\, CT)
DESCRIPTION:👻 Sky Casper Entertainment Presents: Sky Casper’s Boo Bash! 👻 \nGet ready to kick off a thrilling new tradition with Connecticut’s most anticipated LGBTQ+/Queer Halloween event! After our wildly successful West Hartford Pride Official After party with 600 people\, we’re excited to bring that big-city energy to our very first Boo Bash! We’re taking over New Park Brewing and turning it \n🎟️ Tickets: Early bird tickets are just $10 until October 15th—grab them before they go up to $15 at the door! Get yours at: SkyCasper.com/events \n✨ Event Highlights: 2 rooms\, lots of different vibes\, 2 big bars\, a public outdoor patio\, and happy hour drink specials from 7-8PM \nJoin us in creating an inclusive space where everyone feels welcome! We’re dedicated to fostering a diverse and ever-changing environment\, from vibrant dance floors to unique community gatherings. Experience a night filled with love\, acceptance\, and unforgettable moments! \n📣 Huge Shoutout to Our Proud Sponsors: The Health Collective and Milner Pest Control \n  \n⏰ 7-8 PM: \nRoom 1: Haunted Harmonies \nA spooky singers’ showcase featuring Jon Whitford and more! After the success of our first showcase in New Haven\, we’re thrilled to present this special Halloween edition. \nRoom 2: Sapphic Soirée \nJoin us for a queer women’s safe space and pre-game happy hour\, hosted by the Lesbians of Connecticut Happy Hour group\, now with 1\,300 members! \n  \n⏰ 8-10 PM: \nRoom 1: The Function \nGet ready for a 2X $100 Grand Prize Mini Ball hosted by Xiomarie LaBeija\, with DJ EZ Banks spinning Hip Hop\, Vogue\, Pop\, and R&B beats. \nRoom 2: Ghoulish Disco \nDance to a wicked Disco & House music blend with rising star DJ 7TROUBL3. \n  \n⏰ 10-11 PM: \nVixens of the Night \nEnjoy a spectacular drag show featuring local drag vixens\, including Angel Rivers\, Destiny Nations\, Lady Tatiana\, Midnight\, Natalia Fierce\, and Xiomarie LeBeija. \nCostume Contest \nEnter for a chance to win cash prizes—$250 for the sexiest costume and $500 for the overall best costume. Get creative; it’s going to be a hot competition! \n  \n⏰ 11-1 AM: \nRoom 1: Time Machine \nDJ Edgewood will take you on a nostalgic journey with an epic throwback dance party featuring hits from Beyoncé\, Britney\, Christina\, Gaga\, Mariah\, and more! \nRoom 2: Baile de Fantasmas 👻 \nJoin us for a ghoulish edition of our epic Latin party\, hosted by the legendary Destiny Nations and Lady Tatiana\, with DJ Sangria keeping the dance floor alive! \n  \nSponsor Information: \n✨ The Health Collective: hglhc.org – \nThe mission of The Health Collective is to promote healthy living\, provide high-quality\, compassionate care\, and advocate for systemic solutions to the healthcare access barriers and health disparities faced by sexual and gender minority groups. We are committed to being a beacon of hope and healing for the LGBTQIA+ community in Connecticut. \n✨ Milner Pest Control: milnerpestcontrol.com | (860) 673-1224 🪳 \n  \n💎 Want to stay updated on future events? Sign up at SkyCasper.com/events \n📍 Location: New Park Brewing 485 New Park Ave\, West Hartford\, CT \nAges 21+ // Full Bar Available \nJoin us for a night of thrills\, chills\, and unforgettable fun at Sky Casper’s Boo Bash! It will be an incredible night as we create a wonderful new tradition that no one will want to miss!
URL:https://skycasper.com/event/sky-caspers-boo-bash-lgbtq-halloween-dance-party-west-hartford-ct/
LOCATION:New Park Brewing\, 485 New Park Ave\, West Hartford\, CT\, 06110\, United States
ATTACH;FMTTYPE=image/jpeg:https://skycasper.com/wp-content/uploads/2024/09/f218e3dcf2cc842c2d00fecd7d7779e7-OxKp1V.tmp_.jpg
END:VEVENT
BEGIN:VEVENT
DTSTART;TZID=America/New_York:20241027T110000
DTEND;TZID=America/New_York:20241027T163000
DTSTAMP:20260421T193344
CREATED:20241024T000336Z
LAST-MODIFIED:20241024T001338Z
UID:10000229-1730026800-1730046600@skycasper.com
SUMMARY:Pink Eggs & Glam Halloween Drag Brunch w/ Patty Bourrée (New London\, CT)
DESCRIPTION:Join Us for a Spooktacular Pink Eggs & Glam Drag Brunch! \nIndulge in an unforgettable experience filled with live singing and side-splitting comedy at our monthly Pink Eggs & Glam Drag Brunch\, presented by Sky Casper Entertainment and The Social Bar + Kitchen. This event showcases a lineup of the world’s most talented drag superstars\, delivering captivating performances that will mesmerize you! \nOur #PinkEggsAndGlam event is a must-attend for anyone seeking an exhilarating brunch experience paired with unbeatable live entertainment. Prepare for a phenomenal time that promises to be unforgettable! \nThis month\, we’re thrilled to feature Patty Bourrée\, a chic chanteuse and witty comedienne known for her powerhouse vocals\, hilarious parodies\, vintage flair\, and bold attitude. With degrees from NYU and Emerson College\, an evening with Patty guarantees a delightful mix of song\, antics\, and surprises. \nSeating Times: 11 AM & 2 PM\nShowtimes: 12 PM & 3 PM \nTICKETS: $20 in advance\, $25 at the door. Ages 14+\, please! https://www.eventbrite.com/e/pink-eggs-glam-halloween-drag-brunch-w-patty-bourree-new-london-ct-tickets-1023955005987?aff=oddtdtcreator\nFood and beverages are sold separately at the venue. \nDon’t forget to grab your Pink Eggs & Glam Drag Brunch T-shirt at the event! We’ll have Sharpies available so you can collect autographs from your favorite drag performers. \nWe have so much more in store! Check out our upcoming lineup and sign up for event updates at www.SkyCasper.com/events. \nJoin us for a fabulous Halloween twist on our beloved brunch—you won’t want to miss it!
URL:https://skycasper.com/event/pink-eggs-glam-halloween-drag-brunch-w-patty-bourree-new-london-ct-2/
LOCATION:The Social Bar + Kitchen\, 208 Bank Street\, New London\, CT\, 06320\, United States
ATTACH;FMTTYPE=image/jpeg:https://skycasper.com/wp-content/uploads/2024/09/b1e58ed9e03ae345c66ac08a282f311e-71REEq.tmp_.jpg
END:VEVENT
END:VCALENDAR