BEGIN:VCALENDAR
VERSION:2.0
PRODID:-//Sky Casper Entertainment - ECPv6.15.20//NONSGML v1.0//EN
CALSCALE:GREGORIAN
METHOD:PUBLISH
X-ORIGINAL-URL:https://skycasper.com
X-WR-CALDESC:Events for Sky Casper Entertainment
REFRESH-INTERVAL;VALUE=DURATION:PT1H
X-Robots-Tag:noindex
X-PUBLISHED-TTL:PT1H
BEGIN:VTIMEZONE
TZID:America/New_York
BEGIN:DAYLIGHT
TZOFFSETFROM:-0500
TZOFFSETTO:-0400
TZNAME:EDT
DTSTART:20240310T070000
END:DAYLIGHT
BEGIN:STANDARD
TZOFFSETFROM:-0400
TZOFFSETTO:-0500
TZNAME:EST
DTSTART:20241103T060000
END:STANDARD
BEGIN:DAYLIGHT
TZOFFSETFROM:-0500
TZOFFSETTO:-0400
TZNAME:EDT
DTSTART:20250309T070000
END:DAYLIGHT
BEGIN:STANDARD
TZOFFSETFROM:-0400
TZOFFSETTO:-0500
TZNAME:EST
DTSTART:20251102T060000
END:STANDARD
BEGIN:DAYLIGHT
TZOFFSETFROM:-0500
TZOFFSETTO:-0400
TZNAME:EDT
DTSTART:20260308T070000
END:DAYLIGHT
BEGIN:STANDARD
TZOFFSETFROM:-0400
TZOFFSETTO:-0500
TZNAME:EST
DTSTART:20261101T060000
END:STANDARD
END:VTIMEZONE
BEGIN:VEVENT
DTSTART;TZID=America/New_York:20250208T190000
DTEND;TZID=America/New_York:20250208T210000
DTSTAMP:20260421T213840
CREATED:20250109T205329Z
LAST-MODIFIED:20250109T205725Z
UID:10000233-1739041200-1739048400@skycasper.com
SUMMARY:Valentine’s Day Drag with Patty Bourrée (Westport\, CT)
DESCRIPTION:Come join us for a fun night of comedy and song at MOCA with Patty Bourree on February 8\, 2025!\n\n\nValentine’s Day Drag with Patty Bourrée at MOCA \nCome celebrate Valentine’s Day with a fabulous drag show featuring the one and only Patty Bourrée! Get ready for a night of glitz\, glamour\, and jaw-dropping performances that will leave you speechless. Whether you’re flying solo or bringing your special someone\, this event is guaranteed to be a night to remember. \nDate: Sat\, Feb 08\, 2025 \nTime: 7:00 PM \nLocation: MoCA Westport \nDon’t miss out on this unforgettable evening filled with laughter\, love\, and lots of sequins. Grab your tickets now and get ready to party the night away with Patty Bourree! \n 
URL:https://skycasper.com/event/valentines-day-drag-with-patty-bourree-at-moca/
LOCATION:MoCA Westport\, 19 Newtown Turnpike\, Westport\, CT\, 06880\, United States
ATTACH;FMTTYPE=image/jpeg:https://skycasper.com/wp-content/uploads/2025/01/62816dcf0af9071c64ff45da6d56ec5f-wYk3w4.tmp_.jpg
END:VEVENT
BEGIN:VEVENT
DTSTART;TZID=America/New_York:20250216T110000
DTEND;TZID=America/New_York:20250216T163000
DTSTAMP:20260421T213840
CREATED:20250109T205144Z
LAST-MODIFIED:20250209T180305Z
UID:10000232-1739703600-1739723400@skycasper.com
SUMMARY:Pink Eggs & Glam Drag Brunch w/ Patty Bourrée (New London\, CT)
DESCRIPTION:Join us for Connecticut’s longest-running big-city drag brunch experience – live vocals\, comedy\, chaos\, and more! \nIndulge in an unforgettable experience of live singing and side-splitting comedy at our monthly Pink Eggs & Glam Drag Brunch\, presented by Sky Casper Entertainment and The Social Bar + Kitchen. This event showcases a lineup of the world’s most talented drag superstars\, delivering captivating performances that will mesmerize you! \nOur #PinkEggsAndGlam event is a must-attend for anyone seeking a fabulous brunch experience paired with unbeatable live entertainment. Prepare for a phenomenal time that promises to be unforgettable! \nThis month\, we’re thrilled to feature Patty Bourrée\, a chic chanteuse and witty comedienne known for her powerhouse vocals\, hilarious parodies\, vintage flair\, and bold attitude. With degrees from NYU and Emerson College\, an evening with Patty guarantees a delightful mix of song\, antics\, and surprises. \nSeating Times: 11 AM & 2 PM Showtimes: 12 PM & 3 PM \nTICKETS: $20 in advance\, $25 at the door. Ages 14+\, please! Food and beverages are sold separately at the venue. \nDon’t forget to grab your Pink Eggs & Glam Drag Brunch T-shirt at the event! We’ll have Sharpies available so you can collect autographs from your favorite drag performers. \nWe have so much more in store! Check out our upcoming lineup and sign up for event updates at SkyCasper.com/events.
URL:https://skycasper.com/event/pink-eggs-glam-drag-brunch-w-patty-bourree-new-london-ct/
LOCATION:The Social Bar + Kitchen\, 208 Bank Street\, New London\, CT\, 06320\, United States
CATEGORIES:Drag Brunches,Pink Eggs & Glam Drag Brunch
ATTACH;FMTTYPE=image/jpeg:https://skycasper.com/wp-content/uploads/2025/02/8505851adc06880ba4540b67bd2a9078-ibHZmB.tmp_.jpg
END:VEVENT
END:VCALENDAR