BEGIN:VCALENDAR
VERSION:2.0
PRODID:-//Sky Casper Entertainment - ECPv6.15.20//NONSGML v1.0//EN
CALSCALE:GREGORIAN
METHOD:PUBLISH
X-WR-CALNAME:Sky Casper Entertainment
X-ORIGINAL-URL:https://skycasper.com
X-WR-CALDESC:Events for Sky Casper Entertainment
REFRESH-INTERVAL;VALUE=DURATION:PT1H
X-Robots-Tag:noindex
X-PUBLISHED-TTL:PT1H
BEGIN:VTIMEZONE
TZID:America/New_York
BEGIN:DAYLIGHT
TZOFFSETFROM:-0500
TZOFFSETTO:-0400
TZNAME:EDT
DTSTART:20240310T070000
END:DAYLIGHT
BEGIN:STANDARD
TZOFFSETFROM:-0400
TZOFFSETTO:-0500
TZNAME:EST
DTSTART:20241103T060000
END:STANDARD
BEGIN:DAYLIGHT
TZOFFSETFROM:-0500
TZOFFSETTO:-0400
TZNAME:EDT
DTSTART:20250309T070000
END:DAYLIGHT
BEGIN:STANDARD
TZOFFSETFROM:-0400
TZOFFSETTO:-0500
TZNAME:EST
DTSTART:20251102T060000
END:STANDARD
BEGIN:DAYLIGHT
TZOFFSETFROM:-0500
TZOFFSETTO:-0400
TZNAME:EDT
DTSTART:20260308T070000
END:DAYLIGHT
BEGIN:STANDARD
TZOFFSETFROM:-0400
TZOFFSETTO:-0500
TZNAME:EST
DTSTART:20261101T060000
END:STANDARD
END:VTIMEZONE
BEGIN:VEVENT
DTSTART;TZID=America/New_York:20250427T110000
DTEND;TZID=America/New_York:20250427T163000
DTSTAMP:20260422T004146
CREATED:20250309T165258Z
LAST-MODIFIED:20250313T180421Z
UID:10000235-1745751600-1745771400@skycasper.com
SUMMARY:Pink Eggs & Glam Drag Brunch 10 Year w/ Loosey LaDuca (New London\, CT)
DESCRIPTION:Join us for Connecticut’s longest-running big-city drag brunch experience – live vocals\, comedy\, chaos\, and more!\n\n\nIndulge in an unforgettable experience of live singing and hilarious comedy with our monthly Pink Eggs & Glam Drag Brunch\, presented by Sky Casper Entertainment and The Social Bar + Kitchen. Our event features a lineup of the world’s most talented drag superstars\, promising an entertaining and captivating performance that will leave you mesmerized. Our #PinkEggsAndGlam event is a must-attend for enthusiasts seeking an exhilarating brunch experience with unbeatable live entertainment. Join us for a phenomenal time that is guaranteed to be unforgettable! \nTo celebrate the 10-year anniversary of Pink Eggs & Glam\, we’re excited to welcome back local icon and RuPaul’s Drag Race star\, Loosey LaDuca! Known for her quick wit and comedic timing\, Loosey made a lasting impression on Season 15 of Drag Race\, winning the iconic Snatch Game with her unforgettable Joan Rivers impersonation. With her sharp humor\, impressive vocal skills\, and electrifying stage presence\, Loosey’s return to the brunch stage is sure to be a showstopper! \nSeating Times: 11 AM & 2 PM\, Showtimes: 12 & 3 PM \nTICKETS: $30 in advance\, $35 at the door. AGES 14+ PLEASE 🙂 \nFood and beverages are sold separately at the venue. \nPink Eggs & Glam Drag Brunch T-Shirts are available at the event – sharpies are also available so you can collect your favorite drag performers’ autographs on your merchandise! \nWe’ve got so much coming up! Check out our lineup\, and make sure to sign up for event updates at SkyCasper.com/events \n#LiveSingingDrag
URL:https://skycasper.com/event/pink-eggs-glam-drag-brunch-w-loosey-laduca-new-london-ct-2/
LOCATION:The Social Bar + Kitchen\, 208 Bank Street\, New London\, CT\, 06320\, United States
ATTACH;FMTTYPE=image/jpeg:https://skycasper.com/wp-content/uploads/2025/03/8c7c306533499c1c5e49301bf7629c3d-WmTtF6.tmp_.jpg
END:VEVENT
END:VCALENDAR